Index of /checkResults/devel/bioc-LATEST/IPO/raw-results/riesling1

[ICO]NameLast modifiedSizeDescription

[DIR]Parent Directory  -  
[TXT]buildbin-out.txt26-Oct-2021 03:06 2.4K 
[   ]buildbin-summary.dcf26-Oct-2021 03:06 510  
[TXT]buildsrc-out.txt26-Oct-2021 03:06 877  
[   ]buildsrc-summary.dcf26-Oct-2021 03:06 438  
[TXT]checksrc-out.txt26-Oct-2021 03:06 4.2K 
[   ]checksrc-summary.dcf26-Oct-2021 03:06 435  
[TXT]install-out.txt26-Oct-2021 03:06 3.0K 
[   ]install-summary.dcf26-Oct-2021 03:06 593