Index of /checkResults/devel/bioc-LATEST/IPO/raw-results/nebbiolo2

[ICO]NameLast modifiedSizeDescription

[DIR]Parent Directory  -  
[TXT]buildsrc-out.txt24-Oct-2021 03:06 851  
[   ]buildsrc-summary.dcf24-Oct-2021 03:06 406  
[TXT]checksrc-out.txt24-Oct-2021 03:06 3.1K 
[   ]checksrc-summary.dcf24-Oct-2021 03:06 408  
[TXT]install-out.txt24-Oct-2021 03:06 935  
[   ]install-summary.dcf24-Oct-2021 03:06 251