Index of /checkResults/devel/bioc-LATEST/IPO/raw-results/merida1

[ICO]NameLast modifiedSizeDescription

[DIR]Parent Directory  -  
[TXT]buildbin-out.txt26-Oct-2021 03:07 1.1K 
[   ]buildbin-summary.dcf26-Oct-2021 03:07 506  
[TXT]buildsrc-out.txt26-Oct-2021 03:07 861  
[   ]buildsrc-summary.dcf26-Oct-2021 03:07 417  
[TXT]checksrc-out.txt26-Oct-2021 03:07 3.2K 
[   ]checksrc-summary.dcf26-Oct-2021 03:07 428  
[TXT]install-out.txt26-Oct-2021 03:07 968  
[   ]install-summary.dcf26-Oct-2021 03:07 261