Back to Multiple platform build/check report for BioC 3.14
ABCDEFGH[I]JKLMNOPQRSTUVWXYZ

This page was generated on 2021-07-30 12:05:32 -0400 (Fri, 30 Jul 2021).

INSTALL results for IPO on merida1

To the developers/maintainers of the IPO package:
- Please allow up to 24 hours (and sometimes 48 hours) for your latest push to git@git.bioconductor.org:packages/IPO.git to
reflect on this report. See How and When does the builder pull? When will my changes propagate? here for more information.
- Make sure to use the following settings in order to reproduce any error or warning you see on this page.

raw results

Package 925/2015HostnameOS / ArchINSTALLBUILDCHECKBUILD BIN
IPO 1.19.0  (landing page)
Thomas Riebenbauer
Snapshot Date: 2021-07-29 14:50:07 -0400 (Thu, 29 Jul 2021)
URL: https://git.bioconductor.org/packages/IPO
Branch: master
Last Commit: dc85633
Last Changed Date: 2021-05-19 12:22:15 -0400 (Wed, 19 May 2021)
nebbiolo2Linux (Ubuntu 20.04.2 LTS) / x86_64  OK    ERROR  skipped
riesling1Windows Server 2019 Standard / x64  OK    OK    WARNINGS    OK  NO, package depends on 'xcms' which is not available
merida1macOS 10.14.6 Mojave / x86_64  OK    ERROR  skippedskipped

Summary

Package: IPO
Version: 1.19.0
Command: /Library/Frameworks/R.framework/Resources/bin/R CMD INSTALL IPO
StartedAt: 2021-07-29 17:04:56 -0400 (Thu, 29 Jul 2021)
EndedAt: 2021-07-29 17:05:42 -0400 (Thu, 29 Jul 2021)
EllapsedTime: 45.9 seconds
RetCode: 0
Status:   OK  

Command output

##############################################################################
##############################################################################
###
### Running command:
###
###   /Library/Frameworks/R.framework/Resources/bin/R CMD INSTALL IPO
###
##############################################################################
##############################################################################


* installing to library ‘/Library/Frameworks/R.framework/Versions/4.1/Resources/library’
* installing *source* package ‘IPO’ ...
** using staged installation
** R
** inst
** byte-compile and prepare package for lazy loading
Warning message:
multiple methods tables found for ‘bin’ 
** help
*** installing help indices
** building package indices
** installing vignettes
** testing if installed package can be loaded from temporary location
Warning: multiple methods tables found for ‘bin’
** testing if installed package can be loaded from final location
Warning: multiple methods tables found for ‘bin’
** testing if installed package keeps a record of temporary installation path
* DONE (IPO)