Back to Multiple platform build/check report for BioC 3.20:   simplified   long
ABCDEFG[H]IJKLMNOPQRSTUVWXYZ

This page was generated on 2024-05-26 11:34:25 -0400 (Sun, 26 May 2024).

HostnameOSArch (*)R versionInstalled pkgs
nebbiolo2Linux (Ubuntu 22.04.3 LTS)x86_644.4.0 RC (2024-04-16 r86468) -- "Puppy Cup" 4665
merida1macOS 12.7.4 Montereyx86_644.4.0 Patched (2024-04-24 r86482) -- "Puppy Cup" 4427
Click on any hostname to see more info about the system (e.g. compilers)      (*) as reported by 'uname -p', except on Windows and Mac OS X

All results for package HTqPCR


To the developers/maintainers of the HTqPCR package:
- Allow up to 24 hours (and sometimes 48 hours) for your latest push to git@git.bioconductor.org:packages/HTqPCR.git to reflect on this report. See Troubleshooting Build Report for more information.
- Use the following Renviron settings to reproduce errors and warnings.
- If 'R CMD check' started to fail recently on the Linux builder(s) over a missing dependency, add the missing dependency to 'Suggests:' in your DESCRIPTION file. See Renviron.bioc for more information.

raw results

Package 958/2233HostnameOS / ArchINSTALLBUILDCHECKBUILD BIN
HTqPCR 1.59.0  (landing page)
Heidi Dvinge
Snapshot Date: 2024-05-24 14:05:03 -0400 (Fri, 24 May 2024)
git_url: https://git.bioconductor.org/packages/HTqPCR
git_branch: devel
git_last_commit: 5d072c9
git_last_commit_date: 2024-04-30 10:20:52 -0400 (Tue, 30 Apr 2024)
nebbiolo2Linux (Ubuntu 22.04.3 LTS) / x86_64  OK    ERROR  skipped
merida1macOS 12.7.4 Monterey / x86_64  OK    ERROR  skippedskipped
kjohnson1macOS 13.6.6 Ventura / arm64see weekly results here

Results for Bioconductor software packages that depend directly on package HTqPCR

QUICK STATSOS / ArchINSTALLBUILDCHECKBUILD BIN
nebbiolo2Linux (Ubuntu 22.04.3 LTS) / x86_64
002
002
0011
merida1macOS 12.7.4 Monterey / x86_64
002
002
0011
002
Package 1/2HostnameOS / ArchINSTALLBUILDCHECKBUILD BIN
nondetects 2.35.0  (landing page)
Valeriia Sherina
git_last_commit: af59c3f
git_last_commit_date: 2024-04-30 10:35:47 -0400
nebbiolo2Linux (Ubuntu 22.04.3 LTS) / x86_64  OK    OK    OK  NO, package depends on 'HTqPCR' which is not available
merida1macOS 12.7.4 Monterey / x86_64  OK    OK    OK    OK  NO, package depends on 'HTqPCR' which is not available
kjohnson1macOS 13.6.6 Ventura / arm64see weekly results here
Package 2/2HostnameOS / ArchINSTALLBUILDCHECKBUILD BIN
unifiedWMWqPCR 1.41.0  (landing page)
Joris Meys
git_last_commit: ced7300
git_last_commit_date: 2024-04-30 10:35:11 -0400
nebbiolo2Linux (Ubuntu 22.04.3 LTS) / x86_64  OK    OK    WARNINGS  NO, package depends on 'HTqPCR' which is not available
merida1macOS 12.7.4 Monterey / x86_64  OK    OK    WARNINGS    OK  NO, package depends on 'HTqPCR' which is not available
kjohnson1macOS 13.6.6 Ventura / arm64see weekly results here