Index of /checkResults/devel/bioc-LATEST/HGC/raw-results/nebbiolo2

[ICO]NameLast modifiedSizeDescription

[DIR]Parent Directory  -  
[TXT]buildsrc-out.txt14-Jul-2024 00:39 907  
[   ]buildsrc-summary.dcf14-Jul-2024 00:39 411  
[TXT]checksrc-out.txt14-Jul-2024 00:39 4.2K 
[   ]checksrc-summary.dcf14-Jul-2024 00:39 404  
[TXT]install-out.txt14-Jul-2024 00:39 147K 
[   ]install-summary.dcf14-Jul-2024 00:39 251