Index of /checkResults/devel/bioc-LATEST/HGC/raw-results/lconway

[ICO]NameLast modifiedSizeDescription

[DIR]Parent Directory  -  
[TXT]buildbin-out.txt14-Jul-2024 00:41 5.8K 
[   ]buildbin-summary.dcf14-Jul-2024 00:41 506  
[TXT]buildsrc-out.txt14-Jul-2024 00:41 893  
[   ]buildsrc-summary.dcf14-Jul-2024 00:41 415  
[TXT]checksrc-out.txt14-Jul-2024 00:41 4.2K 
[   ]checksrc-summary.dcf14-Jul-2024 00:41 434  
[TXT]install-out.txt14-Jul-2024 00:41 3.8K 
[   ]install-summary.dcf14-Jul-2024 00:41 261