Index of /checkResults/devel/bioc-LATEST/HGC/raw-results/kjohnson3

[ICO]NameLast modifiedSizeDescription

[DIR]Parent Directory  -  
[TXT]buildbin-out.txt24-Jul-2024 00:42 22K 
[   ]buildbin-summary.dcf24-Jul-2024 00:42 506  
[TXT]buildsrc-out.txt24-Jul-2024 00:42 893  
[   ]buildsrc-summary.dcf24-Jul-2024 00:42 415  
[TXT]checksrc-out.txt24-Jul-2024 00:42 4.2K 
[   ]checksrc-summary.dcf24-Jul-2024 00:42 433  
[TXT]install-out.txt24-Jul-2024 00:42 20K 
[   ]install-summary.dcf24-Jul-2024 00:42 261