Back to Multiple platform build/check report for BioC 3.20:   simplified   long
ABCDEFG[H]IJKLMNOPQRSTUVWXYZ

This page was generated on 2024-06-21 11:35 -0400 (Fri, 21 Jun 2024).

HostnameOSArch (*)R versionInstalled pkgs
nebbiolo2Linux (Ubuntu 22.04.3 LTS)x86_644.4.0 RC (2024-04-16 r86468) -- "Puppy Cup" 4690
lconwaymacOS 12.7.1 Montereyx86_644.4.1 RC (2024-06-06 r86719) -- "Race for Your Life" 4404
Click on any hostname to see more info about the system (e.g. compilers)      (*) as reported by 'uname -p', except on Windows and Mac OS X

Package 933/2242HostnameOS / ArchINSTALLBUILDCHECKBUILD BIN
HGC 1.13.0  (landing page)
XGlab
Snapshot Date: 2024-06-20 14:00 -0400 (Thu, 20 Jun 2024)
git_url: https://git.bioconductor.org/packages/HGC
git_branch: devel
git_last_commit: 9a01113
git_last_commit_date: 2024-04-30 11:34:26 -0400 (Tue, 30 Apr 2024)
nebbiolo2Linux (Ubuntu 22.04.3 LTS) / x86_64  OK    OK    WARNINGS  UNNEEDED, same version is already published
lconwaymacOS 12.7.1 Monterey / x86_64  OK    OK    WARNINGS    OK  UNNEEDED, same version is already published


INSTALL results for HGC on nebbiolo2

To the developers/maintainers of the HGC package:
- Allow up to 24 hours (and sometimes 48 hours) for your latest push to git@git.bioconductor.org:packages/HGC.git to reflect on this report. See Troubleshooting Build Report for more information.
- Use the following Renviron settings to reproduce errors and warnings.
- If 'R CMD check' started to fail recently on the Linux builder(s) over a missing dependency, add the missing dependency to 'Suggests:' in your DESCRIPTION file. See Renviron.bioc for more information.

raw results


Summary

Package: HGC
Version: 1.13.0
Command: /home/biocbuild/bbs-3.20-bioc/R/bin/R CMD INSTALL HGC
StartedAt: 2024-06-20 15:28:33 -0400 (Thu, 20 Jun 2024)
EndedAt: 2024-06-20 15:29:17 -0400 (Thu, 20 Jun 2024)
EllapsedTime: 44.4 seconds
RetCode: 0
Status:   OK  

Command output

##############################################################################
##############################################################################
###
### Running command:
###
###   /home/biocbuild/bbs-3.20-bioc/R/bin/R CMD INSTALL HGC
###
##############################################################################
##############################################################################


* installing to library ‘/home/biocbuild/bbs-3.20-bioc/R/site-library’
* installing *source* package ‘HGC’ ...
** using staged installation
** libs
using C++ compiler: ‘g++ (Ubuntu 11.4.0-1ubuntu1~22.04) 11.4.0’
using C++11
g++ -std=gnu++11 -I"/home/biocbuild/bbs-3.20-bioc/R/include" -DNDEBUG  -I'/home/biocbuild/bbs-3.20-bioc/R/site-library/Rcpp/include' -I'/home/biocbuild/bbs-3.20-bioc/R/site-library/RcppEigen/include' -I/usr/local/include    -fpic  -g -O2  -Wall  -c HGC_unordered_map.cpp -o HGC_unordered_map.o
In file included from /home/biocbuild/bbs-3.20-bioc/R/site-library/RcppEigen/include/Eigen/Core:205,
                 from /home/biocbuild/bbs-3.20-bioc/R/site-library/RcppEigen/include/Eigen/Dense:1,
                 from /home/biocbuild/bbs-3.20-bioc/R/site-library/RcppEigen/include/RcppEigenForward.h:28,
                 from /home/biocbuild/bbs-3.20-bioc/R/site-library/RcppEigen/include/RcppEigen.h:25,
                 from HGC_unordered_map.cpp:6:
/home/biocbuild/bbs-3.20-bioc/R/site-library/RcppEigen/include/Eigen/src/Core/arch/SSE/PacketMath.h:46:40: warning: ignoring attributes on template argument ‘__m128i’ [-Wignored-attributes]
   46 | typedef eigen_packet_wrapper<__m128i, 0> Packet4i;
      |                                        ^
/home/biocbuild/bbs-3.20-bioc/R/site-library/RcppEigen/include/Eigen/src/Core/arch/SSE/PacketMath.h:47:40: warning: ignoring attributes on template argument ‘__m128i’ [-Wignored-attributes]
   47 | typedef eigen_packet_wrapper<__m128i, 1> Packet16b;
      |                                        ^
/home/biocbuild/bbs-3.20-bioc/R/site-library/RcppEigen/include/Eigen/src/Core/arch/SSE/PacketMath.h:49:39: warning: ignoring attributes on template argument ‘__m128’ [-Wignored-attributes]
   49 | template<> struct is_arithmetic<__m128>  { enum { value = true }; };
      |                                       ^
/home/biocbuild/bbs-3.20-bioc/R/site-library/RcppEigen/include/Eigen/src/Core/arch/SSE/PacketMath.h:50:40: warning: ignoring attributes on template argument ‘__m128i’ [-Wignored-attributes]
   50 | template<> struct is_arithmetic<__m128i> { enum { value = true }; };
      |                                        ^
/home/biocbuild/bbs-3.20-bioc/R/site-library/RcppEigen/include/Eigen/src/Core/arch/SSE/PacketMath.h:51:40: warning: ignoring attributes on template argument ‘__m128d’ [-Wignored-attributes]
   51 | template<> struct is_arithmetic<__m128d> { enum { value = true }; };
      |                                        ^
/home/biocbuild/bbs-3.20-bioc/R/site-library/RcppEigen/include/Eigen/src/Core/arch/SSE/PacketMath.h:222:43: warning: ignoring attributes on template argument ‘Eigen::internal::Packet4f’ {aka ‘__m128’} [-Wignored-attributes]
  222 | template<> struct unpacket_traits<Packet4f> {
      |                                           ^
/home/biocbuild/bbs-3.20-bioc/R/site-library/RcppEigen/include/Eigen/src/Core/arch/SSE/PacketMath.h:228:43: warning: ignoring attributes on template argument ‘Eigen::internal::Packet2d’ {aka ‘__m128d’} [-Wignored-attributes]
  228 | template<> struct unpacket_traits<Packet2d> {
      |                                           ^
/home/biocbuild/bbs-3.20-bioc/R/site-library/RcppEigen/include/Eigen/src/Core/arch/SSE/PacketMath.h:1124:34: warning: ignoring attributes on template argument ‘Eigen::internal::Packet4f’ {aka ‘__m128’} [-Wignored-attributes]
 1124 | ptranspose(PacketBlock<Packet4f,4>& kernel) {
      |                                  ^
/home/biocbuild/bbs-3.20-bioc/R/site-library/RcppEigen/include/Eigen/src/Core/arch/SSE/PacketMath.h:1129:34: warning: ignoring attributes on template argument ‘Eigen::internal::Packet2d’ {aka ‘__m128d’} [-Wignored-attributes]
 1129 | ptranspose(PacketBlock<Packet2d,2>& kernel) {
      |                                  ^
In file included from /home/biocbuild/bbs-3.20-bioc/R/site-library/RcppEigen/include/Eigen/Core:174,
                 from /home/biocbuild/bbs-3.20-bioc/R/site-library/RcppEigen/include/Eigen/Dense:1,
                 from /home/biocbuild/bbs-3.20-bioc/R/site-library/RcppEigen/include/RcppEigenForward.h:28,
                 from /home/biocbuild/bbs-3.20-bioc/R/site-library/RcppEigen/include/RcppEigen.h:25,
                 from HGC_unordered_map.cpp:6:
/home/biocbuild/bbs-3.20-bioc/R/site-library/RcppEigen/include/Eigen/src/Core/arch/Default/ConjHelper.h:16:60: warning: ignoring attributes on template argument ‘Eigen::internal::Packet4f’ {aka ‘__m128’} [-Wignored-attributes]
   16 |   struct conj_helper<PACKET_REAL, PACKET_CPLX, false, false> {          \
      |                                                            ^
/home/biocbuild/bbs-3.20-bioc/R/site-library/RcppEigen/include/Eigen/src/Core/arch/SSE/Complex.h:173:1: note: in expansion of macro ‘EIGEN_MAKE_CONJ_HELPER_CPLX_REAL’
  173 | EIGEN_MAKE_CONJ_HELPER_CPLX_REAL(Packet2cf,Packet4f)
      | ^~~~~~~~~~~~~~~~~~~~~~~~~~~~~~~~
/home/biocbuild/bbs-3.20-bioc/R/site-library/RcppEigen/include/Eigen/src/Core/arch/Default/ConjHelper.h:29:60: warning: ignoring attributes on template argument ‘Eigen::internal::Packet4f’ {aka ‘__m128’} [-Wignored-attributes]
   29 |   struct conj_helper<PACKET_CPLX, PACKET_REAL, false, false> {          \
      |                                                            ^
/home/biocbuild/bbs-3.20-bioc/R/site-library/RcppEigen/include/Eigen/src/Core/arch/SSE/Complex.h:173:1: note: in expansion of macro ‘EIGEN_MAKE_CONJ_HELPER_CPLX_REAL’
  173 | EIGEN_MAKE_CONJ_HELPER_CPLX_REAL(Packet2cf,Packet4f)
      | ^~~~~~~~~~~~~~~~~~~~~~~~~~~~~~~~
/home/biocbuild/bbs-3.20-bioc/R/site-library/RcppEigen/include/Eigen/src/Core/arch/Default/ConjHelper.h:16:60: warning: ignoring attributes on template argument ‘Eigen::internal::Packet2d’ {aka ‘__m128d’} [-Wignored-attributes]
   16 |   struct conj_helper<PACKET_REAL, PACKET_CPLX, false, false> {          \
      |                                                            ^
/home/biocbuild/bbs-3.20-bioc/R/site-library/RcppEigen/include/Eigen/src/Core/arch/SSE/Complex.h:298:1: note: in expansion of macro ‘EIGEN_MAKE_CONJ_HELPER_CPLX_REAL’
  298 | EIGEN_MAKE_CONJ_HELPER_CPLX_REAL(Packet1cd,Packet2d)
      | ^~~~~~~~~~~~~~~~~~~~~~~~~~~~~~~~
/home/biocbuild/bbs-3.20-bioc/R/site-library/RcppEigen/include/Eigen/src/Core/arch/Default/ConjHelper.h:29:60: warning: ignoring attributes on template argument ‘Eigen::internal::Packet2d’ {aka ‘__m128d’} [-Wignored-attributes]
   29 |   struct conj_helper<PACKET_CPLX, PACKET_REAL, false, false> {          \
      |                                                            ^
/home/biocbuild/bbs-3.20-bioc/R/site-library/RcppEigen/include/Eigen/src/Core/arch/SSE/Complex.h:298:1: note: in expansion of macro ‘EIGEN_MAKE_CONJ_HELPER_CPLX_REAL’
  298 | EIGEN_MAKE_CONJ_HELPER_CPLX_REAL(Packet1cd,Packet2d)
      | ^~~~~~~~~~~~~~~~~~~~~~~~~~~~~~~~
In file included from /home/biocbuild/bbs-3.20-bioc/R/site-library/RcppEigen/include/Eigen/Core:165,
                 from /home/biocbuild/bbs-3.20-bioc/R/site-library/RcppEigen/include/Eigen/Dense:1,
                 from /home/biocbuild/bbs-3.20-bioc/R/site-library/RcppEigen/include/RcppEigenForward.h:28,
                 from /home/biocbuild/bbs-3.20-bioc/R/site-library/RcppEigen/include/RcppEigen.h:25,
                 from HGC_unordered_map.cpp:6:
/home/biocbuild/bbs-3.20-bioc/R/site-library/RcppEigen/include/Eigen/src/Core/util/XprHelper.h: In instantiation of ‘struct Eigen::internal::find_best_packet<float, 4>’:
/home/biocbuild/bbs-3.20-bioc/R/site-library/RcppEigen/include/Eigen/src/Core/Matrix.h:22:57:   required from ‘struct Eigen::internal::traits<Eigen::Matrix<float, 4, 1> >’
/home/biocbuild/bbs-3.20-bioc/R/site-library/RcppEigen/include/Eigen/src/Geometry/Quaternion.h:266:49:   required from ‘struct Eigen::internal::traits<Eigen::Quaternion<float> >’
/home/biocbuild/bbs-3.20-bioc/R/site-library/RcppEigen/include/Eigen/src/Geometry/arch/Geometry_SIMD.h:24:46:   required from here
/home/biocbuild/bbs-3.20-bioc/R/site-library/RcppEigen/include/Eigen/src/Core/util/XprHelper.h:190:44: warning: ignoring attributes on template argument ‘Eigen::internal::packet_traits<float>::type’ {aka ‘__m128’} [-Wignored-attributes]
  190 |          bool Stop = Size==Dynamic || (Size%unpacket_traits<PacketType>::size)==0 || is_same<PacketType,typename unpacket_traits<PacketType>::half>::value>
      |                                       ~~~~~^~~~~~~~~~~~~~~~~~~~~~~~~~~~~~~~~~~
/home/biocbuild/bbs-3.20-bioc/R/site-library/RcppEigen/include/Eigen/src/Core/util/XprHelper.h:190:83: warning: ignoring attributes on template argument ‘Eigen::internal::packet_traits<float>::type’ {aka ‘__m128’} [-Wignored-attributes]
  190 |          bool Stop = Size==Dynamic || (Size%unpacket_traits<PacketType>::size)==0 || is_same<PacketType,typename unpacket_traits<PacketType>::half>::value>
      |                      ~~~~~~~~~~~~~~~~~~~~~~~~~~~~~~~~~~~~~~~~~~~~~~~~~~~~~~~~~~~~~^~~~~~~~~~~~~~~~~~~~~~~~~~~~~~~~~~~~~~~~~~~~~~~~~~~~~~~~~~~~~~~~~~~~~~~~
/home/biocbuild/bbs-3.20-bioc/R/site-library/RcppEigen/include/Eigen/src/Core/util/XprHelper.h:190:83: warning: ignoring attributes on template argument ‘Eigen::internal::packet_traits<float>::type’ {aka ‘__m128’} [-Wignored-attributes]
/home/biocbuild/bbs-3.20-bioc/R/site-library/RcppEigen/include/Eigen/src/Core/util/XprHelper.h:190:83: warning: ignoring attributes on template argument ‘Eigen::internal::unpacket_traits<__vector(4) float>::half’ {aka ‘__m128’} [-Wignored-attributes]
/home/biocbuild/bbs-3.20-bioc/R/site-library/RcppEigen/include/Eigen/src/Core/util/XprHelper.h:208:88: warning: ignoring attributes on template argument ‘Eigen::internal::packet_traits<float>::type’ {aka ‘__m128’} [-Wignored-attributes]
  208 |   typedef typename find_best_packet_helper<Size,typename packet_traits<T>::type>::type type;
      |                                                                                        ^~~~
In file included from /home/biocbuild/bbs-3.20-bioc/R/site-library/RcppEigen/include/Eigen/Core:271,
                 from /home/biocbuild/bbs-3.20-bioc/R/site-library/RcppEigen/include/Eigen/Dense:1,
                 from /home/biocbuild/bbs-3.20-bioc/R/site-library/RcppEigen/include/RcppEigenForward.h:28,
                 from /home/biocbuild/bbs-3.20-bioc/R/site-library/RcppEigen/include/RcppEigen.h:25,
                 from HGC_unordered_map.cpp:6:
/home/biocbuild/bbs-3.20-bioc/R/site-library/RcppEigen/include/Eigen/src/Core/DenseCoeffsBase.h: In instantiation of ‘class Eigen::DenseCoeffsBase<Eigen::Matrix<float, 4, 1>, 0>’:
/home/biocbuild/bbs-3.20-bioc/R/site-library/RcppEigen/include/Eigen/src/Core/DenseCoeffsBase.h:302:7:   required from ‘class Eigen::DenseCoeffsBase<Eigen::Matrix<float, 4, 1>, 1>’
/home/biocbuild/bbs-3.20-bioc/R/site-library/RcppEigen/include/Eigen/src/Core/DenseCoeffsBase.h:555:7:   required from ‘class Eigen::DenseCoeffsBase<Eigen::Matrix<float, 4, 1>, 3>’
/home/biocbuild/bbs-3.20-bioc/R/site-library/RcppEigen/include/Eigen/src/Core/DenseBase.h:41:34:   required from ‘class Eigen::DenseBase<Eigen::Matrix<float, 4, 1> >’
/home/biocbuild/bbs-3.20-bioc/R/site-library/RcppEigen/include/Eigen/src/Core/MatrixBase.h:48:34:   required from ‘class Eigen::MatrixBase<Eigen::Matrix<float, 4, 1> >’
/home/biocbuild/bbs-3.20-bioc/R/site-library/RcppEigen/include/Eigen/src/Core/PlainObjectBase.h:98:7:   required from ‘class Eigen::PlainObjectBase<Eigen::Matrix<float, 4, 1> >’
/home/biocbuild/bbs-3.20-bioc/R/site-library/RcppEigen/include/Eigen/src/Core/Matrix.h:178:7:   required from ‘class Eigen::Matrix<float, 4, 1>’
/home/biocbuild/bbs-3.20-bioc/R/site-library/RcppEigen/include/Eigen/src/Geometry/Quaternion.h:46:50:   required from ‘class Eigen::QuaternionBase<Eigen::Quaternion<float> >’
/home/biocbuild/bbs-3.20-bioc/R/site-library/RcppEigen/include/Eigen/src/Geometry/Quaternion.h:273:7:   required from ‘class Eigen::Quaternion<float>’
/home/biocbuild/bbs-3.20-bioc/R/site-library/RcppEigen/include/Eigen/src/Geometry/arch/Geometry_SIMD.h:27:3:   required from here
/home/biocbuild/bbs-3.20-bioc/R/site-library/RcppEigen/include/Eigen/src/Core/DenseCoeffsBase.h:56:30: warning: ignoring attributes on template argument ‘Eigen::internal::packet_traits<float>::type’ {aka ‘__m128’} [-Wignored-attributes]
   56 |                      >::type PacketReturnType;
      |                              ^~~~~~~~~~~~~~~~
In file included from /home/biocbuild/bbs-3.20-bioc/R/site-library/RcppEigen/include/Eigen/Core:165,
                 from /home/biocbuild/bbs-3.20-bioc/R/site-library/RcppEigen/include/Eigen/Dense:1,
                 from /home/biocbuild/bbs-3.20-bioc/R/site-library/RcppEigen/include/RcppEigenForward.h:28,
                 from /home/biocbuild/bbs-3.20-bioc/R/site-library/RcppEigen/include/RcppEigen.h:25,
                 from HGC_unordered_map.cpp:6:
/home/biocbuild/bbs-3.20-bioc/R/site-library/RcppEigen/include/Eigen/src/Core/util/XprHelper.h: In instantiation of ‘struct Eigen::internal::find_best_packet<double, 4>’:
/home/biocbuild/bbs-3.20-bioc/R/site-library/RcppEigen/include/Eigen/src/Core/Matrix.h:22:57:   required from ‘struct Eigen::internal::traits<Eigen::Matrix<double, 4, 1> >’
/home/biocbuild/bbs-3.20-bioc/R/site-library/RcppEigen/include/Eigen/src/Geometry/Quaternion.h:266:49:   required from ‘struct Eigen::internal::traits<Eigen::Quaternion<double> >’
/home/biocbuild/bbs-3.20-bioc/R/site-library/RcppEigen/include/Eigen/src/Geometry/arch/Geometry_SIMD.h:98:47:   required from here
/home/biocbuild/bbs-3.20-bioc/R/site-library/RcppEigen/include/Eigen/src/Core/util/XprHelper.h:190:44: warning: ignoring attributes on template argument ‘Eigen::internal::packet_traits<double>::type’ {aka ‘__m128d’} [-Wignored-attributes]
  190 |          bool Stop = Size==Dynamic || (Size%unpacket_traits<PacketType>::size)==0 || is_same<PacketType,typename unpacket_traits<PacketType>::half>::value>
      |                                       ~~~~~^~~~~~~~~~~~~~~~~~~~~~~~~~~~~~~~~~~
/home/biocbuild/bbs-3.20-bioc/R/site-library/RcppEigen/include/Eigen/src/Core/util/XprHelper.h:190:83: warning: ignoring attributes on template argument ‘Eigen::internal::packet_traits<double>::type’ {aka ‘__m128d’} [-Wignored-attributes]
  190 |          bool Stop = Size==Dynamic || (Size%unpacket_traits<PacketType>::size)==0 || is_same<PacketType,typename unpacket_traits<PacketType>::half>::value>
      |                      ~~~~~~~~~~~~~~~~~~~~~~~~~~~~~~~~~~~~~~~~~~~~~~~~~~~~~~~~~~~~~^~~~~~~~~~~~~~~~~~~~~~~~~~~~~~~~~~~~~~~~~~~~~~~~~~~~~~~~~~~~~~~~~~~~~~~~
/home/biocbuild/bbs-3.20-bioc/R/site-library/RcppEigen/include/Eigen/src/Core/util/XprHelper.h:190:83: warning: ignoring attributes on template argument ‘Eigen::internal::packet_traits<double>::type’ {aka ‘__m128d’} [-Wignored-attributes]
/home/biocbuild/bbs-3.20-bioc/R/site-library/RcppEigen/include/Eigen/src/Core/util/XprHelper.h:190:83: warning: ignoring attributes on template argument ‘Eigen::internal::unpacket_traits<__vector(2) double>::half’ {aka ‘__m128d’} [-Wignored-attributes]
/home/biocbuild/bbs-3.20-bioc/R/site-library/RcppEigen/include/Eigen/src/Core/util/XprHelper.h:208:88: warning: ignoring attributes on template argument ‘Eigen::internal::packet_traits<double>::type’ {aka ‘__m128d’} [-Wignored-attributes]
  208 |   typedef typename find_best_packet_helper<Size,typename packet_traits<T>::type>::type type;
      |                                                                                        ^~~~
In file included from /home/biocbuild/bbs-3.20-bioc/R/site-library/RcppEigen/include/Eigen/Core:271,
                 from /home/biocbuild/bbs-3.20-bioc/R/site-library/RcppEigen/include/Eigen/Dense:1,
                 from /home/biocbuild/bbs-3.20-bioc/R/site-library/RcppEigen/include/RcppEigenForward.h:28,
                 from /home/biocbuild/bbs-3.20-bioc/R/site-library/RcppEigen/include/RcppEigen.h:25,
                 from HGC_unordered_map.cpp:6:
/home/biocbuild/bbs-3.20-bioc/R/site-library/RcppEigen/include/Eigen/src/Core/DenseCoeffsBase.h: In instantiation of ‘class Eigen::DenseCoeffsBase<Eigen::Matrix<double, 4, 1>, 0>’:
/home/biocbuild/bbs-3.20-bioc/R/site-library/RcppEigen/include/Eigen/src/Core/DenseCoeffsBase.h:302:7:   required from ‘class Eigen::DenseCoeffsBase<Eigen::Matrix<double, 4, 1>, 1>’
/home/biocbuild/bbs-3.20-bioc/R/site-library/RcppEigen/include/Eigen/src/Core/DenseCoeffsBase.h:555:7:   required from ‘class Eigen::DenseCoeffsBase<Eigen::Matrix<double, 4, 1>, 3>’
/home/biocbuild/bbs-3.20-bioc/R/site-library/RcppEigen/include/Eigen/src/Core/DenseBase.h:41:34:   required from ‘class Eigen::DenseBase<Eigen::Matrix<double, 4, 1> >’
/home/biocbuild/bbs-3.20-bioc/R/site-library/RcppEigen/include/Eigen/src/Core/MatrixBase.h:48:34:   required from ‘class Eigen::MatrixBase<Eigen::Matrix<double, 4, 1> >’
/home/biocbuild/bbs-3.20-bioc/R/site-library/RcppEigen/include/Eigen/src/Core/PlainObjectBase.h:98:7:   required from ‘class Eigen::PlainObjectBase<Eigen::Matrix<double, 4, 1> >’
/home/biocbuild/bbs-3.20-bioc/R/site-library/RcppEigen/include/Eigen/src/Core/Matrix.h:178:7:   required from ‘class Eigen::Matrix<double, 4, 1>’
/home/biocbuild/bbs-3.20-bioc/R/site-library/RcppEigen/include/Eigen/src/Geometry/Quaternion.h:46:50:   required from ‘class Eigen::QuaternionBase<Eigen::Quaternion<double> >’
/home/biocbuild/bbs-3.20-bioc/R/site-library/RcppEigen/include/Eigen/src/Geometry/Quaternion.h:273:7:   required from ‘class Eigen::Quaternion<double>’
/home/biocbuild/bbs-3.20-bioc/R/site-library/RcppEigen/include/Eigen/src/Geometry/arch/Geometry_SIMD.h:102:3:   required from here
/home/biocbuild/bbs-3.20-bioc/R/site-library/RcppEigen/include/Eigen/src/Core/DenseCoeffsBase.h:56:30: warning: ignoring attributes on template argument ‘Eigen::internal::packet_traits<double>::type’ {aka ‘__m128d’} [-Wignored-attributes]
   56 |                      >::type PacketReturnType;
      |                              ^~~~~~~~~~~~~~~~
In file included from /home/biocbuild/bbs-3.20-bioc/R/site-library/RcppEigen/include/Eigen/SparseCore:37,
                 from /home/biocbuild/bbs-3.20-bioc/R/site-library/RcppEigen/include/Eigen/Sparse:26,
                 from /home/biocbuild/bbs-3.20-bioc/R/site-library/RcppEigen/include/RcppEigenForward.h:29,
                 from /home/biocbuild/bbs-3.20-bioc/R/site-library/RcppEigen/include/RcppEigen.h:25,
                 from HGC_unordered_map.cpp:6:
/home/biocbuild/bbs-3.20-bioc/R/site-library/RcppEigen/include/Eigen/src/SparseCore/SparseMatrixBase.h: In instantiation of ‘class Eigen::SparseMatrixBase<Eigen::SparseMatrix<double, 0, int> >’:
/home/biocbuild/bbs-3.20-bioc/R/site-library/RcppEigen/include/Eigen/src/SparseCore/SparseCompressedBase.h:36:7:   required from ‘class Eigen::SparseCompressedBase<Eigen::SparseMatrix<double, 0, int> >’
/home/biocbuild/bbs-3.20-bioc/R/site-library/RcppEigen/include/Eigen/src/SparseCore/SparseMatrix.h:96:7:   required from ‘class Eigen::SparseMatrix<double, 0, int>’
/home/biocbuild/bbs-3.20-bioc/R/site-library/RcppEigen/include/unsupported/Eigen/src/IterativeSolvers/ConstrainedConjGrad.h:61:25:   required from here
/home/biocbuild/bbs-3.20-bioc/R/site-library/RcppEigen/include/Eigen/src/SparseCore/SparseMatrixBase.h:47:30: warning: ignoring attributes on template argument ‘Eigen::internal::packet_traits<double>::type’ {aka ‘__m128d’} [-Wignored-attributes]
   47 |                      >::type PacketReturnType;
      |                              ^~~~~~~~~~~~~~~~
HGC_unordered_map.cpp: In member function ‘void Graph::add_node(int)’:
HGC_unordered_map.cpp:165:12: warning: comparison of integer expressions of different signedness: ‘int’ and ‘std::vector<std::unordered_map<int, double> >::size_type’ {aka ‘long unsigned int’} [-Wsign-compare]
  165 |   if (node == adj.size()) {
      |       ~~~~~^~~~~~~~~~~~~
HGC_unordered_map.cpp: In member function ‘void Graph::add_edge(Edge)’:
HGC_unordered_map.cpp:177:15: warning: comparison of integer expressions of different signedness: ‘int’ and ‘std::vector<std::unordered_map<int, double> >::size_type’ {aka ‘long unsigned int’} [-Wsign-compare]
  177 |   if (e.node1 < adj.size() && e.node2 < adj.size()) {
      |       ~~~~~~~~^~~~~~~~~~~~
HGC_unordered_map.cpp:177:39: warning: comparison of integer expressions of different signedness: ‘int’ and ‘std::vector<std::unordered_map<int, double> >::size_type’ {aka ‘long unsigned int’} [-Wsign-compare]
  177 |   if (e.node1 < adj.size() && e.node2 < adj.size()) {
      |                               ~~~~~~~~^~~~~~~~~~~~
g++ -std=gnu++11 -I"/home/biocbuild/bbs-3.20-bioc/R/include" -DNDEBUG  -I'/home/biocbuild/bbs-3.20-bioc/R/site-library/Rcpp/include' -I'/home/biocbuild/bbs-3.20-bioc/R/site-library/RcppEigen/include' -I/usr/local/include    -fpic  -g -O2  -Wall  -c RHGC_unordered_map.cpp -o RHGC_unordered_map.o
In file included from /home/biocbuild/bbs-3.20-bioc/R/site-library/RcppEigen/include/Eigen/Core:205,
                 from /home/biocbuild/bbs-3.20-bioc/R/site-library/RcppEigen/include/Eigen/Dense:1,
                 from /home/biocbuild/bbs-3.20-bioc/R/site-library/RcppEigen/include/RcppEigenForward.h:28,
                 from /home/biocbuild/bbs-3.20-bioc/R/site-library/RcppEigen/include/RcppEigen.h:25,
                 from RHGC_unordered_map.cpp:8:
/home/biocbuild/bbs-3.20-bioc/R/site-library/RcppEigen/include/Eigen/src/Core/arch/SSE/PacketMath.h:46:40: warning: ignoring attributes on template argument ‘__m128i’ [-Wignored-attributes]
   46 | typedef eigen_packet_wrapper<__m128i, 0> Packet4i;
      |                                        ^
/home/biocbuild/bbs-3.20-bioc/R/site-library/RcppEigen/include/Eigen/src/Core/arch/SSE/PacketMath.h:47:40: warning: ignoring attributes on template argument ‘__m128i’ [-Wignored-attributes]
   47 | typedef eigen_packet_wrapper<__m128i, 1> Packet16b;
      |                                        ^
/home/biocbuild/bbs-3.20-bioc/R/site-library/RcppEigen/include/Eigen/src/Core/arch/SSE/PacketMath.h:49:39: warning: ignoring attributes on template argument ‘__m128’ [-Wignored-attributes]
   49 | template<> struct is_arithmetic<__m128>  { enum { value = true }; };
      |                                       ^
/home/biocbuild/bbs-3.20-bioc/R/site-library/RcppEigen/include/Eigen/src/Core/arch/SSE/PacketMath.h:50:40: warning: ignoring attributes on template argument ‘__m128i’ [-Wignored-attributes]
   50 | template<> struct is_arithmetic<__m128i> { enum { value = true }; };
      |                                        ^
/home/biocbuild/bbs-3.20-bioc/R/site-library/RcppEigen/include/Eigen/src/Core/arch/SSE/PacketMath.h:51:40: warning: ignoring attributes on template argument ‘__m128d’ [-Wignored-attributes]
   51 | template<> struct is_arithmetic<__m128d> { enum { value = true }; };
      |                                        ^
/home/biocbuild/bbs-3.20-bioc/R/site-library/RcppEigen/include/Eigen/src/Core/arch/SSE/PacketMath.h:222:43: warning: ignoring attributes on template argument ‘Eigen::internal::Packet4f’ {aka ‘__m128’} [-Wignored-attributes]
  222 | template<> struct unpacket_traits<Packet4f> {
      |                                           ^
/home/biocbuild/bbs-3.20-bioc/R/site-library/RcppEigen/include/Eigen/src/Core/arch/SSE/PacketMath.h:228:43: warning: ignoring attributes on template argument ‘Eigen::internal::Packet2d’ {aka ‘__m128d’} [-Wignored-attributes]
  228 | template<> struct unpacket_traits<Packet2d> {
      |                                           ^
/home/biocbuild/bbs-3.20-bioc/R/site-library/RcppEigen/include/Eigen/src/Core/arch/SSE/PacketMath.h:1124:34: warning: ignoring attributes on template argument ‘Eigen::internal::Packet4f’ {aka ‘__m128’} [-Wignored-attributes]
 1124 | ptranspose(PacketBlock<Packet4f,4>& kernel) {
      |                                  ^
/home/biocbuild/bbs-3.20-bioc/R/site-library/RcppEigen/include/Eigen/src/Core/arch/SSE/PacketMath.h:1129:34: warning: ignoring attributes on template argument ‘Eigen::internal::Packet2d’ {aka ‘__m128d’} [-Wignored-attributes]
 1129 | ptranspose(PacketBlock<Packet2d,2>& kernel) {
      |                                  ^
In file included from /home/biocbuild/bbs-3.20-bioc/R/site-library/RcppEigen/include/Eigen/Core:174,
                 from /home/biocbuild/bbs-3.20-bioc/R/site-library/RcppEigen/include/Eigen/Dense:1,
                 from /home/biocbuild/bbs-3.20-bioc/R/site-library/RcppEigen/include/RcppEigenForward.h:28,
                 from /home/biocbuild/bbs-3.20-bioc/R/site-library/RcppEigen/include/RcppEigen.h:25,
                 from RHGC_unordered_map.cpp:8:
/home/biocbuild/bbs-3.20-bioc/R/site-library/RcppEigen/include/Eigen/src/Core/arch/Default/ConjHelper.h:16:60: warning: ignoring attributes on template argument ‘Eigen::internal::Packet4f’ {aka ‘__m128’} [-Wignored-attributes]
   16 |   struct conj_helper<PACKET_REAL, PACKET_CPLX, false, false> {          \
      |                                                            ^
/home/biocbuild/bbs-3.20-bioc/R/site-library/RcppEigen/include/Eigen/src/Core/arch/SSE/Complex.h:173:1: note: in expansion of macro ‘EIGEN_MAKE_CONJ_HELPER_CPLX_REAL’
  173 | EIGEN_MAKE_CONJ_HELPER_CPLX_REAL(Packet2cf,Packet4f)
      | ^~~~~~~~~~~~~~~~~~~~~~~~~~~~~~~~
/home/biocbuild/bbs-3.20-bioc/R/site-library/RcppEigen/include/Eigen/src/Core/arch/Default/ConjHelper.h:29:60: warning: ignoring attributes on template argument ‘Eigen::internal::Packet4f’ {aka ‘__m128’} [-Wignored-attributes]
   29 |   struct conj_helper<PACKET_CPLX, PACKET_REAL, false, false> {          \
      |                                                            ^
/home/biocbuild/bbs-3.20-bioc/R/site-library/RcppEigen/include/Eigen/src/Core/arch/SSE/Complex.h:173:1: note: in expansion of macro ‘EIGEN_MAKE_CONJ_HELPER_CPLX_REAL’
  173 | EIGEN_MAKE_CONJ_HELPER_CPLX_REAL(Packet2cf,Packet4f)
      | ^~~~~~~~~~~~~~~~~~~~~~~~~~~~~~~~
/home/biocbuild/bbs-3.20-bioc/R/site-library/RcppEigen/include/Eigen/src/Core/arch/Default/ConjHelper.h:16:60: warning: ignoring attributes on template argument ‘Eigen::internal::Packet2d’ {aka ‘__m128d’} [-Wignored-attributes]
   16 |   struct conj_helper<PACKET_REAL, PACKET_CPLX, false, false> {          \
      |                                                            ^
/home/biocbuild/bbs-3.20-bioc/R/site-library/RcppEigen/include/Eigen/src/Core/arch/SSE/Complex.h:298:1: note: in expansion of macro ‘EIGEN_MAKE_CONJ_HELPER_CPLX_REAL’
  298 | EIGEN_MAKE_CONJ_HELPER_CPLX_REAL(Packet1cd,Packet2d)
      | ^~~~~~~~~~~~~~~~~~~~~~~~~~~~~~~~
/home/biocbuild/bbs-3.20-bioc/R/site-library/RcppEigen/include/Eigen/src/Core/arch/Default/ConjHelper.h:29:60: warning: ignoring attributes on template argument ‘Eigen::internal::Packet2d’ {aka ‘__m128d’} [-Wignored-attributes]
   29 |   struct conj_helper<PACKET_CPLX, PACKET_REAL, false, false> {          \
      |                                                            ^
/home/biocbuild/bbs-3.20-bioc/R/site-library/RcppEigen/include/Eigen/src/Core/arch/SSE/Complex.h:298:1: note: in expansion of macro ‘EIGEN_MAKE_CONJ_HELPER_CPLX_REAL’
  298 | EIGEN_MAKE_CONJ_HELPER_CPLX_REAL(Packet1cd,Packet2d)
      | ^~~~~~~~~~~~~~~~~~~~~~~~~~~~~~~~
In file included from /home/biocbuild/bbs-3.20-bioc/R/site-library/RcppEigen/include/Eigen/Core:165,
                 from /home/biocbuild/bbs-3.20-bioc/R/site-library/RcppEigen/include/Eigen/Dense:1,
                 from /home/biocbuild/bbs-3.20-bioc/R/site-library/RcppEigen/include/RcppEigenForward.h:28,
                 from /home/biocbuild/bbs-3.20-bioc/R/site-library/RcppEigen/include/RcppEigen.h:25,
                 from RHGC_unordered_map.cpp:8:
/home/biocbuild/bbs-3.20-bioc/R/site-library/RcppEigen/include/Eigen/src/Core/util/XprHelper.h: In instantiation of ‘struct Eigen::internal::find_best_packet<float, 4>’:
/home/biocbuild/bbs-3.20-bioc/R/site-library/RcppEigen/include/Eigen/src/Core/Matrix.h:22:57:   required from ‘struct Eigen::internal::traits<Eigen::Matrix<float, 4, 1> >’
/home/biocbuild/bbs-3.20-bioc/R/site-library/RcppEigen/include/Eigen/src/Geometry/Quaternion.h:266:49:   required from ‘struct Eigen::internal::traits<Eigen::Quaternion<float> >’
/home/biocbuild/bbs-3.20-bioc/R/site-library/RcppEigen/include/Eigen/src/Geometry/arch/Geometry_SIMD.h:24:46:   required from here
/home/biocbuild/bbs-3.20-bioc/R/site-library/RcppEigen/include/Eigen/src/Core/util/XprHelper.h:190:44: warning: ignoring attributes on template argument ‘Eigen::internal::packet_traits<float>::type’ {aka ‘__m128’} [-Wignored-attributes]
  190 |          bool Stop = Size==Dynamic || (Size%unpacket_traits<PacketType>::size)==0 || is_same<PacketType,typename unpacket_traits<PacketType>::half>::value>
      |                                       ~~~~~^~~~~~~~~~~~~~~~~~~~~~~~~~~~~~~~~~~
/home/biocbuild/bbs-3.20-bioc/R/site-library/RcppEigen/include/Eigen/src/Core/util/XprHelper.h:190:83: warning: ignoring attributes on template argument ‘Eigen::internal::packet_traits<float>::type’ {aka ‘__m128’} [-Wignored-attributes]
  190 |          bool Stop = Size==Dynamic || (Size%unpacket_traits<PacketType>::size)==0 || is_same<PacketType,typename unpacket_traits<PacketType>::half>::value>
      |                      ~~~~~~~~~~~~~~~~~~~~~~~~~~~~~~~~~~~~~~~~~~~~~~~~~~~~~~~~~~~~~^~~~~~~~~~~~~~~~~~~~~~~~~~~~~~~~~~~~~~~~~~~~~~~~~~~~~~~~~~~~~~~~~~~~~~~~
/home/biocbuild/bbs-3.20-bioc/R/site-library/RcppEigen/include/Eigen/src/Core/util/XprHelper.h:190:83: warning: ignoring attributes on template argument ‘Eigen::internal::packet_traits<float>::type’ {aka ‘__m128’} [-Wignored-attributes]
/home/biocbuild/bbs-3.20-bioc/R/site-library/RcppEigen/include/Eigen/src/Core/util/XprHelper.h:190:83: warning: ignoring attributes on template argument ‘Eigen::internal::unpacket_traits<__vector(4) float>::half’ {aka ‘__m128’} [-Wignored-attributes]
/home/biocbuild/bbs-3.20-bioc/R/site-library/RcppEigen/include/Eigen/src/Core/util/XprHelper.h:208:88: warning: ignoring attributes on template argument ‘Eigen::internal::packet_traits<float>::type’ {aka ‘__m128’} [-Wignored-attributes]
  208 |   typedef typename find_best_packet_helper<Size,typename packet_traits<T>::type>::type type;
      |                                                                                        ^~~~
In file included from /home/biocbuild/bbs-3.20-bioc/R/site-library/RcppEigen/include/Eigen/Core:271,
                 from /home/biocbuild/bbs-3.20-bioc/R/site-library/RcppEigen/include/Eigen/Dense:1,
                 from /home/biocbuild/bbs-3.20-bioc/R/site-library/RcppEigen/include/RcppEigenForward.h:28,
                 from /home/biocbuild/bbs-3.20-bioc/R/site-library/RcppEigen/include/RcppEigen.h:25,
                 from RHGC_unordered_map.cpp:8:
/home/biocbuild/bbs-3.20-bioc/R/site-library/RcppEigen/include/Eigen/src/Core/DenseCoeffsBase.h: In instantiation of ‘class Eigen::DenseCoeffsBase<Eigen::Matrix<float, 4, 1>, 0>’:
/home/biocbuild/bbs-3.20-bioc/R/site-library/RcppEigen/include/Eigen/src/Core/DenseCoeffsBase.h:302:7:   required from ‘class Eigen::DenseCoeffsBase<Eigen::Matrix<float, 4, 1>, 1>’
/home/biocbuild/bbs-3.20-bioc/R/site-library/RcppEigen/include/Eigen/src/Core/DenseCoeffsBase.h:555:7:   required from ‘class Eigen::DenseCoeffsBase<Eigen::Matrix<float, 4, 1>, 3>’
/home/biocbuild/bbs-3.20-bioc/R/site-library/RcppEigen/include/Eigen/src/Core/DenseBase.h:41:34:   required from ‘class Eigen::DenseBase<Eigen::Matrix<float, 4, 1> >’
/home/biocbuild/bbs-3.20-bioc/R/site-library/RcppEigen/include/Eigen/src/Core/MatrixBase.h:48:34:   required from ‘class Eigen::MatrixBase<Eigen::Matrix<float, 4, 1> >’
/home/biocbuild/bbs-3.20-bioc/R/site-library/RcppEigen/include/Eigen/src/Core/PlainObjectBase.h:98:7:   required from ‘class Eigen::PlainObjectBase<Eigen::Matrix<float, 4, 1> >’
/home/biocbuild/bbs-3.20-bioc/R/site-library/RcppEigen/include/Eigen/src/Core/Matrix.h:178:7:   required from ‘class Eigen::Matrix<float, 4, 1>’
/home/biocbuild/bbs-3.20-bioc/R/site-library/RcppEigen/include/Eigen/src/Geometry/Quaternion.h:46:50:   required from ‘class Eigen::QuaternionBase<Eigen::Quaternion<float> >’
/home/biocbuild/bbs-3.20-bioc/R/site-library/RcppEigen/include/Eigen/src/Geometry/Quaternion.h:273:7:   required from ‘class Eigen::Quaternion<float>’
/home/biocbuild/bbs-3.20-bioc/R/site-library/RcppEigen/include/Eigen/src/Geometry/arch/Geometry_SIMD.h:27:3:   required from here
/home/biocbuild/bbs-3.20-bioc/R/site-library/RcppEigen/include/Eigen/src/Core/DenseCoeffsBase.h:56:30: warning: ignoring attributes on template argument ‘Eigen::internal::packet_traits<float>::type’ {aka ‘__m128’} [-Wignored-attributes]
   56 |                      >::type PacketReturnType;
      |                              ^~~~~~~~~~~~~~~~
In file included from /home/biocbuild/bbs-3.20-bioc/R/site-library/RcppEigen/include/Eigen/Core:165,
                 from /home/biocbuild/bbs-3.20-bioc/R/site-library/RcppEigen/include/Eigen/Dense:1,
                 from /home/biocbuild/bbs-3.20-bioc/R/site-library/RcppEigen/include/RcppEigenForward.h:28,
                 from /home/biocbuild/bbs-3.20-bioc/R/site-library/RcppEigen/include/RcppEigen.h:25,
                 from RHGC_unordered_map.cpp:8:
/home/biocbuild/bbs-3.20-bioc/R/site-library/RcppEigen/include/Eigen/src/Core/util/XprHelper.h: In instantiation of ‘struct Eigen::internal::find_best_packet<double, 4>’:
/home/biocbuild/bbs-3.20-bioc/R/site-library/RcppEigen/include/Eigen/src/Core/Matrix.h:22:57:   required from ‘struct Eigen::internal::traits<Eigen::Matrix<double, 4, 1> >’
/home/biocbuild/bbs-3.20-bioc/R/site-library/RcppEigen/include/Eigen/src/Geometry/Quaternion.h:266:49:   required from ‘struct Eigen::internal::traits<Eigen::Quaternion<double> >’
/home/biocbuild/bbs-3.20-bioc/R/site-library/RcppEigen/include/Eigen/src/Geometry/arch/Geometry_SIMD.h:98:47:   required from here
/home/biocbuild/bbs-3.20-bioc/R/site-library/RcppEigen/include/Eigen/src/Core/util/XprHelper.h:190:44: warning: ignoring attributes on template argument ‘Eigen::internal::packet_traits<double>::type’ {aka ‘__m128d’} [-Wignored-attributes]
  190 |          bool Stop = Size==Dynamic || (Size%unpacket_traits<PacketType>::size)==0 || is_same<PacketType,typename unpacket_traits<PacketType>::half>::value>
      |                                       ~~~~~^~~~~~~~~~~~~~~~~~~~~~~~~~~~~~~~~~~
/home/biocbuild/bbs-3.20-bioc/R/site-library/RcppEigen/include/Eigen/src/Core/util/XprHelper.h:190:83: warning: ignoring attributes on template argument ‘Eigen::internal::packet_traits<double>::type’ {aka ‘__m128d’} [-Wignored-attributes]
  190 |          bool Stop = Size==Dynamic || (Size%unpacket_traits<PacketType>::size)==0 || is_same<PacketType,typename unpacket_traits<PacketType>::half>::value>
      |                      ~~~~~~~~~~~~~~~~~~~~~~~~~~~~~~~~~~~~~~~~~~~~~~~~~~~~~~~~~~~~~^~~~~~~~~~~~~~~~~~~~~~~~~~~~~~~~~~~~~~~~~~~~~~~~~~~~~~~~~~~~~~~~~~~~~~~~
/home/biocbuild/bbs-3.20-bioc/R/site-library/RcppEigen/include/Eigen/src/Core/util/XprHelper.h:190:83: warning: ignoring attributes on template argument ‘Eigen::internal::packet_traits<double>::type’ {aka ‘__m128d’} [-Wignored-attributes]
/home/biocbuild/bbs-3.20-bioc/R/site-library/RcppEigen/include/Eigen/src/Core/util/XprHelper.h:190:83: warning: ignoring attributes on template argument ‘Eigen::internal::unpacket_traits<__vector(2) double>::half’ {aka ‘__m128d’} [-Wignored-attributes]
/home/biocbuild/bbs-3.20-bioc/R/site-library/RcppEigen/include/Eigen/src/Core/util/XprHelper.h:208:88: warning: ignoring attributes on template argument ‘Eigen::internal::packet_traits<double>::type’ {aka ‘__m128d’} [-Wignored-attributes]
  208 |   typedef typename find_best_packet_helper<Size,typename packet_traits<T>::type>::type type;
      |                                                                                        ^~~~
In file included from /home/biocbuild/bbs-3.20-bioc/R/site-library/RcppEigen/include/Eigen/Core:271,
                 from /home/biocbuild/bbs-3.20-bioc/R/site-library/RcppEigen/include/Eigen/Dense:1,
                 from /home/biocbuild/bbs-3.20-bioc/R/site-library/RcppEigen/include/RcppEigenForward.h:28,
                 from /home/biocbuild/bbs-3.20-bioc/R/site-library/RcppEigen/include/RcppEigen.h:25,
                 from RHGC_unordered_map.cpp:8:
/home/biocbuild/bbs-3.20-bioc/R/site-library/RcppEigen/include/Eigen/src/Core/DenseCoeffsBase.h: In instantiation of ‘class Eigen::DenseCoeffsBase<Eigen::Matrix<double, 4, 1>, 0>’:
/home/biocbuild/bbs-3.20-bioc/R/site-library/RcppEigen/include/Eigen/src/Core/DenseCoeffsBase.h:302:7:   required from ‘class Eigen::DenseCoeffsBase<Eigen::Matrix<double, 4, 1>, 1>’
/home/biocbuild/bbs-3.20-bioc/R/site-library/RcppEigen/include/Eigen/src/Core/DenseCoeffsBase.h:555:7:   required from ‘class Eigen::DenseCoeffsBase<Eigen::Matrix<double, 4, 1>, 3>’
/home/biocbuild/bbs-3.20-bioc/R/site-library/RcppEigen/include/Eigen/src/Core/DenseBase.h:41:34:   required from ‘class Eigen::DenseBase<Eigen::Matrix<double, 4, 1> >’
/home/biocbuild/bbs-3.20-bioc/R/site-library/RcppEigen/include/Eigen/src/Core/MatrixBase.h:48:34:   required from ‘class Eigen::MatrixBase<Eigen::Matrix<double, 4, 1> >’
/home/biocbuild/bbs-3.20-bioc/R/site-library/RcppEigen/include/Eigen/src/Core/PlainObjectBase.h:98:7:   required from ‘class Eigen::PlainObjectBase<Eigen::Matrix<double, 4, 1> >’
/home/biocbuild/bbs-3.20-bioc/R/site-library/RcppEigen/include/Eigen/src/Core/Matrix.h:178:7:   required from ‘class Eigen::Matrix<double, 4, 1>’
/home/biocbuild/bbs-3.20-bioc/R/site-library/RcppEigen/include/Eigen/src/Geometry/Quaternion.h:46:50:   required from ‘class Eigen::QuaternionBase<Eigen::Quaternion<double> >’
/home/biocbuild/bbs-3.20-bioc/R/site-library/RcppEigen/include/Eigen/src/Geometry/Quaternion.h:273:7:   required from ‘class Eigen::Quaternion<double>’
/home/biocbuild/bbs-3.20-bioc/R/site-library/RcppEigen/include/Eigen/src/Geometry/arch/Geometry_SIMD.h:102:3:   required from here
/home/biocbuild/bbs-3.20-bioc/R/site-library/RcppEigen/include/Eigen/src/Core/DenseCoeffsBase.h:56:30: warning: ignoring attributes on template argument ‘Eigen::internal::packet_traits<double>::type’ {aka ‘__m128d’} [-Wignored-attributes]
   56 |                      >::type PacketReturnType;
      |                              ^~~~~~~~~~~~~~~~
In file included from /home/biocbuild/bbs-3.20-bioc/R/site-library/RcppEigen/include/Eigen/SparseCore:37,
                 from /home/biocbuild/bbs-3.20-bioc/R/site-library/RcppEigen/include/Eigen/Sparse:26,
                 from /home/biocbuild/bbs-3.20-bioc/R/site-library/RcppEigen/include/RcppEigenForward.h:29,
                 from /home/biocbuild/bbs-3.20-bioc/R/site-library/RcppEigen/include/RcppEigen.h:25,
                 from RHGC_unordered_map.cpp:8:
/home/biocbuild/bbs-3.20-bioc/R/site-library/RcppEigen/include/Eigen/src/SparseCore/SparseMatrixBase.h: In instantiation of ‘class Eigen::SparseMatrixBase<Eigen::SparseMatrix<double, 0, int> >’:
/home/biocbuild/bbs-3.20-bioc/R/site-library/RcppEigen/include/Eigen/src/SparseCore/SparseCompressedBase.h:36:7:   required from ‘class Eigen::SparseCompressedBase<Eigen::SparseMatrix<double, 0, int> >’
/home/biocbuild/bbs-3.20-bioc/R/site-library/RcppEigen/include/Eigen/src/SparseCore/SparseMatrix.h:96:7:   required from ‘class Eigen::SparseMatrix<double, 0, int>’
/home/biocbuild/bbs-3.20-bioc/R/site-library/RcppEigen/include/unsupported/Eigen/src/IterativeSolvers/ConstrainedConjGrad.h:61:25:   required from here
/home/biocbuild/bbs-3.20-bioc/R/site-library/RcppEigen/include/Eigen/src/SparseCore/SparseMatrixBase.h:47:30: warning: ignoring attributes on template argument ‘Eigen::internal::packet_traits<double>::type’ {aka ‘__m128d’} [-Wignored-attributes]
   47 |                      >::type PacketReturnType;
      |                              ^~~~~~~~~~~~~~~~
RHGC_unordered_map.cpp: In function ‘Rcpp::NumericMatrix HierarCluster_paris(Eigen::SparseMatrix<double, 0, int>)’:
RHGC_unordered_map.cpp:35:27: warning: comparison of integer expressions of different signedness: ‘int’ and ‘std::vector<std::unordered_map<int, double> >::size_type’ {aka ‘long unsigned int’} [-Wsign-compare]
   35 |         for (int i = 0; i < G.adj.size(); i++) {
      |                         ~~^~~~~~~~~~~~~~
RHGC_unordered_map.cpp:43:31: warning: comparison of integer expressions of different signedness: ‘int’ and ‘std::vector<std::unordered_map<int, double> >::size_type’ {aka ‘long unsigned int’} [-Wsign-compare]
   43 |             for (int i = 0; i < G.adj.size(); i++) {
      |                             ~~^~~~~~~~~~~~~~
RHGC_unordered_map.cpp:133:27: warning: comparison of integer expressions of different signedness: ‘int’ and ‘std::vector<std::vector<int> >::size_type’ {aka ‘long unsigned int’} [-Wsign-compare]
  133 |         for (int i = 0; i < cc.size(); i++) {
      |                         ~~^~~~~~~~~~~
In file included from /home/biocbuild/bbs-3.20-bioc/R/site-library/RcppEigen/include/Eigen/Core:271,
                 from /home/biocbuild/bbs-3.20-bioc/R/site-library/RcppEigen/include/Eigen/Dense:1,
                 from /home/biocbuild/bbs-3.20-bioc/R/site-library/RcppEigen/include/RcppEigenForward.h:28,
                 from /home/biocbuild/bbs-3.20-bioc/R/site-library/RcppEigen/include/RcppEigen.h:25,
                 from RHGC_unordered_map.cpp:8:
/home/biocbuild/bbs-3.20-bioc/R/site-library/RcppEigen/include/Eigen/src/Core/DenseCoeffsBase.h: In instantiation of ‘class Eigen::DenseCoeffsBase<Eigen::SparseMatrix<double, 0, int>, 0>’:
/home/biocbuild/bbs-3.20-bioc/R/site-library/RcppEigen/include/Eigen/src/SparseCore/SparseCompressedBase.h:336:80:   required from ‘struct Eigen::internal::evaluator<Eigen::SparseCompressedBase<Eigen::SparseMatrix<double, 0, int> > >’
/home/biocbuild/bbs-3.20-bioc/R/site-library/RcppEigen/include/Eigen/src/SparseCore/SparseMatrix.h:1505:8:   required from ‘struct Eigen::internal::evaluator<Eigen::SparseMatrix<double, 0, int> >’
/home/biocbuild/bbs-3.20-bioc/R/site-library/RcppEigen/include/Eigen/src/SparseCore/SparseAssign.h:77:20:   required from ‘void Eigen::internal::assign_sparse_to_sparse(DstXprType&, const SrcXprType&) [with DstXprType = Eigen::SparseMatrix<double, 0, int>; SrcXprType = Eigen::SparseMatrix<double, 0, int>]’
/home/biocbuild/bbs-3.20-bioc/R/site-library/RcppEigen/include/Eigen/src/SparseCore/SparseAssign.h:132:28:   required from ‘static void Eigen::internal::Assignment<DstXprType, SrcXprType, Functor, Eigen::internal::Sparse2Sparse>::run(DstXprType&, const SrcXprType&, const Eigen::internal::assign_op<typename DstXprType::Scalar, typename SrcXprType::Scalar>&) [with DstXprType = Eigen::SparseMatrix<double, 0, int>; SrcXprType = Eigen::SparseMatrix<double, 0, int>; Functor = Eigen::internal::assign_op<double, double>; typename SrcXprType::Scalar = double; typename DstXprType::Scalar = double]’
/home/biocbuild/bbs-3.20-bioc/R/site-library/RcppEigen/include/Eigen/src/Core/AssignEvaluator.h:890:49:   required from ‘void Eigen::internal::call_assignment_no_alias(Dst&, const Src&, const Func&) [with Dst = Eigen::SparseMatrix<double, 0, int>; Src = Eigen::SparseMatrix<double, 0, int>; Func = Eigen::internal::assign_op<double, double>]’
/home/biocbuild/bbs-3.20-bioc/R/site-library/RcppEigen/include/Eigen/src/Core/AssignEvaluator.h:917:27:   required from ‘void Eigen::internal::call_assignment_no_alias(Dst&, const Src&) [with Dst = Eigen::SparseMatrix<double, 0, int>; Src = Eigen::SparseMatrix<double, 0, int>]’
/home/biocbuild/bbs-3.20-bioc/R/site-library/RcppEigen/include/Eigen/src/SparseCore/SparseAssign.h:45:37:   required from ‘Derived& Eigen::SparseMatrixBase<Derived>::operator=(const Derived&) [with Derived = Eigen::SparseMatrix<double, 0, int>]’
/home/biocbuild/bbs-3.20-bioc/R/site-library/RcppEigen/include/Eigen/src/SparseCore/SparseMatrix.h:778:26:   required from ‘Eigen::SparseMatrix<_Scalar, _Flags, _StorageIndex>& Eigen::SparseMatrix<_Scalar, _Flags, _StorageIndex>::operator=(const Eigen::SparseMatrix<_Scalar, _Flags, _StorageIndex>&) [with _Scalar = double; int _Options = 0; _StorageIndex = int]’
/home/biocbuild/bbs-3.20-bioc/R/site-library/RcppEigen/include/Eigen/src/SparseCore/SparseMatrix.h:713:13:   required from ‘Eigen::SparseMatrix<_Scalar, _Flags, _StorageIndex>::SparseMatrix(const Eigen::SparseMatrix<_Scalar, _Flags, _StorageIndex>&) [with _Scalar = double; int _Options = 0; _StorageIndex = int]’
RHGC_unordered_map.cpp:21:14:   required from here
/home/biocbuild/bbs-3.20-bioc/R/site-library/RcppEigen/include/Eigen/src/Core/DenseCoeffsBase.h:56:30: warning: ignoring attributes on template argument ‘Eigen::internal::packet_traits<double>::type’ {aka ‘__m128d’} [-Wignored-attributes]
   56 |                      >::type PacketReturnType;
      |                              ^~~~~~~~~~~~~~~~
g++ -std=gnu++11 -I"/home/biocbuild/bbs-3.20-bioc/R/include" -DNDEBUG  -I'/home/biocbuild/bbs-3.20-bioc/R/site-library/Rcpp/include' -I'/home/biocbuild/bbs-3.20-bioc/R/site-library/RcppEigen/include' -I/usr/local/include    -fpic  -g -O2  -Wall  -c RTime.cpp -o RTime.o
In file included from /home/biocbuild/bbs-3.20-bioc/R/site-library/RcppEigen/include/Eigen/Core:205,
                 from /home/biocbuild/bbs-3.20-bioc/R/site-library/RcppEigen/include/Eigen/Dense:1,
                 from /home/biocbuild/bbs-3.20-bioc/R/site-library/RcppEigen/include/RcppEigenForward.h:28,
                 from /home/biocbuild/bbs-3.20-bioc/R/site-library/RcppEigen/include/RcppEigen.h:25,
                 from RTime.cpp:6:
/home/biocbuild/bbs-3.20-bioc/R/site-library/RcppEigen/include/Eigen/src/Core/arch/SSE/PacketMath.h:46:40: warning: ignoring attributes on template argument ‘__m128i’ [-Wignored-attributes]
   46 | typedef eigen_packet_wrapper<__m128i, 0> Packet4i;
      |                                        ^
/home/biocbuild/bbs-3.20-bioc/R/site-library/RcppEigen/include/Eigen/src/Core/arch/SSE/PacketMath.h:47:40: warning: ignoring attributes on template argument ‘__m128i’ [-Wignored-attributes]
   47 | typedef eigen_packet_wrapper<__m128i, 1> Packet16b;
      |                                        ^
/home/biocbuild/bbs-3.20-bioc/R/site-library/RcppEigen/include/Eigen/src/Core/arch/SSE/PacketMath.h:49:39: warning: ignoring attributes on template argument ‘__m128’ [-Wignored-attributes]
   49 | template<> struct is_arithmetic<__m128>  { enum { value = true }; };
      |                                       ^
/home/biocbuild/bbs-3.20-bioc/R/site-library/RcppEigen/include/Eigen/src/Core/arch/SSE/PacketMath.h:50:40: warning: ignoring attributes on template argument ‘__m128i’ [-Wignored-attributes]
   50 | template<> struct is_arithmetic<__m128i> { enum { value = true }; };
      |                                        ^
/home/biocbuild/bbs-3.20-bioc/R/site-library/RcppEigen/include/Eigen/src/Core/arch/SSE/PacketMath.h:51:40: warning: ignoring attributes on template argument ‘__m128d’ [-Wignored-attributes]
   51 | template<> struct is_arithmetic<__m128d> { enum { value = true }; };
      |                                        ^
/home/biocbuild/bbs-3.20-bioc/R/site-library/RcppEigen/include/Eigen/src/Core/arch/SSE/PacketMath.h:222:43: warning: ignoring attributes on template argument ‘Eigen::internal::Packet4f’ {aka ‘__m128’} [-Wignored-attributes]
  222 | template<> struct unpacket_traits<Packet4f> {
      |                                           ^
/home/biocbuild/bbs-3.20-bioc/R/site-library/RcppEigen/include/Eigen/src/Core/arch/SSE/PacketMath.h:228:43: warning: ignoring attributes on template argument ‘Eigen::internal::Packet2d’ {aka ‘__m128d’} [-Wignored-attributes]
  228 | template<> struct unpacket_traits<Packet2d> {
      |                                           ^
/home/biocbuild/bbs-3.20-bioc/R/site-library/RcppEigen/include/Eigen/src/Core/arch/SSE/PacketMath.h:1124:34: warning: ignoring attributes on template argument ‘Eigen::internal::Packet4f’ {aka ‘__m128’} [-Wignored-attributes]
 1124 | ptranspose(PacketBlock<Packet4f,4>& kernel) {
      |                                  ^
/home/biocbuild/bbs-3.20-bioc/R/site-library/RcppEigen/include/Eigen/src/Core/arch/SSE/PacketMath.h:1129:34: warning: ignoring attributes on template argument ‘Eigen::internal::Packet2d’ {aka ‘__m128d’} [-Wignored-attributes]
 1129 | ptranspose(PacketBlock<Packet2d,2>& kernel) {
      |                                  ^
In file included from /home/biocbuild/bbs-3.20-bioc/R/site-library/RcppEigen/include/Eigen/Core:174,
                 from /home/biocbuild/bbs-3.20-bioc/R/site-library/RcppEigen/include/Eigen/Dense:1,
                 from /home/biocbuild/bbs-3.20-bioc/R/site-library/RcppEigen/include/RcppEigenForward.h:28,
                 from /home/biocbuild/bbs-3.20-bioc/R/site-library/RcppEigen/include/RcppEigen.h:25,
                 from RTime.cpp:6:
/home/biocbuild/bbs-3.20-bioc/R/site-library/RcppEigen/include/Eigen/src/Core/arch/Default/ConjHelper.h:16:60: warning: ignoring attributes on template argument ‘Eigen::internal::Packet4f’ {aka ‘__m128’} [-Wignored-attributes]
   16 |   struct conj_helper<PACKET_REAL, PACKET_CPLX, false, false> {          \
      |                                                            ^
/home/biocbuild/bbs-3.20-bioc/R/site-library/RcppEigen/include/Eigen/src/Core/arch/SSE/Complex.h:173:1: note: in expansion of macro ‘EIGEN_MAKE_CONJ_HELPER_CPLX_REAL’
  173 | EIGEN_MAKE_CONJ_HELPER_CPLX_REAL(Packet2cf,Packet4f)
      | ^~~~~~~~~~~~~~~~~~~~~~~~~~~~~~~~
/home/biocbuild/bbs-3.20-bioc/R/site-library/RcppEigen/include/Eigen/src/Core/arch/Default/ConjHelper.h:29:60: warning: ignoring attributes on template argument ‘Eigen::internal::Packet4f’ {aka ‘__m128’} [-Wignored-attributes]
   29 |   struct conj_helper<PACKET_CPLX, PACKET_REAL, false, false> {          \
      |                                                            ^
/home/biocbuild/bbs-3.20-bioc/R/site-library/RcppEigen/include/Eigen/src/Core/arch/SSE/Complex.h:173:1: note: in expansion of macro ‘EIGEN_MAKE_CONJ_HELPER_CPLX_REAL’
  173 | EIGEN_MAKE_CONJ_HELPER_CPLX_REAL(Packet2cf,Packet4f)
      | ^~~~~~~~~~~~~~~~~~~~~~~~~~~~~~~~
/home/biocbuild/bbs-3.20-bioc/R/site-library/RcppEigen/include/Eigen/src/Core/arch/Default/ConjHelper.h:16:60: warning: ignoring attributes on template argument ‘Eigen::internal::Packet2d’ {aka ‘__m128d’} [-Wignored-attributes]
   16 |   struct conj_helper<PACKET_REAL, PACKET_CPLX, false, false> {          \
      |                                                            ^
/home/biocbuild/bbs-3.20-bioc/R/site-library/RcppEigen/include/Eigen/src/Core/arch/SSE/Complex.h:298:1: note: in expansion of macro ‘EIGEN_MAKE_CONJ_HELPER_CPLX_REAL’
  298 | EIGEN_MAKE_CONJ_HELPER_CPLX_REAL(Packet1cd,Packet2d)
      | ^~~~~~~~~~~~~~~~~~~~~~~~~~~~~~~~
/home/biocbuild/bbs-3.20-bioc/R/site-library/RcppEigen/include/Eigen/src/Core/arch/Default/ConjHelper.h:29:60: warning: ignoring attributes on template argument ‘Eigen::internal::Packet2d’ {aka ‘__m128d’} [-Wignored-attributes]
   29 |   struct conj_helper<PACKET_CPLX, PACKET_REAL, false, false> {          \
      |                                                            ^
/home/biocbuild/bbs-3.20-bioc/R/site-library/RcppEigen/include/Eigen/src/Core/arch/SSE/Complex.h:298:1: note: in expansion of macro ‘EIGEN_MAKE_CONJ_HELPER_CPLX_REAL’
  298 | EIGEN_MAKE_CONJ_HELPER_CPLX_REAL(Packet1cd,Packet2d)
      | ^~~~~~~~~~~~~~~~~~~~~~~~~~~~~~~~
In file included from /home/biocbuild/bbs-3.20-bioc/R/site-library/RcppEigen/include/Eigen/Core:165,
                 from /home/biocbuild/bbs-3.20-bioc/R/site-library/RcppEigen/include/Eigen/Dense:1,
                 from /home/biocbuild/bbs-3.20-bioc/R/site-library/RcppEigen/include/RcppEigenForward.h:28,
                 from /home/biocbuild/bbs-3.20-bioc/R/site-library/RcppEigen/include/RcppEigen.h:25,
                 from RTime.cpp:6:
/home/biocbuild/bbs-3.20-bioc/R/site-library/RcppEigen/include/Eigen/src/Core/util/XprHelper.h: In instantiation of ‘struct Eigen::internal::find_best_packet<float, 4>’:
/home/biocbuild/bbs-3.20-bioc/R/site-library/RcppEigen/include/Eigen/src/Core/Matrix.h:22:57:   required from ‘struct Eigen::internal::traits<Eigen::Matrix<float, 4, 1> >’
/home/biocbuild/bbs-3.20-bioc/R/site-library/RcppEigen/include/Eigen/src/Geometry/Quaternion.h:266:49:   required from ‘struct Eigen::internal::traits<Eigen::Quaternion<float> >’
/home/biocbuild/bbs-3.20-bioc/R/site-library/RcppEigen/include/Eigen/src/Geometry/arch/Geometry_SIMD.h:24:46:   required from here
/home/biocbuild/bbs-3.20-bioc/R/site-library/RcppEigen/include/Eigen/src/Core/util/XprHelper.h:190:44: warning: ignoring attributes on template argument ‘Eigen::internal::packet_traits<float>::type’ {aka ‘__m128’} [-Wignored-attributes]
  190 |          bool Stop = Size==Dynamic || (Size%unpacket_traits<PacketType>::size)==0 || is_same<PacketType,typename unpacket_traits<PacketType>::half>::value>
      |                                       ~~~~~^~~~~~~~~~~~~~~~~~~~~~~~~~~~~~~~~~~
/home/biocbuild/bbs-3.20-bioc/R/site-library/RcppEigen/include/Eigen/src/Core/util/XprHelper.h:190:83: warning: ignoring attributes on template argument ‘Eigen::internal::packet_traits<float>::type’ {aka ‘__m128’} [-Wignored-attributes]
  190 |          bool Stop = Size==Dynamic || (Size%unpacket_traits<PacketType>::size)==0 || is_same<PacketType,typename unpacket_traits<PacketType>::half>::value>
      |                      ~~~~~~~~~~~~~~~~~~~~~~~~~~~~~~~~~~~~~~~~~~~~~~~~~~~~~~~~~~~~~^~~~~~~~~~~~~~~~~~~~~~~~~~~~~~~~~~~~~~~~~~~~~~~~~~~~~~~~~~~~~~~~~~~~~~~~
/home/biocbuild/bbs-3.20-bioc/R/site-library/RcppEigen/include/Eigen/src/Core/util/XprHelper.h:190:83: warning: ignoring attributes on template argument ‘Eigen::internal::packet_traits<float>::type’ {aka ‘__m128’} [-Wignored-attributes]
/home/biocbuild/bbs-3.20-bioc/R/site-library/RcppEigen/include/Eigen/src/Core/util/XprHelper.h:190:83: warning: ignoring attributes on template argument ‘Eigen::internal::unpacket_traits<__vector(4) float>::half’ {aka ‘__m128’} [-Wignored-attributes]
/home/biocbuild/bbs-3.20-bioc/R/site-library/RcppEigen/include/Eigen/src/Core/util/XprHelper.h:208:88: warning: ignoring attributes on template argument ‘Eigen::internal::packet_traits<float>::type’ {aka ‘__m128’} [-Wignored-attributes]
  208 |   typedef typename find_best_packet_helper<Size,typename packet_traits<T>::type>::type type;
      |                                                                                        ^~~~
In file included from /home/biocbuild/bbs-3.20-bioc/R/site-library/RcppEigen/include/Eigen/Core:271,
                 from /home/biocbuild/bbs-3.20-bioc/R/site-library/RcppEigen/include/Eigen/Dense:1,
                 from /home/biocbuild/bbs-3.20-bioc/R/site-library/RcppEigen/include/RcppEigenForward.h:28,
                 from /home/biocbuild/bbs-3.20-bioc/R/site-library/RcppEigen/include/RcppEigen.h:25,
                 from RTime.cpp:6:
/home/biocbuild/bbs-3.20-bioc/R/site-library/RcppEigen/include/Eigen/src/Core/DenseCoeffsBase.h: In instantiation of ‘class Eigen::DenseCoeffsBase<Eigen::Matrix<float, 4, 1>, 0>’:
/home/biocbuild/bbs-3.20-bioc/R/site-library/RcppEigen/include/Eigen/src/Core/DenseCoeffsBase.h:302:7:   required from ‘class Eigen::DenseCoeffsBase<Eigen::Matrix<float, 4, 1>, 1>’
/home/biocbuild/bbs-3.20-bioc/R/site-library/RcppEigen/include/Eigen/src/Core/DenseCoeffsBase.h:555:7:   required from ‘class Eigen::DenseCoeffsBase<Eigen::Matrix<float, 4, 1>, 3>’
/home/biocbuild/bbs-3.20-bioc/R/site-library/RcppEigen/include/Eigen/src/Core/DenseBase.h:41:34:   required from ‘class Eigen::DenseBase<Eigen::Matrix<float, 4, 1> >’
/home/biocbuild/bbs-3.20-bioc/R/site-library/RcppEigen/include/Eigen/src/Core/MatrixBase.h:48:34:   required from ‘class Eigen::MatrixBase<Eigen::Matrix<float, 4, 1> >’
/home/biocbuild/bbs-3.20-bioc/R/site-library/RcppEigen/include/Eigen/src/Core/PlainObjectBase.h:98:7:   required from ‘class Eigen::PlainObjectBase<Eigen::Matrix<float, 4, 1> >’
/home/biocbuild/bbs-3.20-bioc/R/site-library/RcppEigen/include/Eigen/src/Core/Matrix.h:178:7:   required from ‘class Eigen::Matrix<float, 4, 1>’
/home/biocbuild/bbs-3.20-bioc/R/site-library/RcppEigen/include/Eigen/src/Geometry/Quaternion.h:46:50:   required from ‘class Eigen::QuaternionBase<Eigen::Quaternion<float> >’
/home/biocbuild/bbs-3.20-bioc/R/site-library/RcppEigen/include/Eigen/src/Geometry/Quaternion.h:273:7:   required from ‘class Eigen::Quaternion<float>’
/home/biocbuild/bbs-3.20-bioc/R/site-library/RcppEigen/include/Eigen/src/Geometry/arch/Geometry_SIMD.h:27:3:   required from here
/home/biocbuild/bbs-3.20-bioc/R/site-library/RcppEigen/include/Eigen/src/Core/DenseCoeffsBase.h:56:30: warning: ignoring attributes on template argument ‘Eigen::internal::packet_traits<float>::type’ {aka ‘__m128’} [-Wignored-attributes]
   56 |                      >::type PacketReturnType;
      |                              ^~~~~~~~~~~~~~~~
In file included from /home/biocbuild/bbs-3.20-bioc/R/site-library/RcppEigen/include/Eigen/Core:165,
                 from /home/biocbuild/bbs-3.20-bioc/R/site-library/RcppEigen/include/Eigen/Dense:1,
                 from /home/biocbuild/bbs-3.20-bioc/R/site-library/RcppEigen/include/RcppEigenForward.h:28,
                 from /home/biocbuild/bbs-3.20-bioc/R/site-library/RcppEigen/include/RcppEigen.h:25,
                 from RTime.cpp:6:
/home/biocbuild/bbs-3.20-bioc/R/site-library/RcppEigen/include/Eigen/src/Core/util/XprHelper.h: In instantiation of ‘struct Eigen::internal::find_best_packet<double, 4>’:
/home/biocbuild/bbs-3.20-bioc/R/site-library/RcppEigen/include/Eigen/src/Core/Matrix.h:22:57:   required from ‘struct Eigen::internal::traits<Eigen::Matrix<double, 4, 1> >’
/home/biocbuild/bbs-3.20-bioc/R/site-library/RcppEigen/include/Eigen/src/Geometry/Quaternion.h:266:49:   required from ‘struct Eigen::internal::traits<Eigen::Quaternion<double> >’
/home/biocbuild/bbs-3.20-bioc/R/site-library/RcppEigen/include/Eigen/src/Geometry/arch/Geometry_SIMD.h:98:47:   required from here
/home/biocbuild/bbs-3.20-bioc/R/site-library/RcppEigen/include/Eigen/src/Core/util/XprHelper.h:190:44: warning: ignoring attributes on template argument ‘Eigen::internal::packet_traits<double>::type’ {aka ‘__m128d’} [-Wignored-attributes]
  190 |          bool Stop = Size==Dynamic || (Size%unpacket_traits<PacketType>::size)==0 || is_same<PacketType,typename unpacket_traits<PacketType>::half>::value>
      |                                       ~~~~~^~~~~~~~~~~~~~~~~~~~~~~~~~~~~~~~~~~
/home/biocbuild/bbs-3.20-bioc/R/site-library/RcppEigen/include/Eigen/src/Core/util/XprHelper.h:190:83: warning: ignoring attributes on template argument ‘Eigen::internal::packet_traits<double>::type’ {aka ‘__m128d’} [-Wignored-attributes]
  190 |          bool Stop = Size==Dynamic || (Size%unpacket_traits<PacketType>::size)==0 || is_same<PacketType,typename unpacket_traits<PacketType>::half>::value>
      |                      ~~~~~~~~~~~~~~~~~~~~~~~~~~~~~~~~~~~~~~~~~~~~~~~~~~~~~~~~~~~~~^~~~~~~~~~~~~~~~~~~~~~~~~~~~~~~~~~~~~~~~~~~~~~~~~~~~~~~~~~~~~~~~~~~~~~~~
/home/biocbuild/bbs-3.20-bioc/R/site-library/RcppEigen/include/Eigen/src/Core/util/XprHelper.h:190:83: warning: ignoring attributes on template argument ‘Eigen::internal::packet_traits<double>::type’ {aka ‘__m128d’} [-Wignored-attributes]
/home/biocbuild/bbs-3.20-bioc/R/site-library/RcppEigen/include/Eigen/src/Core/util/XprHelper.h:190:83: warning: ignoring attributes on template argument ‘Eigen::internal::unpacket_traits<__vector(2) double>::half’ {aka ‘__m128d’} [-Wignored-attributes]
/home/biocbuild/bbs-3.20-bioc/R/site-library/RcppEigen/include/Eigen/src/Core/util/XprHelper.h:208:88: warning: ignoring attributes on template argument ‘Eigen::internal::packet_traits<double>::type’ {aka ‘__m128d’} [-Wignored-attributes]
  208 |   typedef typename find_best_packet_helper<Size,typename packet_traits<T>::type>::type type;
      |                                                                                        ^~~~
In file included from /home/biocbuild/bbs-3.20-bioc/R/site-library/RcppEigen/include/Eigen/Core:271,
                 from /home/biocbuild/bbs-3.20-bioc/R/site-library/RcppEigen/include/Eigen/Dense:1,
                 from /home/biocbuild/bbs-3.20-bioc/R/site-library/RcppEigen/include/RcppEigenForward.h:28,
                 from /home/biocbuild/bbs-3.20-bioc/R/site-library/RcppEigen/include/RcppEigen.h:25,
                 from RTime.cpp:6:
/home/biocbuild/bbs-3.20-bioc/R/site-library/RcppEigen/include/Eigen/src/Core/DenseCoeffsBase.h: In instantiation of ‘class Eigen::DenseCoeffsBase<Eigen::Matrix<double, 4, 1>, 0>’:
/home/biocbuild/bbs-3.20-bioc/R/site-library/RcppEigen/include/Eigen/src/Core/DenseCoeffsBase.h:302:7:   required from ‘class Eigen::DenseCoeffsBase<Eigen::Matrix<double, 4, 1>, 1>’
/home/biocbuild/bbs-3.20-bioc/R/site-library/RcppEigen/include/Eigen/src/Core/DenseCoeffsBase.h:555:7:   required from ‘class Eigen::DenseCoeffsBase<Eigen::Matrix<double, 4, 1>, 3>’
/home/biocbuild/bbs-3.20-bioc/R/site-library/RcppEigen/include/Eigen/src/Core/DenseBase.h:41:34:   required from ‘class Eigen::DenseBase<Eigen::Matrix<double, 4, 1> >’
/home/biocbuild/bbs-3.20-bioc/R/site-library/RcppEigen/include/Eigen/src/Core/MatrixBase.h:48:34:   required from ‘class Eigen::MatrixBase<Eigen::Matrix<double, 4, 1> >’
/home/biocbuild/bbs-3.20-bioc/R/site-library/RcppEigen/include/Eigen/src/Core/PlainObjectBase.h:98:7:   required from ‘class Eigen::PlainObjectBase<Eigen::Matrix<double, 4, 1> >’
/home/biocbuild/bbs-3.20-bioc/R/site-library/RcppEigen/include/Eigen/src/Core/Matrix.h:178:7:   required from ‘class Eigen::Matrix<double, 4, 1>’
/home/biocbuild/bbs-3.20-bioc/R/site-library/RcppEigen/include/Eigen/src/Geometry/Quaternion.h:46:50:   required from ‘class Eigen::QuaternionBase<Eigen::Quaternion<double> >’
/home/biocbuild/bbs-3.20-bioc/R/site-library/RcppEigen/include/Eigen/src/Geometry/Quaternion.h:273:7:   required from ‘class Eigen::Quaternion<double>’
/home/biocbuild/bbs-3.20-bioc/R/site-library/RcppEigen/include/Eigen/src/Geometry/arch/Geometry_SIMD.h:102:3:   required from here
/home/biocbuild/bbs-3.20-bioc/R/site-library/RcppEigen/include/Eigen/src/Core/DenseCoeffsBase.h:56:30: warning: ignoring attributes on template argument ‘Eigen::internal::packet_traits<double>::type’ {aka ‘__m128d’} [-Wignored-attributes]
   56 |                      >::type PacketReturnType;
      |                              ^~~~~~~~~~~~~~~~
In file included from /home/biocbuild/bbs-3.20-bioc/R/site-library/RcppEigen/include/Eigen/SparseCore:37,
                 from /home/biocbuild/bbs-3.20-bioc/R/site-library/RcppEigen/include/Eigen/Sparse:26,
                 from /home/biocbuild/bbs-3.20-bioc/R/site-library/RcppEigen/include/RcppEigenForward.h:29,
                 from /home/biocbuild/bbs-3.20-bioc/R/site-library/RcppEigen/include/RcppEigen.h:25,
                 from RTime.cpp:6:
/home/biocbuild/bbs-3.20-bioc/R/site-library/RcppEigen/include/Eigen/src/SparseCore/SparseMatrixBase.h: In instantiation of ‘class Eigen::SparseMatrixBase<Eigen::SparseMatrix<double, 0, int> >’:
/home/biocbuild/bbs-3.20-bioc/R/site-library/RcppEigen/include/Eigen/src/SparseCore/SparseCompressedBase.h:36:7:   required from ‘class Eigen::SparseCompressedBase<Eigen::SparseMatrix<double, 0, int> >’
/home/biocbuild/bbs-3.20-bioc/R/site-library/RcppEigen/include/Eigen/src/SparseCore/SparseMatrix.h:96:7:   required from ‘class Eigen::SparseMatrix<double, 0, int>’
/home/biocbuild/bbs-3.20-bioc/R/site-library/RcppEigen/include/unsupported/Eigen/src/IterativeSolvers/ConstrainedConjGrad.h:61:25:   required from here
/home/biocbuild/bbs-3.20-bioc/R/site-library/RcppEigen/include/Eigen/src/SparseCore/SparseMatrixBase.h:47:30: warning: ignoring attributes on template argument ‘Eigen::internal::packet_traits<double>::type’ {aka ‘__m128d’} [-Wignored-attributes]
   47 |                      >::type PacketReturnType;
      |                              ^~~~~~~~~~~~~~~~
RTime.cpp: In function ‘Rcpp::NumericMatrix HierarCluster_paris_time(Eigen::SparseMatrix<double, 0, int>)’:
RTime.cpp:36:23: warning: comparison of integer expressions of different signedness: ‘int’ and ‘std::vector<std::unordered_map<int, double> >::size_type’ {aka ‘long unsigned int’} [-Wsign-compare]
   36 |     for (int i = 0; i < G.adj.size(); i++) {
      |                     ~~^~~~~~~~~~~~~~
RTime.cpp:44:25: warning: comparison of integer expressions of different signedness: ‘int’ and ‘std::vector<std::unordered_map<int, double> >::size_type’ {aka ‘long unsigned int’} [-Wsign-compare]
   44 |       for (int i = 0; i < G.adj.size(); i++) {
      |                       ~~^~~~~~~~~~~~~~
RTime.cpp:132:17: warning: comparison of integer expressions of different signedness: ‘int’ and ‘std::vector<int>::size_type’ {aka ‘long unsigned int’} [-Wsign-compare]
  132 |   for(int i=0; i<chain_record.size(); i++){
      |                ~^~~~~~~~~~~~~~~~~~~~
RTime.cpp:135:17: warning: comparison of integer expressions of different signedness: ‘int’ and ‘std::vector<int>::size_type’ {aka ‘long unsigned int’} [-Wsign-compare]
  135 |   for(int i=0; i<chain_record.size(); i++){
      |                ~^~~~~~~~~~~~~~~~~~~~
In file included from /home/biocbuild/bbs-3.20-bioc/R/site-library/RcppEigen/include/Eigen/Core:271,
                 from /home/biocbuild/bbs-3.20-bioc/R/site-library/RcppEigen/include/Eigen/Dense:1,
                 from /home/biocbuild/bbs-3.20-bioc/R/site-library/RcppEigen/include/RcppEigenForward.h:28,
                 from /home/biocbuild/bbs-3.20-bioc/R/site-library/RcppEigen/include/RcppEigen.h:25,
                 from RTime.cpp:6:
/home/biocbuild/bbs-3.20-bioc/R/site-library/RcppEigen/include/Eigen/src/Core/DenseCoeffsBase.h: In instantiation of ‘class Eigen::DenseCoeffsBase<Eigen::SparseMatrix<double, 0, int>, 0>’:
/home/biocbuild/bbs-3.20-bioc/R/site-library/RcppEigen/include/Eigen/src/SparseCore/SparseCompressedBase.h:336:80:   required from ‘struct Eigen::internal::evaluator<Eigen::SparseCompressedBase<Eigen::SparseMatrix<double, 0, int> > >’
/home/biocbuild/bbs-3.20-bioc/R/site-library/RcppEigen/include/Eigen/src/SparseCore/SparseMatrix.h:1505:8:   required from ‘struct Eigen::internal::evaluator<Eigen::SparseMatrix<double, 0, int> >’
/home/biocbuild/bbs-3.20-bioc/R/site-library/RcppEigen/include/Eigen/src/SparseCore/SparseAssign.h:77:20:   required from ‘void Eigen::internal::assign_sparse_to_sparse(DstXprType&, const SrcXprType&) [with DstXprType = Eigen::SparseMatrix<double, 0, int>; SrcXprType = Eigen::SparseMatrix<double, 0, int>]’
/home/biocbuild/bbs-3.20-bioc/R/site-library/RcppEigen/include/Eigen/src/SparseCore/SparseAssign.h:132:28:   required from ‘static void Eigen::internal::Assignment<DstXprType, SrcXprType, Functor, Eigen::internal::Sparse2Sparse>::run(DstXprType&, const SrcXprType&, const Eigen::internal::assign_op<typename DstXprType::Scalar, typename SrcXprType::Scalar>&) [with DstXprType = Eigen::SparseMatrix<double, 0, int>; SrcXprType = Eigen::SparseMatrix<double, 0, int>; Functor = Eigen::internal::assign_op<double, double>; typename SrcXprType::Scalar = double; typename DstXprType::Scalar = double]’
/home/biocbuild/bbs-3.20-bioc/R/site-library/RcppEigen/include/Eigen/src/Core/AssignEvaluator.h:890:49:   required from ‘void Eigen::internal::call_assignment_no_alias(Dst&, const Src&, const Func&) [with Dst = Eigen::SparseMatrix<double, 0, int>; Src = Eigen::SparseMatrix<double, 0, int>; Func = Eigen::internal::assign_op<double, double>]’
/home/biocbuild/bbs-3.20-bioc/R/site-library/RcppEigen/include/Eigen/src/Core/AssignEvaluator.h:917:27:   required from ‘void Eigen::internal::call_assignment_no_alias(Dst&, const Src&) [with Dst = Eigen::SparseMatrix<double, 0, int>; Src = Eigen::SparseMatrix<double, 0, int>]’
/home/biocbuild/bbs-3.20-bioc/R/site-library/RcppEigen/include/Eigen/src/SparseCore/SparseAssign.h:45:37:   required from ‘Derived& Eigen::SparseMatrixBase<Derived>::operator=(const Derived&) [with Derived = Eigen::SparseMatrix<double, 0, int>]’
/home/biocbuild/bbs-3.20-bioc/R/site-library/RcppEigen/include/Eigen/src/SparseCore/SparseMatrix.h:778:26:   required from ‘Eigen::SparseMatrix<_Scalar, _Flags, _StorageIndex>& Eigen::SparseMatrix<_Scalar, _Flags, _StorageIndex>::operator=(const Eigen::SparseMatrix<_Scalar, _Flags, _StorageIndex>&) [with _Scalar = double; int _Options = 0; _StorageIndex = int]’
/home/biocbuild/bbs-3.20-bioc/R/site-library/RcppEigen/include/Eigen/src/SparseCore/SparseMatrix.h:713:13:   required from ‘Eigen::SparseMatrix<_Scalar, _Flags, _StorageIndex>::SparseMatrix(const Eigen::SparseMatrix<_Scalar, _Flags, _StorageIndex>&) [with _Scalar = double; int _Options = 0; _StorageIndex = int]’
RTime.cpp:19:12:   required from here
/home/biocbuild/bbs-3.20-bioc/R/site-library/RcppEigen/include/Eigen/src/Core/DenseCoeffsBase.h:56:30: warning: ignoring attributes on template argument ‘Eigen::internal::packet_traits<double>::type’ {aka ‘__m128d’} [-Wignored-attributes]
   56 |                      >::type PacketReturnType;
      |                              ^~~~~~~~~~~~~~~~
g++ -std=gnu++11 -I"/home/biocbuild/bbs-3.20-bioc/R/include" -DNDEBUG  -I'/home/biocbuild/bbs-3.20-bioc/R/site-library/Rcpp/include' -I'/home/biocbuild/bbs-3.20-bioc/R/site-library/RcppEigen/include' -I/usr/local/include    -fpic  -g -O2  -Wall  -c RcppExports.cpp -o RcppExports.o
In file included from /home/biocbuild/bbs-3.20-bioc/R/site-library/RcppEigen/include/Eigen/Core:205,
                 from /home/biocbuild/bbs-3.20-bioc/R/site-library/RcppEigen/include/Eigen/Dense:1,
                 from /home/biocbuild/bbs-3.20-bioc/R/site-library/RcppEigen/include/RcppEigenForward.h:28,
                 from /home/biocbuild/bbs-3.20-bioc/R/site-library/RcppEigen/include/RcppEigen.h:25,
                 from RcppExports.cpp:4:
/home/biocbuild/bbs-3.20-bioc/R/site-library/RcppEigen/include/Eigen/src/Core/arch/SSE/PacketMath.h:46:40: warning: ignoring attributes on template argument ‘__m128i’ [-Wignored-attributes]
   46 | typedef eigen_packet_wrapper<__m128i, 0> Packet4i;
      |                                        ^
/home/biocbuild/bbs-3.20-bioc/R/site-library/RcppEigen/include/Eigen/src/Core/arch/SSE/PacketMath.h:47:40: warning: ignoring attributes on template argument ‘__m128i’ [-Wignored-attributes]
   47 | typedef eigen_packet_wrapper<__m128i, 1> Packet16b;
      |                                        ^
/home/biocbuild/bbs-3.20-bioc/R/site-library/RcppEigen/include/Eigen/src/Core/arch/SSE/PacketMath.h:49:39: warning: ignoring attributes on template argument ‘__m128’ [-Wignored-attributes]
   49 | template<> struct is_arithmetic<__m128>  { enum { value = true }; };
      |                                       ^
/home/biocbuild/bbs-3.20-bioc/R/site-library/RcppEigen/include/Eigen/src/Core/arch/SSE/PacketMath.h:50:40: warning: ignoring attributes on template argument ‘__m128i’ [-Wignored-attributes]
   50 | template<> struct is_arithmetic<__m128i> { enum { value = true }; };
      |                                        ^
/home/biocbuild/bbs-3.20-bioc/R/site-library/RcppEigen/include/Eigen/src/Core/arch/SSE/PacketMath.h:51:40: warning: ignoring attributes on template argument ‘__m128d’ [-Wignored-attributes]
   51 | template<> struct is_arithmetic<__m128d> { enum { value = true }; };
      |                                        ^
/home/biocbuild/bbs-3.20-bioc/R/site-library/RcppEigen/include/Eigen/src/Core/arch/SSE/PacketMath.h:222:43: warning: ignoring attributes on template argument ‘Eigen::internal::Packet4f’ {aka ‘__m128’} [-Wignored-attributes]
  222 | template<> struct unpacket_traits<Packet4f> {
      |                                           ^
/home/biocbuild/bbs-3.20-bioc/R/site-library/RcppEigen/include/Eigen/src/Core/arch/SSE/PacketMath.h:228:43: warning: ignoring attributes on template argument ‘Eigen::internal::Packet2d’ {aka ‘__m128d’} [-Wignored-attributes]
  228 | template<> struct unpacket_traits<Packet2d> {
      |                                           ^
/home/biocbuild/bbs-3.20-bioc/R/site-library/RcppEigen/include/Eigen/src/Core/arch/SSE/PacketMath.h:1124:34: warning: ignoring attributes on template argument ‘Eigen::internal::Packet4f’ {aka ‘__m128’} [-Wignored-attributes]
 1124 | ptranspose(PacketBlock<Packet4f,4>& kernel) {
      |                                  ^
/home/biocbuild/bbs-3.20-bioc/R/site-library/RcppEigen/include/Eigen/src/Core/arch/SSE/PacketMath.h:1129:34: warning: ignoring attributes on template argument ‘Eigen::internal::Packet2d’ {aka ‘__m128d’} [-Wignored-attributes]
 1129 | ptranspose(PacketBlock<Packet2d,2>& kernel) {
      |                                  ^
In file included from /home/biocbuild/bbs-3.20-bioc/R/site-library/RcppEigen/include/Eigen/Core:174,
                 from /home/biocbuild/bbs-3.20-bioc/R/site-library/RcppEigen/include/Eigen/Dense:1,
                 from /home/biocbuild/bbs-3.20-bioc/R/site-library/RcppEigen/include/RcppEigenForward.h:28,
                 from /home/biocbuild/bbs-3.20-bioc/R/site-library/RcppEigen/include/RcppEigen.h:25,
                 from RcppExports.cpp:4:
/home/biocbuild/bbs-3.20-bioc/R/site-library/RcppEigen/include/Eigen/src/Core/arch/Default/ConjHelper.h:16:60: warning: ignoring attributes on template argument ‘Eigen::internal::Packet4f’ {aka ‘__m128’} [-Wignored-attributes]
   16 |   struct conj_helper<PACKET_REAL, PACKET_CPLX, false, false> {          \
      |                                                            ^
/home/biocbuild/bbs-3.20-bioc/R/site-library/RcppEigen/include/Eigen/src/Core/arch/SSE/Complex.h:173:1: note: in expansion of macro ‘EIGEN_MAKE_CONJ_HELPER_CPLX_REAL’
  173 | EIGEN_MAKE_CONJ_HELPER_CPLX_REAL(Packet2cf,Packet4f)
      | ^~~~~~~~~~~~~~~~~~~~~~~~~~~~~~~~
/home/biocbuild/bbs-3.20-bioc/R/site-library/RcppEigen/include/Eigen/src/Core/arch/Default/ConjHelper.h:29:60: warning: ignoring attributes on template argument ‘Eigen::internal::Packet4f’ {aka ‘__m128’} [-Wignored-attributes]
   29 |   struct conj_helper<PACKET_CPLX, PACKET_REAL, false, false> {          \
      |                                                            ^
/home/biocbuild/bbs-3.20-bioc/R/site-library/RcppEigen/include/Eigen/src/Core/arch/SSE/Complex.h:173:1: note: in expansion of macro ‘EIGEN_MAKE_CONJ_HELPER_CPLX_REAL’
  173 | EIGEN_MAKE_CONJ_HELPER_CPLX_REAL(Packet2cf,Packet4f)
      | ^~~~~~~~~~~~~~~~~~~~~~~~~~~~~~~~
/home/biocbuild/bbs-3.20-bioc/R/site-library/RcppEigen/include/Eigen/src/Core/arch/Default/ConjHelper.h:16:60: warning: ignoring attributes on template argument ‘Eigen::internal::Packet2d’ {aka ‘__m128d’} [-Wignored-attributes]
   16 |   struct conj_helper<PACKET_REAL, PACKET_CPLX, false, false> {          \
      |                                                            ^
/home/biocbuild/bbs-3.20-bioc/R/site-library/RcppEigen/include/Eigen/src/Core/arch/SSE/Complex.h:298:1: note: in expansion of macro ‘EIGEN_MAKE_CONJ_HELPER_CPLX_REAL’
  298 | EIGEN_MAKE_CONJ_HELPER_CPLX_REAL(Packet1cd,Packet2d)
      | ^~~~~~~~~~~~~~~~~~~~~~~~~~~~~~~~
/home/biocbuild/bbs-3.20-bioc/R/site-library/RcppEigen/include/Eigen/src/Core/arch/Default/ConjHelper.h:29:60: warning: ignoring attributes on template argument ‘Eigen::internal::Packet2d’ {aka ‘__m128d’} [-Wignored-attributes]
   29 |   struct conj_helper<PACKET_CPLX, PACKET_REAL, false, false> {          \
      |                                                            ^
/home/biocbuild/bbs-3.20-bioc/R/site-library/RcppEigen/include/Eigen/src/Core/arch/SSE/Complex.h:298:1: note: in expansion of macro ‘EIGEN_MAKE_CONJ_HELPER_CPLX_REAL’
  298 | EIGEN_MAKE_CONJ_HELPER_CPLX_REAL(Packet1cd,Packet2d)
      | ^~~~~~~~~~~~~~~~~~~~~~~~~~~~~~~~
In file included from /home/biocbuild/bbs-3.20-bioc/R/site-library/RcppEigen/include/Eigen/Core:165,
                 from /home/biocbuild/bbs-3.20-bioc/R/site-library/RcppEigen/include/Eigen/Dense:1,
                 from /home/biocbuild/bbs-3.20-bioc/R/site-library/RcppEigen/include/RcppEigenForward.h:28,
                 from /home/biocbuild/bbs-3.20-bioc/R/site-library/RcppEigen/include/RcppEigen.h:25,
                 from RcppExports.cpp:4:
/home/biocbuild/bbs-3.20-bioc/R/site-library/RcppEigen/include/Eigen/src/Core/util/XprHelper.h: In instantiation of ‘struct Eigen::internal::find_best_packet<float, 4>’:
/home/biocbuild/bbs-3.20-bioc/R/site-library/RcppEigen/include/Eigen/src/Core/Matrix.h:22:57:   required from ‘struct Eigen::internal::traits<Eigen::Matrix<float, 4, 1> >’
/home/biocbuild/bbs-3.20-bioc/R/site-library/RcppEigen/include/Eigen/src/Geometry/Quaternion.h:266:49:   required from ‘struct Eigen::internal::traits<Eigen::Quaternion<float> >’
/home/biocbuild/bbs-3.20-bioc/R/site-library/RcppEigen/include/Eigen/src/Geometry/arch/Geometry_SIMD.h:24:46:   required from here
/home/biocbuild/bbs-3.20-bioc/R/site-library/RcppEigen/include/Eigen/src/Core/util/XprHelper.h:190:44: warning: ignoring attributes on template argument ‘Eigen::internal::packet_traits<float>::type’ {aka ‘__m128’} [-Wignored-attributes]
  190 |          bool Stop = Size==Dynamic || (Size%unpacket_traits<PacketType>::size)==0 || is_same<PacketType,typename unpacket_traits<PacketType>::half>::value>
      |                                       ~~~~~^~~~~~~~~~~~~~~~~~~~~~~~~~~~~~~~~~~
/home/biocbuild/bbs-3.20-bioc/R/site-library/RcppEigen/include/Eigen/src/Core/util/XprHelper.h:190:83: warning: ignoring attributes on template argument ‘Eigen::internal::packet_traits<float>::type’ {aka ‘__m128’} [-Wignored-attributes]
  190 |          bool Stop = Size==Dynamic || (Size%unpacket_traits<PacketType>::size)==0 || is_same<PacketType,typename unpacket_traits<PacketType>::half>::value>
      |                      ~~~~~~~~~~~~~~~~~~~~~~~~~~~~~~~~~~~~~~~~~~~~~~~~~~~~~~~~~~~~~^~~~~~~~~~~~~~~~~~~~~~~~~~~~~~~~~~~~~~~~~~~~~~~~~~~~~~~~~~~~~~~~~~~~~~~~
/home/biocbuild/bbs-3.20-bioc/R/site-library/RcppEigen/include/Eigen/src/Core/util/XprHelper.h:190:83: warning: ignoring attributes on template argument ‘Eigen::internal::packet_traits<float>::type’ {aka ‘__m128’} [-Wignored-attributes]
/home/biocbuild/bbs-3.20-bioc/R/site-library/RcppEigen/include/Eigen/src/Core/util/XprHelper.h:190:83: warning: ignoring attributes on template argument ‘Eigen::internal::unpacket_traits<__vector(4) float>::half’ {aka ‘__m128’} [-Wignored-attributes]
/home/biocbuild/bbs-3.20-bioc/R/site-library/RcppEigen/include/Eigen/src/Core/util/XprHelper.h:208:88: warning: ignoring attributes on template argument ‘Eigen::internal::packet_traits<float>::type’ {aka ‘__m128’} [-Wignored-attributes]
  208 |   typedef typename find_best_packet_helper<Size,typename packet_traits<T>::type>::type type;
      |                                                                                        ^~~~
In file included from /home/biocbuild/bbs-3.20-bioc/R/site-library/RcppEigen/include/Eigen/Core:271,
                 from /home/biocbuild/bbs-3.20-bioc/R/site-library/RcppEigen/include/Eigen/Dense:1,
                 from /home/biocbuild/bbs-3.20-bioc/R/site-library/RcppEigen/include/RcppEigenForward.h:28,
                 from /home/biocbuild/bbs-3.20-bioc/R/site-library/RcppEigen/include/RcppEigen.h:25,
                 from RcppExports.cpp:4:
/home/biocbuild/bbs-3.20-bioc/R/site-library/RcppEigen/include/Eigen/src/Core/DenseCoeffsBase.h: In instantiation of ‘class Eigen::DenseCoeffsBase<Eigen::Matrix<float, 4, 1>, 0>’:
/home/biocbuild/bbs-3.20-bioc/R/site-library/RcppEigen/include/Eigen/src/Core/DenseCoeffsBase.h:302:7:   required from ‘class Eigen::DenseCoeffsBase<Eigen::Matrix<float, 4, 1>, 1>’
/home/biocbuild/bbs-3.20-bioc/R/site-library/RcppEigen/include/Eigen/src/Core/DenseCoeffsBase.h:555:7:   required from ‘class Eigen::DenseCoeffsBase<Eigen::Matrix<float, 4, 1>, 3>’
/home/biocbuild/bbs-3.20-bioc/R/site-library/RcppEigen/include/Eigen/src/Core/DenseBase.h:41:34:   required from ‘class Eigen::DenseBase<Eigen::Matrix<float, 4, 1> >’
/home/biocbuild/bbs-3.20-bioc/R/site-library/RcppEigen/include/Eigen/src/Core/MatrixBase.h:48:34:   required from ‘class Eigen::MatrixBase<Eigen::Matrix<float, 4, 1> >’
/home/biocbuild/bbs-3.20-bioc/R/site-library/RcppEigen/include/Eigen/src/Core/PlainObjectBase.h:98:7:   required from ‘class Eigen::PlainObjectBase<Eigen::Matrix<float, 4, 1> >’
/home/biocbuild/bbs-3.20-bioc/R/site-library/RcppEigen/include/Eigen/src/Core/Matrix.h:178:7:   required from ‘class Eigen::Matrix<float, 4, 1>’
/home/biocbuild/bbs-3.20-bioc/R/site-library/RcppEigen/include/Eigen/src/Geometry/Quaternion.h:46:50:   required from ‘class Eigen::QuaternionBase<Eigen::Quaternion<float> >’
/home/biocbuild/bbs-3.20-bioc/R/site-library/RcppEigen/include/Eigen/src/Geometry/Quaternion.h:273:7:   required from ‘class Eigen::Quaternion<float>’
/home/biocbuild/bbs-3.20-bioc/R/site-library/RcppEigen/include/Eigen/src/Geometry/arch/Geometry_SIMD.h:27:3:   required from here
/home/biocbuild/bbs-3.20-bioc/R/site-library/RcppEigen/include/Eigen/src/Core/DenseCoeffsBase.h:56:30: warning: ignoring attributes on template argument ‘Eigen::internal::packet_traits<float>::type’ {aka ‘__m128’} [-Wignored-attributes]
   56 |                      >::type PacketReturnType;
      |                              ^~~~~~~~~~~~~~~~
In file included from /home/biocbuild/bbs-3.20-bioc/R/site-library/RcppEigen/include/Eigen/Core:165,
                 from /home/biocbuild/bbs-3.20-bioc/R/site-library/RcppEigen/include/Eigen/Dense:1,
                 from /home/biocbuild/bbs-3.20-bioc/R/site-library/RcppEigen/include/RcppEigenForward.h:28,
                 from /home/biocbuild/bbs-3.20-bioc/R/site-library/RcppEigen/include/RcppEigen.h:25,
                 from RcppExports.cpp:4:
/home/biocbuild/bbs-3.20-bioc/R/site-library/RcppEigen/include/Eigen/src/Core/util/XprHelper.h: In instantiation of ‘struct Eigen::internal::find_best_packet<double, 4>’:
/home/biocbuild/bbs-3.20-bioc/R/site-library/RcppEigen/include/Eigen/src/Core/Matrix.h:22:57:   required from ‘struct Eigen::internal::traits<Eigen::Matrix<double, 4, 1> >’
/home/biocbuild/bbs-3.20-bioc/R/site-library/RcppEigen/include/Eigen/src/Geometry/Quaternion.h:266:49:   required from ‘struct Eigen::internal::traits<Eigen::Quaternion<double> >’
/home/biocbuild/bbs-3.20-bioc/R/site-library/RcppEigen/include/Eigen/src/Geometry/arch/Geometry_SIMD.h:98:47:   required from here
/home/biocbuild/bbs-3.20-bioc/R/site-library/RcppEigen/include/Eigen/src/Core/util/XprHelper.h:190:44: warning: ignoring attributes on template argument ‘Eigen::internal::packet_traits<double>::type’ {aka ‘__m128d’} [-Wignored-attributes]
  190 |          bool Stop = Size==Dynamic || (Size%unpacket_traits<PacketType>::size)==0 || is_same<PacketType,typename unpacket_traits<PacketType>::half>::value>
      |                                       ~~~~~^~~~~~~~~~~~~~~~~~~~~~~~~~~~~~~~~~~
/home/biocbuild/bbs-3.20-bioc/R/site-library/RcppEigen/include/Eigen/src/Core/util/XprHelper.h:190:83: warning: ignoring attributes on template argument ‘Eigen::internal::packet_traits<double>::type’ {aka ‘__m128d’} [-Wignored-attributes]
  190 |          bool Stop = Size==Dynamic || (Size%unpacket_traits<PacketType>::size)==0 || is_same<PacketType,typename unpacket_traits<PacketType>::half>::value>
      |                      ~~~~~~~~~~~~~~~~~~~~~~~~~~~~~~~~~~~~~~~~~~~~~~~~~~~~~~~~~~~~~^~~~~~~~~~~~~~~~~~~~~~~~~~~~~~~~~~~~~~~~~~~~~~~~~~~~~~~~~~~~~~~~~~~~~~~~
/home/biocbuild/bbs-3.20-bioc/R/site-library/RcppEigen/include/Eigen/src/Core/util/XprHelper.h:190:83: warning: ignoring attributes on template argument ‘Eigen::internal::packet_traits<double>::type’ {aka ‘__m128d’} [-Wignored-attributes]
/home/biocbuild/bbs-3.20-bioc/R/site-library/RcppEigen/include/Eigen/src/Core/util/XprHelper.h:190:83: warning: ignoring attributes on template argument ‘Eigen::internal::unpacket_traits<__vector(2) double>::half’ {aka ‘__m128d’} [-Wignored-attributes]
/home/biocbuild/bbs-3.20-bioc/R/site-library/RcppEigen/include/Eigen/src/Core/util/XprHelper.h:208:88: warning: ignoring attributes on template argument ‘Eigen::internal::packet_traits<double>::type’ {aka ‘__m128d’} [-Wignored-attributes]
  208 |   typedef typename find_best_packet_helper<Size,typename packet_traits<T>::type>::type type;
      |                                                                                        ^~~~
In file included from /home/biocbuild/bbs-3.20-bioc/R/site-library/RcppEigen/include/Eigen/Core:271,
                 from /home/biocbuild/bbs-3.20-bioc/R/site-library/RcppEigen/include/Eigen/Dense:1,
                 from /home/biocbuild/bbs-3.20-bioc/R/site-library/RcppEigen/include/RcppEigenForward.h:28,
                 from /home/biocbuild/bbs-3.20-bioc/R/site-library/RcppEigen/include/RcppEigen.h:25,
                 from RcppExports.cpp:4:
/home/biocbuild/bbs-3.20-bioc/R/site-library/RcppEigen/include/Eigen/src/Core/DenseCoeffsBase.h: In instantiation of ‘class Eigen::DenseCoeffsBase<Eigen::Matrix<double, 4, 1>, 0>’:
/home/biocbuild/bbs-3.20-bioc/R/site-library/RcppEigen/include/Eigen/src/Core/DenseCoeffsBase.h:302:7:   required from ‘class Eigen::DenseCoeffsBase<Eigen::Matrix<double, 4, 1>, 1>’
/home/biocbuild/bbs-3.20-bioc/R/site-library/RcppEigen/include/Eigen/src/Core/DenseCoeffsBase.h:555:7:   required from ‘class Eigen::DenseCoeffsBase<Eigen::Matrix<double, 4, 1>, 3>’
/home/biocbuild/bbs-3.20-bioc/R/site-library/RcppEigen/include/Eigen/src/Core/DenseBase.h:41:34:   required from ‘class Eigen::DenseBase<Eigen::Matrix<double, 4, 1> >’
/home/biocbuild/bbs-3.20-bioc/R/site-library/RcppEigen/include/Eigen/src/Core/MatrixBase.h:48:34:   required from ‘class Eigen::MatrixBase<Eigen::Matrix<double, 4, 1> >’
/home/biocbuild/bbs-3.20-bioc/R/site-library/RcppEigen/include/Eigen/src/Core/PlainObjectBase.h:98:7:   required from ‘class Eigen::PlainObjectBase<Eigen::Matrix<double, 4, 1> >’
/home/biocbuild/bbs-3.20-bioc/R/site-library/RcppEigen/include/Eigen/src/Core/Matrix.h:178:7:   required from ‘class Eigen::Matrix<double, 4, 1>’
/home/biocbuild/bbs-3.20-bioc/R/site-library/RcppEigen/include/Eigen/src/Geometry/Quaternion.h:46:50:   required from ‘class Eigen::QuaternionBase<Eigen::Quaternion<double> >’
/home/biocbuild/bbs-3.20-bioc/R/site-library/RcppEigen/include/Eigen/src/Geometry/Quaternion.h:273:7:   required from ‘class Eigen::Quaternion<double>’
/home/biocbuild/bbs-3.20-bioc/R/site-library/RcppEigen/include/Eigen/src/Geometry/arch/Geometry_SIMD.h:102:3:   required from here
/home/biocbuild/bbs-3.20-bioc/R/site-library/RcppEigen/include/Eigen/src/Core/DenseCoeffsBase.h:56:30: warning: ignoring attributes on template argument ‘Eigen::internal::packet_traits<double>::type’ {aka ‘__m128d’} [-Wignored-attributes]
   56 |                      >::type PacketReturnType;
      |                              ^~~~~~~~~~~~~~~~
In file included from /home/biocbuild/bbs-3.20-bioc/R/site-library/RcppEigen/include/Eigen/SparseCore:37,
                 from /home/biocbuild/bbs-3.20-bioc/R/site-library/RcppEigen/include/Eigen/Sparse:26,
                 from /home/biocbuild/bbs-3.20-bioc/R/site-library/RcppEigen/include/RcppEigenForward.h:29,
                 from /home/biocbuild/bbs-3.20-bioc/R/site-library/RcppEigen/include/RcppEigen.h:25,
                 from RcppExports.cpp:4:
/home/biocbuild/bbs-3.20-bioc/R/site-library/RcppEigen/include/Eigen/src/SparseCore/SparseMatrixBase.h: In instantiation of ‘class Eigen::SparseMatrixBase<Eigen::SparseMatrix<double, 0, int> >’:
/home/biocbuild/bbs-3.20-bioc/R/site-library/RcppEigen/include/Eigen/src/SparseCore/SparseCompressedBase.h:36:7:   required from ‘class Eigen::SparseCompressedBase<Eigen::SparseMatrix<double, 0, int> >’
/home/biocbuild/bbs-3.20-bioc/R/site-library/RcppEigen/include/Eigen/src/SparseCore/SparseMatrix.h:96:7:   required from ‘class Eigen::SparseMatrix<double, 0, int>’
/home/biocbuild/bbs-3.20-bioc/R/site-library/RcppEigen/include/unsupported/Eigen/src/IterativeSolvers/ConstrainedConjGrad.h:61:25:   required from here
/home/biocbuild/bbs-3.20-bioc/R/site-library/RcppEigen/include/Eigen/src/SparseCore/SparseMatrixBase.h:47:30: warning: ignoring attributes on template argument ‘Eigen::internal::packet_traits<double>::type’ {aka ‘__m128d’} [-Wignored-attributes]
   47 |                      >::type PacketReturnType;
      |                              ^~~~~~~~~~~~~~~~
In file included from /home/biocbuild/bbs-3.20-bioc/R/site-library/RcppEigen/include/Eigen/Core:165,
                 from /home/biocbuild/bbs-3.20-bioc/R/site-library/RcppEigen/include/Eigen/Dense:1,
                 from /home/biocbuild/bbs-3.20-bioc/R/site-library/RcppEigen/include/RcppEigenForward.h:28,
                 from /home/biocbuild/bbs-3.20-bioc/R/site-library/RcppEigen/include/RcppEigen.h:25,
                 from RcppExports.cpp:4:
/home/biocbuild/bbs-3.20-bioc/R/site-library/RcppEigen/include/Eigen/src/Core/util/XprHelper.h: In instantiation of ‘struct Eigen::internal::find_best_packet<double, -1>’:
/home/biocbuild/bbs-3.20-bioc/R/site-library/RcppEigen/include/Eigen/src/Core/Matrix.h:22:57:   required from ‘struct Eigen::internal::traits<Eigen::Matrix<double, -1, -1> >’
/home/biocbuild/bbs-3.20-bioc/R/site-library/RcppEigen/include/Eigen/src/Core/PlainObjectBase.h:98:7:   required from ‘class Eigen::PlainObjectBase<Eigen::Matrix<double, -1, -1> >’
/home/biocbuild/bbs-3.20-bioc/R/site-library/RcppEigen/include/Eigen/src/Core/Matrix.h:178:7:   required from ‘class Eigen::Matrix<double, -1, -1>’
RcppExports.cpp:49:61:   required from here
/home/biocbuild/bbs-3.20-bioc/R/site-library/RcppEigen/include/Eigen/src/Core/util/XprHelper.h:190:44: warning: ignoring attributes on template argument ‘Eigen::internal::packet_traits<double>::type’ {aka ‘__m128d’} [-Wignored-attributes]
  190 |          bool Stop = Size==Dynamic || (Size%unpacket_traits<PacketType>::size)==0 || is_same<PacketType,typename unpacket_traits<PacketType>::half>::value>
      |                                       ~~~~~^~~~~~~~~~~~~~~~~~~~~~~~~~~~~~~~~~~
/home/biocbuild/bbs-3.20-bioc/R/site-library/RcppEigen/include/Eigen/src/Core/util/XprHelper.h:190:83: warning: ignoring attributes on template argument ‘Eigen::internal::packet_traits<double>::type’ {aka ‘__m128d’} [-Wignored-attributes]
  190 |          bool Stop = Size==Dynamic || (Size%unpacket_traits<PacketType>::size)==0 || is_same<PacketType,typename unpacket_traits<PacketType>::half>::value>
      |                      ~~~~~~~~~~~~~~~~~~~~~~~~~~~~~~~~~~~~~~~~~~~~~~~~~~~~~~~~~~~~~^~~~~~~~~~~~~~~~~~~~~~~~~~~~~~~~~~~~~~~~~~~~~~~~~~~~~~~~~~~~~~~~~~~~~~~~
/home/biocbuild/bbs-3.20-bioc/R/site-library/RcppEigen/include/Eigen/src/Core/util/XprHelper.h:190:83: warning: ignoring attributes on template argument ‘Eigen::internal::packet_traits<double>::type’ {aka ‘__m128d’} [-Wignored-attributes]
/home/biocbuild/bbs-3.20-bioc/R/site-library/RcppEigen/include/Eigen/src/Core/util/XprHelper.h:190:83: warning: ignoring attributes on template argument ‘Eigen::internal::unpacket_traits<__vector(2) double>::half’ {aka ‘__m128d’} [-Wignored-attributes]
/home/biocbuild/bbs-3.20-bioc/R/site-library/RcppEigen/include/Eigen/src/Core/util/XprHelper.h:208:88: warning: ignoring attributes on template argument ‘Eigen::internal::packet_traits<double>::type’ {aka ‘__m128d’} [-Wignored-attributes]
  208 |   typedef typename find_best_packet_helper<Size,typename packet_traits<T>::type>::type type;
      |                                                                                        ^~~~
In file included from /home/biocbuild/bbs-3.20-bioc/R/site-library/RcppEigen/include/Eigen/Core:271,
                 from /home/biocbuild/bbs-3.20-bioc/R/site-library/RcppEigen/include/Eigen/Dense:1,
                 from /home/biocbuild/bbs-3.20-bioc/R/site-library/RcppEigen/include/RcppEigenForward.h:28,
                 from /home/biocbuild/bbs-3.20-bioc/R/site-library/RcppEigen/include/RcppEigen.h:25,
                 from RcppExports.cpp:4:
/home/biocbuild/bbs-3.20-bioc/R/site-library/RcppEigen/include/Eigen/src/Core/DenseCoeffsBase.h: In instantiation of ‘class Eigen::DenseCoeffsBase<Eigen::Matrix<double, -1, -1>, 0>’:
/home/biocbuild/bbs-3.20-bioc/R/site-library/RcppEigen/include/Eigen/src/Core/DenseCoeffsBase.h:302:7:   required from ‘class Eigen::DenseCoeffsBase<Eigen::Matrix<double, -1, -1>, 1>’
/home/biocbuild/bbs-3.20-bioc/R/site-library/RcppEigen/include/Eigen/src/Core/DenseCoeffsBase.h:555:7:   required from ‘class Eigen::DenseCoeffsBase<Eigen::Matrix<double, -1, -1>, 3>’
/home/biocbuild/bbs-3.20-bioc/R/site-library/RcppEigen/include/Eigen/src/Core/DenseBase.h:41:34:   required from ‘class Eigen::DenseBase<Eigen::Matrix<double, -1, -1> >’
/home/biocbuild/bbs-3.20-bioc/R/site-library/RcppEigen/include/Eigen/src/Core/MatrixBase.h:48:34:   required from ‘class Eigen::MatrixBase<Eigen::Matrix<double, -1, -1> >’
/home/biocbuild/bbs-3.20-bioc/R/site-library/RcppEigen/include/Eigen/src/Core/PlainObjectBase.h:98:7:   required from ‘class Eigen::PlainObjectBase<Eigen::Matrix<double, -1, -1> >’
/home/biocbuild/bbs-3.20-bioc/R/site-library/RcppEigen/include/Eigen/src/Core/Matrix.h:178:7:   required from ‘class Eigen::Matrix<double, -1, -1>’
RcppExports.cpp:49:61:   required from here
/home/biocbuild/bbs-3.20-bioc/R/site-library/RcppEigen/include/Eigen/src/Core/DenseCoeffsBase.h:56:30: warning: ignoring attributes on template argument ‘Eigen::internal::packet_traits<double>::type’ {aka ‘__m128d’} [-Wignored-attributes]
   56 |                      >::type PacketReturnType;
      |                              ^~~~~~~~~~~~~~~~
/home/biocbuild/bbs-3.20-bioc/R/site-library/RcppEigen/include/Eigen/src/Core/DenseCoeffsBase.h: In instantiation of ‘class Eigen::DenseCoeffsBase<Eigen::SparseMatrix<double, 0, int>, 0>’:
/home/biocbuild/bbs-3.20-bioc/R/site-library/RcppEigen/include/Eigen/src/SparseCore/SparseCompressedBase.h:336:80:   required from ‘struct Eigen::internal::evaluator<Eigen::SparseCompressedBase<Eigen::SparseMatrix<double, 0, int> > >’
/home/biocbuild/bbs-3.20-bioc/R/site-library/RcppEigen/include/Eigen/src/SparseCore/SparseMatrix.h:1505:8:   required from ‘struct Eigen::internal::evaluator<Eigen::SparseMatrix<double, 0, int> >’
/home/biocbuild/bbs-3.20-bioc/R/site-library/RcppEigen/include/Eigen/src/SparseCore/SparseAssign.h:77:20:   required from ‘void Eigen::internal::assign_sparse_to_sparse(DstXprType&, const SrcXprType&) [with DstXprType = Eigen::SparseMatrix<double, 0, int>; SrcXprType = Eigen::SparseMatrix<double, 0, int>]’
/home/biocbuild/bbs-3.20-bioc/R/site-library/RcppEigen/include/Eigen/src/SparseCore/SparseAssign.h:132:28:   required from ‘static void Eigen::internal::Assignment<DstXprType, SrcXprType, Functor, Eigen::internal::Sparse2Sparse>::run(DstXprType&, const SrcXprType&, const Eigen::internal::assign_op<typename DstXprType::Scalar, typename SrcXprType::Scalar>&) [with DstXprType = Eigen::SparseMatrix<double, 0, int>; SrcXprType = Eigen::SparseMatrix<double, 0, int>; Functor = Eigen::internal::assign_op<double, double>; typename SrcXprType::Scalar = double; typename DstXprType::Scalar = double]’
/home/biocbuild/bbs-3.20-bioc/R/site-library/RcppEigen/include/Eigen/src/Core/AssignEvaluator.h:890:49:   required from ‘void Eigen::internal::call_assignment_no_alias(Dst&, const Src&, const Func&) [with Dst = Eigen::SparseMatrix<double, 0, int>; Src = Eigen::SparseMatrix<double, 0, int>; Func = Eigen::internal::assign_op<double, double>]’
/home/biocbuild/bbs-3.20-bioc/R/site-library/RcppEigen/include/Eigen/src/Core/AssignEvaluator.h:917:27:   required from ‘void Eigen::internal::call_assignment_no_alias(Dst&, const Src&) [with Dst = Eigen::SparseMatrix<double, 0, int>; Src = Eigen::SparseMatrix<double, 0, int>]’
/home/biocbuild/bbs-3.20-bioc/R/site-library/RcppEigen/include/Eigen/src/SparseCore/SparseAssign.h:45:37:   required from ‘Derived& Eigen::SparseMatrixBase<Derived>::operator=(const Derived&) [with Derived = Eigen::SparseMatrix<double, 0, int>]’
/home/biocbuild/bbs-3.20-bioc/R/site-library/RcppEigen/include/Eigen/src/SparseCore/SparseMatrix.h:778:26:   required from ‘Eigen::SparseMatrix<_Scalar, _Flags, _StorageIndex>& Eigen::SparseMatrix<_Scalar, _Flags, _StorageIndex>::operator=(const Eigen::SparseMatrix<_Scalar, _Flags, _StorageIndex>&) [with _Scalar = double; int _Options = 0; _StorageIndex = int]’
/home/biocbuild/bbs-3.20-bioc/R/site-library/RcppEigen/include/Eigen/src/SparseCore/SparseMatrix.h:713:13:   required from ‘Eigen::SparseMatrix<_Scalar, _Flags, _StorageIndex>::SparseMatrix(const Eigen::SparseMatrix<_Scalar, _Flags, _StorageIndex>&) [with _Scalar = double; int _Options = 0; _StorageIndex = int]’
RcppExports.cpp:16:53:   required from here
/home/biocbuild/bbs-3.20-bioc/R/site-library/RcppEigen/include/Eigen/src/Core/DenseCoeffsBase.h:56:30: warning: ignoring attributes on template argument ‘Eigen::internal::packet_traits<double>::type’ {aka ‘__m128d’} [-Wignored-attributes]
g++ -std=gnu++11 -I"/home/biocbuild/bbs-3.20-bioc/R/include" -DNDEBUG  -I'/home/biocbuild/bbs-3.20-bioc/R/site-library/Rcpp/include' -I'/home/biocbuild/bbs-3.20-bioc/R/site-library/RcppEigen/include' -I/usr/local/include    -fpic  -g -O2  -Wall  -c Rget_leaves.cpp -o Rget_leaves.o
g++ -std=gnu++11 -I"/home/biocbuild/bbs-3.20-bioc/R/include" -DNDEBUG  -I'/home/biocbuild/bbs-3.20-bioc/R/site-library/Rcpp/include' -I'/home/biocbuild/bbs-3.20-bioc/R/site-library/RcppEigen/include' -I/usr/local/include    -fpic  -g -O2  -Wall  -c snn.cpp -o snn.o
In file included from /home/biocbuild/bbs-3.20-bioc/R/site-library/RcppEigen/include/Eigen/Core:205,
                 from /home/biocbuild/bbs-3.20-bioc/R/site-library/RcppEigen/include/Eigen/Dense:1,
                 from /home/biocbuild/bbs-3.20-bioc/R/site-library/RcppEigen/include/RcppEigenForward.h:28,
                 from /home/biocbuild/bbs-3.20-bioc/R/site-library/RcppEigen/include/RcppEigen.h:25,
                 from snn.cpp:1:
/home/biocbuild/bbs-3.20-bioc/R/site-library/RcppEigen/include/Eigen/src/Core/arch/SSE/PacketMath.h:46:40: warning: ignoring attributes on template argument ‘__m128i’ [-Wignored-attributes]
   46 | typedef eigen_packet_wrapper<__m128i, 0> Packet4i;
      |                                        ^
/home/biocbuild/bbs-3.20-bioc/R/site-library/RcppEigen/include/Eigen/src/Core/arch/SSE/PacketMath.h:47:40: warning: ignoring attributes on template argument ‘__m128i’ [-Wignored-attributes]
   47 | typedef eigen_packet_wrapper<__m128i, 1> Packet16b;
      |                                        ^
/home/biocbuild/bbs-3.20-bioc/R/site-library/RcppEigen/include/Eigen/src/Core/arch/SSE/PacketMath.h:49:39: warning: ignoring attributes on template argument ‘__m128’ [-Wignored-attributes]
   49 | template<> struct is_arithmetic<__m128>  { enum { value = true }; };
      |                                       ^
/home/biocbuild/bbs-3.20-bioc/R/site-library/RcppEigen/include/Eigen/src/Core/arch/SSE/PacketMath.h:50:40: warning: ignoring attributes on template argument ‘__m128i’ [-Wignored-attributes]
   50 | template<> struct is_arithmetic<__m128i> { enum { value = true }; };
      |                                        ^
/home/biocbuild/bbs-3.20-bioc/R/site-library/RcppEigen/include/Eigen/src/Core/arch/SSE/PacketMath.h:51:40: warning: ignoring attributes on template argument ‘__m128d’ [-Wignored-attributes]
   51 | template<> struct is_arithmetic<__m128d> { enum { value = true }; };
      |                                        ^
/home/biocbuild/bbs-3.20-bioc/R/site-library/RcppEigen/include/Eigen/src/Core/arch/SSE/PacketMath.h:222:43: warning: ignoring attributes on template argument ‘Eigen::internal::Packet4f’ {aka ‘__m128’} [-Wignored-attributes]
  222 | template<> struct unpacket_traits<Packet4f> {
      |                                           ^
/home/biocbuild/bbs-3.20-bioc/R/site-library/RcppEigen/include/Eigen/src/Core/arch/SSE/PacketMath.h:228:43: warning: ignoring attributes on template argument ‘Eigen::internal::Packet2d’ {aka ‘__m128d’} [-Wignored-attributes]
  228 | template<> struct unpacket_traits<Packet2d> {
      |                                           ^
/home/biocbuild/bbs-3.20-bioc/R/site-library/RcppEigen/include/Eigen/src/Core/arch/SSE/PacketMath.h:1124:34: warning: ignoring attributes on template argument ‘Eigen::internal::Packet4f’ {aka ‘__m128’} [-Wignored-attributes]
 1124 | ptranspose(PacketBlock<Packet4f,4>& kernel) {
      |                                  ^
/home/biocbuild/bbs-3.20-bioc/R/site-library/RcppEigen/include/Eigen/src/Core/arch/SSE/PacketMath.h:1129:34: warning: ignoring attributes on template argument ‘Eigen::internal::Packet2d’ {aka ‘__m128d’} [-Wignored-attributes]
 1129 | ptranspose(PacketBlock<Packet2d,2>& kernel) {
      |                                  ^
In file included from /home/biocbuild/bbs-3.20-bioc/R/site-library/RcppEigen/include/Eigen/Core:174,
                 from /home/biocbuild/bbs-3.20-bioc/R/site-library/RcppEigen/include/Eigen/Dense:1,
                 from /home/biocbuild/bbs-3.20-bioc/R/site-library/RcppEigen/include/RcppEigenForward.h:28,
                 from /home/biocbuild/bbs-3.20-bioc/R/site-library/RcppEigen/include/RcppEigen.h:25,
                 from snn.cpp:1:
/home/biocbuild/bbs-3.20-bioc/R/site-library/RcppEigen/include/Eigen/src/Core/arch/Default/ConjHelper.h:16:60: warning: ignoring attributes on template argument ‘Eigen::internal::Packet4f’ {aka ‘__m128’} [-Wignored-attributes]
   16 |   struct conj_helper<PACKET_REAL, PACKET_CPLX, false, false> {          \
      |                                                            ^
/home/biocbuild/bbs-3.20-bioc/R/site-library/RcppEigen/include/Eigen/src/Core/arch/SSE/Complex.h:173:1: note: in expansion of macro ‘EIGEN_MAKE_CONJ_HELPER_CPLX_REAL’
  173 | EIGEN_MAKE_CONJ_HELPER_CPLX_REAL(Packet2cf,Packet4f)
      | ^~~~~~~~~~~~~~~~~~~~~~~~~~~~~~~~
/home/biocbuild/bbs-3.20-bioc/R/site-library/RcppEigen/include/Eigen/src/Core/arch/Default/ConjHelper.h:29:60: warning: ignoring attributes on template argument ‘Eigen::internal::Packet4f’ {aka ‘__m128’} [-Wignored-attributes]
   29 |   struct conj_helper<PACKET_CPLX, PACKET_REAL, false, false> {          \
      |                                                            ^
/home/biocbuild/bbs-3.20-bioc/R/site-library/RcppEigen/include/Eigen/src/Core/arch/SSE/Complex.h:173:1: note: in expansion of macro ‘EIGEN_MAKE_CONJ_HELPER_CPLX_REAL’
  173 | EIGEN_MAKE_CONJ_HELPER_CPLX_REAL(Packet2cf,Packet4f)
      | ^~~~~~~~~~~~~~~~~~~~~~~~~~~~~~~~
/home/biocbuild/bbs-3.20-bioc/R/site-library/RcppEigen/include/Eigen/src/Core/arch/Default/ConjHelper.h:16:60: warning: ignoring attributes on template argument ‘Eigen::internal::Packet2d’ {aka ‘__m128d’} [-Wignored-attributes]
   16 |   struct conj_helper<PACKET_REAL, PACKET_CPLX, false, false> {          \
      |                                                            ^
/home/biocbuild/bbs-3.20-bioc/R/site-library/RcppEigen/include/Eigen/src/Core/arch/SSE/Complex.h:298:1: note: in expansion of macro ‘EIGEN_MAKE_CONJ_HELPER_CPLX_REAL’
  298 | EIGEN_MAKE_CONJ_HELPER_CPLX_REAL(Packet1cd,Packet2d)
      | ^~~~~~~~~~~~~~~~~~~~~~~~~~~~~~~~
/home/biocbuild/bbs-3.20-bioc/R/site-library/RcppEigen/include/Eigen/src/Core/arch/Default/ConjHelper.h:29:60: warning: ignoring attributes on template argument ‘Eigen::internal::Packet2d’ {aka ‘__m128d’} [-Wignored-attributes]
   29 |   struct conj_helper<PACKET_CPLX, PACKET_REAL, false, false> {          \
      |                                                            ^
/home/biocbuild/bbs-3.20-bioc/R/site-library/RcppEigen/include/Eigen/src/Core/arch/SSE/Complex.h:298:1: note: in expansion of macro ‘EIGEN_MAKE_CONJ_HELPER_CPLX_REAL’
  298 | EIGEN_MAKE_CONJ_HELPER_CPLX_REAL(Packet1cd,Packet2d)
      | ^~~~~~~~~~~~~~~~~~~~~~~~~~~~~~~~
In file included from /home/biocbuild/bbs-3.20-bioc/R/site-library/RcppEigen/include/Eigen/Core:165,
                 from /home/biocbuild/bbs-3.20-bioc/R/site-library/RcppEigen/include/Eigen/Dense:1,
                 from /home/biocbuild/bbs-3.20-bioc/R/site-library/RcppEigen/include/RcppEigenForward.h:28,
                 from /home/biocbuild/bbs-3.20-bioc/R/site-library/RcppEigen/include/RcppEigen.h:25,
                 from snn.cpp:1:
/home/biocbuild/bbs-3.20-bioc/R/site-library/RcppEigen/include/Eigen/src/Core/util/XprHelper.h: In instantiation of ‘struct Eigen::internal::find_best_packet<float, 4>’:
/home/biocbuild/bbs-3.20-bioc/R/site-library/RcppEigen/include/Eigen/src/Core/Matrix.h:22:57:   required from ‘struct Eigen::internal::traits<Eigen::Matrix<float, 4, 1> >’
/home/biocbuild/bbs-3.20-bioc/R/site-library/RcppEigen/include/Eigen/src/Geometry/Quaternion.h:266:49:   required from ‘struct Eigen::internal::traits<Eigen::Quaternion<float> >’
/home/biocbuild/bbs-3.20-bioc/R/site-library/RcppEigen/include/Eigen/src/Geometry/arch/Geometry_SIMD.h:24:46:   required from here
/home/biocbuild/bbs-3.20-bioc/R/site-library/RcppEigen/include/Eigen/src/Core/util/XprHelper.h:190:44: warning: ignoring attributes on template argument ‘Eigen::internal::packet_traits<float>::type’ {aka ‘__m128’} [-Wignored-attributes]
  190 |          bool Stop = Size==Dynamic || (Size%unpacket_traits<PacketType>::size)==0 || is_same<PacketType,typename unpacket_traits<PacketType>::half>::value>
      |                                       ~~~~~^~~~~~~~~~~~~~~~~~~~~~~~~~~~~~~~~~~
/home/biocbuild/bbs-3.20-bioc/R/site-library/RcppEigen/include/Eigen/src/Core/util/XprHelper.h:190:83: warning: ignoring attributes on template argument ‘Eigen::internal::packet_traits<float>::type’ {aka ‘__m128’} [-Wignored-attributes]
  190 |          bool Stop = Size==Dynamic || (Size%unpacket_traits<PacketType>::size)==0 || is_same<PacketType,typename unpacket_traits<PacketType>::half>::value>
      |                      ~~~~~~~~~~~~~~~~~~~~~~~~~~~~~~~~~~~~~~~~~~~~~~~~~~~~~~~~~~~~~^~~~~~~~~~~~~~~~~~~~~~~~~~~~~~~~~~~~~~~~~~~~~~~~~~~~~~~~~~~~~~~~~~~~~~~~
/home/biocbuild/bbs-3.20-bioc/R/site-library/RcppEigen/include/Eigen/src/Core/util/XprHelper.h:190:83: warning: ignoring attributes on template argument ‘Eigen::internal::packet_traits<float>::type’ {aka ‘__m128’} [-Wignored-attributes]
/home/biocbuild/bbs-3.20-bioc/R/site-library/RcppEigen/include/Eigen/src/Core/util/XprHelper.h:190:83: warning: ignoring attributes on template argument ‘Eigen::internal::unpacket_traits<__vector(4) float>::half’ {aka ‘__m128’} [-Wignored-attributes]
/home/biocbuild/bbs-3.20-bioc/R/site-library/RcppEigen/include/Eigen/src/Core/util/XprHelper.h:208:88: warning: ignoring attributes on template argument ‘Eigen::internal::packet_traits<float>::type’ {aka ‘__m128’} [-Wignored-attributes]
  208 |   typedef typename find_best_packet_helper<Size,typename packet_traits<T>::type>::type type;
      |                                                                                        ^~~~
In file included from /home/biocbuild/bbs-3.20-bioc/R/site-library/RcppEigen/include/Eigen/Core:271,
                 from /home/biocbuild/bbs-3.20-bioc/R/site-library/RcppEigen/include/Eigen/Dense:1,
                 from /home/biocbuild/bbs-3.20-bioc/R/site-library/RcppEigen/include/RcppEigenForward.h:28,
                 from /home/biocbuild/bbs-3.20-bioc/R/site-library/RcppEigen/include/RcppEigen.h:25,
                 from snn.cpp:1:
/home/biocbuild/bbs-3.20-bioc/R/site-library/RcppEigen/include/Eigen/src/Core/DenseCoeffsBase.h: In instantiation of ‘class Eigen::DenseCoeffsBase<Eigen::Matrix<float, 4, 1>, 0>’:
/home/biocbuild/bbs-3.20-bioc/R/site-library/RcppEigen/include/Eigen/src/Core/DenseCoeffsBase.h:302:7:   required from ‘class Eigen::DenseCoeffsBase<Eigen::Matrix<float, 4, 1>, 1>’
/home/biocbuild/bbs-3.20-bioc/R/site-library/RcppEigen/include/Eigen/src/Core/DenseCoeffsBase.h:555:7:   required from ‘class Eigen::DenseCoeffsBase<Eigen::Matrix<float, 4, 1>, 3>’
/home/biocbuild/bbs-3.20-bioc/R/site-library/RcppEigen/include/Eigen/src/Core/DenseBase.h:41:34:   required from ‘class Eigen::DenseBase<Eigen::Matrix<float, 4, 1> >’
/home/biocbuild/bbs-3.20-bioc/R/site-library/RcppEigen/include/Eigen/src/Core/MatrixBase.h:48:34:   required from ‘class Eigen::MatrixBase<Eigen::Matrix<float, 4, 1> >’
/home/biocbuild/bbs-3.20-bioc/R/site-library/RcppEigen/include/Eigen/src/Core/PlainObjectBase.h:98:7:   required from ‘class Eigen::PlainObjectBase<Eigen::Matrix<float, 4, 1> >’
/home/biocbuild/bbs-3.20-bioc/R/site-library/RcppEigen/include/Eigen/src/Core/Matrix.h:178:7:   required from ‘class Eigen::Matrix<float, 4, 1>’
/home/biocbuild/bbs-3.20-bioc/R/site-library/RcppEigen/include/Eigen/src/Geometry/Quaternion.h:46:50:   required from ‘class Eigen::QuaternionBase<Eigen::Quaternion<float> >’
/home/biocbuild/bbs-3.20-bioc/R/site-library/RcppEigen/include/Eigen/src/Geometry/Quaternion.h:273:7:   required from ‘class Eigen::Quaternion<float>’
/home/biocbuild/bbs-3.20-bioc/R/site-library/RcppEigen/include/Eigen/src/Geometry/arch/Geometry_SIMD.h:27:3:   required from here
/home/biocbuild/bbs-3.20-bioc/R/site-library/RcppEigen/include/Eigen/src/Core/DenseCoeffsBase.h:56:30: warning: ignoring attributes on template argument ‘Eigen::internal::packet_traits<float>::type’ {aka ‘__m128’} [-Wignored-attributes]
   56 |                      >::type PacketReturnType;
      |                              ^~~~~~~~~~~~~~~~
In file included from /home/biocbuild/bbs-3.20-bioc/R/site-library/RcppEigen/include/Eigen/Core:165,
                 from /home/biocbuild/bbs-3.20-bioc/R/site-library/RcppEigen/include/Eigen/Dense:1,
                 from /home/biocbuild/bbs-3.20-bioc/R/site-library/RcppEigen/include/RcppEigenForward.h:28,
                 from /home/biocbuild/bbs-3.20-bioc/R/site-library/RcppEigen/include/RcppEigen.h:25,
                 from snn.cpp:1:
/home/biocbuild/bbs-3.20-bioc/R/site-library/RcppEigen/include/Eigen/src/Core/util/XprHelper.h: In instantiation of ‘struct Eigen::internal::find_best_packet<double, 4>’:
/home/biocbuild/bbs-3.20-bioc/R/site-library/RcppEigen/include/Eigen/src/Core/Matrix.h:22:57:   required from ‘struct Eigen::internal::traits<Eigen::Matrix<double, 4, 1> >’
/home/biocbuild/bbs-3.20-bioc/R/site-library/RcppEigen/include/Eigen/src/Geometry/Quaternion.h:266:49:   required from ‘struct Eigen::internal::traits<Eigen::Quaternion<double> >’
/home/biocbuild/bbs-3.20-bioc/R/site-library/RcppEigen/include/Eigen/src/Geometry/arch/Geometry_SIMD.h:98:47:   required from here
/home/biocbuild/bbs-3.20-bioc/R/site-library/RcppEigen/include/Eigen/src/Core/util/XprHelper.h:190:44: warning: ignoring attributes on template argument ‘Eigen::internal::packet_traits<double>::type’ {aka ‘__m128d’} [-Wignored-attributes]
  190 |          bool Stop = Size==Dynamic || (Size%unpacket_traits<PacketType>::size)==0 || is_same<PacketType,typename unpacket_traits<PacketType>::half>::value>
      |                                       ~~~~~^~~~~~~~~~~~~~~~~~~~~~~~~~~~~~~~~~~
/home/biocbuild/bbs-3.20-bioc/R/site-library/RcppEigen/include/Eigen/src/Core/util/XprHelper.h:190:83: warning: ignoring attributes on template argument ‘Eigen::internal::packet_traits<double>::type’ {aka ‘__m128d’} [-Wignored-attributes]
  190 |          bool Stop = Size==Dynamic || (Size%unpacket_traits<PacketType>::size)==0 || is_same<PacketType,typename unpacket_traits<PacketType>::half>::value>
      |                      ~~~~~~~~~~~~~~~~~~~~~~~~~~~~~~~~~~~~~~~~~~~~~~~~~~~~~~~~~~~~~^~~~~~~~~~~~~~~~~~~~~~~~~~~~~~~~~~~~~~~~~~~~~~~~~~~~~~~~~~~~~~~~~~~~~~~~
/home/biocbuild/bbs-3.20-bioc/R/site-library/RcppEigen/include/Eigen/src/Core/util/XprHelper.h:190:83: warning: ignoring attributes on template argument ‘Eigen::internal::packet_traits<double>::type’ {aka ‘__m128d’} [-Wignored-attributes]
/home/biocbuild/bbs-3.20-bioc/R/site-library/RcppEigen/include/Eigen/src/Core/util/XprHelper.h:190:83: warning: ignoring attributes on template argument ‘Eigen::internal::unpacket_traits<__vector(2) double>::half’ {aka ‘__m128d’} [-Wignored-attributes]
/home/biocbuild/bbs-3.20-bioc/R/site-library/RcppEigen/include/Eigen/src/Core/util/XprHelper.h:208:88: warning: ignoring attributes on template argument ‘Eigen::internal::packet_traits<double>::type’ {aka ‘__m128d’} [-Wignored-attributes]
  208 |   typedef typename find_best_packet_helper<Size,typename packet_traits<T>::type>::type type;
      |                                                                                        ^~~~
In file included from /home/biocbuild/bbs-3.20-bioc/R/site-library/RcppEigen/include/Eigen/Core:271,
                 from /home/biocbuild/bbs-3.20-bioc/R/site-library/RcppEigen/include/Eigen/Dense:1,
                 from /home/biocbuild/bbs-3.20-bioc/R/site-library/RcppEigen/include/RcppEigenForward.h:28,
                 from /home/biocbuild/bbs-3.20-bioc/R/site-library/RcppEigen/include/RcppEigen.h:25,
                 from snn.cpp:1:
/home/biocbuild/bbs-3.20-bioc/R/site-library/RcppEigen/include/Eigen/src/Core/DenseCoeffsBase.h: In instantiation of ‘class Eigen::DenseCoeffsBase<Eigen::Matrix<double, 4, 1>, 0>’:
/home/biocbuild/bbs-3.20-bioc/R/site-library/RcppEigen/include/Eigen/src/Core/DenseCoeffsBase.h:302:7:   required from ‘class Eigen::DenseCoeffsBase<Eigen::Matrix<double, 4, 1>, 1>’
/home/biocbuild/bbs-3.20-bioc/R/site-library/RcppEigen/include/Eigen/src/Core/DenseCoeffsBase.h:555:7:   required from ‘class Eigen::DenseCoeffsBase<Eigen::Matrix<double, 4, 1>, 3>’
/home/biocbuild/bbs-3.20-bioc/R/site-library/RcppEigen/include/Eigen/src/Core/DenseBase.h:41:34:   required from ‘class Eigen::DenseBase<Eigen::Matrix<double, 4, 1> >’
/home/biocbuild/bbs-3.20-bioc/R/site-library/RcppEigen/include/Eigen/src/Core/MatrixBase.h:48:34:   required from ‘class Eigen::MatrixBase<Eigen::Matrix<double, 4, 1> >’
/home/biocbuild/bbs-3.20-bioc/R/site-library/RcppEigen/include/Eigen/src/Core/PlainObjectBase.h:98:7:   required from ‘class Eigen::PlainObjectBase<Eigen::Matrix<double, 4, 1> >’
/home/biocbuild/bbs-3.20-bioc/R/site-library/RcppEigen/include/Eigen/src/Core/Matrix.h:178:7:   required from ‘class Eigen::Matrix<double, 4, 1>’
/home/biocbuild/bbs-3.20-bioc/R/site-library/RcppEigen/include/Eigen/src/Geometry/Quaternion.h:46:50:   required from ‘class Eigen::QuaternionBase<Eigen::Quaternion<double> >’
/home/biocbuild/bbs-3.20-bioc/R/site-library/RcppEigen/include/Eigen/src/Geometry/Quaternion.h:273:7:   required from ‘class Eigen::Quaternion<double>’
/home/biocbuild/bbs-3.20-bioc/R/site-library/RcppEigen/include/Eigen/src/Geometry/arch/Geometry_SIMD.h:102:3:   required from here
/home/biocbuild/bbs-3.20-bioc/R/site-library/RcppEigen/include/Eigen/src/Core/DenseCoeffsBase.h:56:30: warning: ignoring attributes on template argument ‘Eigen::internal::packet_traits<double>::type’ {aka ‘__m128d’} [-Wignored-attributes]
   56 |                      >::type PacketReturnType;
      |                              ^~~~~~~~~~~~~~~~
In file included from /home/biocbuild/bbs-3.20-bioc/R/site-library/RcppEigen/include/Eigen/SparseCore:37,
                 from /home/biocbuild/bbs-3.20-bioc/R/site-library/RcppEigen/include/Eigen/Sparse:26,
                 from /home/biocbuild/bbs-3.20-bioc/R/site-library/RcppEigen/include/RcppEigenForward.h:29,
                 from /home/biocbuild/bbs-3.20-bioc/R/site-library/RcppEigen/include/RcppEigen.h:25,
                 from snn.cpp:1:
/home/biocbuild/bbs-3.20-bioc/R/site-library/RcppEigen/include/Eigen/src/SparseCore/SparseMatrixBase.h: In instantiation of ‘class Eigen::SparseMatrixBase<Eigen::SparseMatrix<double, 0, int> >’:
/home/biocbuild/bbs-3.20-bioc/R/site-library/RcppEigen/include/Eigen/src/SparseCore/SparseCompressedBase.h:36:7:   required from ‘class Eigen::SparseCompressedBase<Eigen::SparseMatrix<double, 0, int> >’
/home/biocbuild/bbs-3.20-bioc/R/site-library/RcppEigen/include/Eigen/src/SparseCore/SparseMatrix.h:96:7:   required from ‘class Eigen::SparseMatrix<double, 0, int>’
/home/biocbuild/bbs-3.20-bioc/R/site-library/RcppEigen/include/unsupported/Eigen/src/IterativeSolvers/ConstrainedConjGrad.h:61:25:   required from here
/home/biocbuild/bbs-3.20-bioc/R/site-library/RcppEigen/include/Eigen/src/SparseCore/SparseMatrixBase.h:47:30: warning: ignoring attributes on template argument ‘Eigen::internal::packet_traits<double>::type’ {aka ‘__m128d’} [-Wignored-attributes]
   47 |                      >::type PacketReturnType;
      |                              ^~~~~~~~~~~~~~~~
In file included from /home/biocbuild/bbs-3.20-bioc/R/site-library/RcppEigen/include/Eigen/Core:165,
                 from /home/biocbuild/bbs-3.20-bioc/R/site-library/RcppEigen/include/Eigen/Dense:1,
                 from /home/biocbuild/bbs-3.20-bioc/R/site-library/RcppEigen/include/RcppEigenForward.h:28,
                 from /home/biocbuild/bbs-3.20-bioc/R/site-library/RcppEigen/include/RcppEigen.h:25,
                 from snn.cpp:1:
/home/biocbuild/bbs-3.20-bioc/R/site-library/RcppEigen/include/Eigen/src/Core/util/XprHelper.h: In instantiation of ‘struct Eigen::internal::find_best_packet<double, -1>’:
/home/biocbuild/bbs-3.20-bioc/R/site-library/RcppEigen/include/Eigen/src/Core/Matrix.h:22:57:   required from ‘struct Eigen::internal::traits<Eigen::Matrix<double, -1, -1> >’
/home/biocbuild/bbs-3.20-bioc/R/site-library/RcppEigen/include/Eigen/src/Core/PlainObjectBase.h:98:7:   required from ‘class Eigen::PlainObjectBase<Eigen::Matrix<double, -1, -1> >’
/home/biocbuild/bbs-3.20-bioc/R/site-library/RcppEigen/include/Eigen/src/Core/Matrix.h:178:7:   required from ‘class Eigen::Matrix<double, -1, -1>’
snn.cpp:13:79:   required from here
/home/biocbuild/bbs-3.20-bioc/R/site-library/RcppEigen/include/Eigen/src/Core/util/XprHelper.h:190:44: warning: ignoring attributes on template argument ‘Eigen::internal::packet_traits<double>::type’ {aka ‘__m128d’} [-Wignored-attributes]
  190 |          bool Stop = Size==Dynamic || (Size%unpacket_traits<PacketType>::size)==0 || is_same<PacketType,typename unpacket_traits<PacketType>::half>::value>
      |                                       ~~~~~^~~~~~~~~~~~~~~~~~~~~~~~~~~~~~~~~~~
/home/biocbuild/bbs-3.20-bioc/R/site-library/RcppEigen/include/Eigen/src/Core/util/XprHelper.h:190:83: warning: ignoring attributes on template argument ‘Eigen::internal::packet_traits<double>::type’ {aka ‘__m128d’} [-Wignored-attributes]
  190 |          bool Stop = Size==Dynamic || (Size%unpacket_traits<PacketType>::size)==0 || is_same<PacketType,typename unpacket_traits<PacketType>::half>::value>
      |                      ~~~~~~~~~~~~~~~~~~~~~~~~~~~~~~~~~~~~~~~~~~~~~~~~~~~~~~~~~~~~~^~~~~~~~~~~~~~~~~~~~~~~~~~~~~~~~~~~~~~~~~~~~~~~~~~~~~~~~~~~~~~~~~~~~~~~~
/home/biocbuild/bbs-3.20-bioc/R/site-library/RcppEigen/include/Eigen/src/Core/util/XprHelper.h:190:83: warning: ignoring attributes on template argument ‘Eigen::internal::packet_traits<double>::type’ {aka ‘__m128d’} [-Wignored-attributes]
/home/biocbuild/bbs-3.20-bioc/R/site-library/RcppEigen/include/Eigen/src/Core/util/XprHelper.h:190:83: warning: ignoring attributes on template argument ‘Eigen::internal::unpacket_traits<__vector(2) double>::half’ {aka ‘__m128d’} [-Wignored-attributes]
/home/biocbuild/bbs-3.20-bioc/R/site-library/RcppEigen/include/Eigen/src/Core/util/XprHelper.h:208:88: warning: ignoring attributes on template argument ‘Eigen::internal::packet_traits<double>::type’ {aka ‘__m128d’} [-Wignored-attributes]
  208 |   typedef typename find_best_packet_helper<Size,typename packet_traits<T>::type>::type type;
      |                                                                                        ^~~~
In file included from /home/biocbuild/bbs-3.20-bioc/R/site-library/RcppEigen/include/Eigen/Core:271,
                 from /home/biocbuild/bbs-3.20-bioc/R/site-library/RcppEigen/include/Eigen/Dense:1,
                 from /home/biocbuild/bbs-3.20-bioc/R/site-library/RcppEigen/include/RcppEigenForward.h:28,
                 from /home/biocbuild/bbs-3.20-bioc/R/site-library/RcppEigen/include/RcppEigen.h:25,
                 from snn.cpp:1:
/home/biocbuild/bbs-3.20-bioc/R/site-library/RcppEigen/include/Eigen/src/Core/DenseCoeffsBase.h: In instantiation of ‘class Eigen::DenseCoeffsBase<Eigen::Matrix<double, -1, -1>, 0>’:
/home/biocbuild/bbs-3.20-bioc/R/site-library/RcppEigen/include/Eigen/src/Core/DenseCoeffsBase.h:302:7:   required from ‘class Eigen::DenseCoeffsBase<Eigen::Matrix<double, -1, -1>, 1>’
/home/biocbuild/bbs-3.20-bioc/R/site-library/RcppEigen/include/Eigen/src/Core/DenseCoeffsBase.h:555:7:   required from ‘class Eigen::DenseCoeffsBase<Eigen::Matrix<double, -1, -1>, 3>’
/home/biocbuild/bbs-3.20-bioc/R/site-library/RcppEigen/include/Eigen/src/Core/DenseBase.h:41:34:   required from ‘class Eigen::DenseBase<Eigen::Matrix<double, -1, -1> >’
/home/biocbuild/bbs-3.20-bioc/R/site-library/RcppEigen/include/Eigen/src/Core/MatrixBase.h:48:34:   required from ‘class Eigen::MatrixBase<Eigen::Matrix<double, -1, -1> >’
/home/biocbuild/bbs-3.20-bioc/R/site-library/RcppEigen/include/Eigen/src/Core/PlainObjectBase.h:98:7:   required from ‘class Eigen::PlainObjectBase<Eigen::Matrix<double, -1, -1> >’
/home/biocbuild/bbs-3.20-bioc/R/site-library/RcppEigen/include/Eigen/src/Core/Matrix.h:178:7:   required from ‘class Eigen::Matrix<double, -1, -1>’
snn.cpp:13:79:   required from here
/home/biocbuild/bbs-3.20-bioc/R/site-library/RcppEigen/include/Eigen/src/Core/DenseCoeffsBase.h:56:30: warning: ignoring attributes on template argument ‘Eigen::internal::packet_traits<double>::type’ {aka ‘__m128d’} [-Wignored-attributes]
   56 |                      >::type PacketReturnType;
      |                              ^~~~~~~~~~~~~~~~
In file included from /home/biocbuild/bbs-3.20-bioc/R/site-library/RcppEigen/include/Eigen/SparseCore:37,
                 from /home/biocbuild/bbs-3.20-bioc/R/site-library/RcppEigen/include/Eigen/Sparse:26,
                 from /home/biocbuild/bbs-3.20-bioc/R/site-library/RcppEigen/include/RcppEigenForward.h:29,
                 from /home/biocbuild/bbs-3.20-bioc/R/site-library/RcppEigen/include/RcppEigen.h:25,
                 from snn.cpp:1:
/home/biocbuild/bbs-3.20-bioc/R/site-library/RcppEigen/include/Eigen/src/SparseCore/SparseMatrixBase.h: In instantiation of ‘class Eigen::SparseMatrixBase<Eigen::Transpose<Eigen::SparseMatrix<double, 0, int> > >’:
/home/biocbuild/bbs-3.20-bioc/R/site-library/RcppEigen/include/Eigen/src/SparseCore/SparseCompressedBase.h:36:7:   required from ‘class Eigen::SparseCompressedBase<Eigen::Transpose<Eigen::SparseMatrix<double, 0, int> > >’
/home/biocbuild/bbs-3.20-bioc/R/site-library/RcppEigen/include/Eigen/src/SparseCore/SparseTranspose.h:22:9:   required from ‘class Eigen::internal::SparseTransposeImpl<Eigen::SparseMatrix<double, 0, int>, 1024>’
/home/biocbuild/bbs-3.20-bioc/R/site-library/RcppEigen/include/Eigen/src/SparseCore/SparseTranspose.h:45:37:   required from ‘class Eigen::TransposeImpl<Eigen::SparseMatrix<double, 0, int>, Eigen::Sparse>’
/home/biocbuild/bbs-3.20-bioc/R/site-library/RcppEigen/include/Eigen/src/Core/Transpose.h:52:37:   required from ‘class Eigen::Transpose<Eigen::SparseMatrix<double, 0, int> >’
snn.cpp:24:29:   required from here
/home/biocbuild/bbs-3.20-bioc/R/site-library/RcppEigen/include/Eigen/src/SparseCore/SparseMatrixBase.h:47:30: warning: ignoring attributes on template argument ‘Eigen::internal::packet_traits<double>::type’ {aka ‘__m128d’} [-Wignored-attributes]
   47 |                      >::type PacketReturnType;
      |                              ^~~~~~~~~~~~~~~~
/home/biocbuild/bbs-3.20-bioc/R/site-library/RcppEigen/include/Eigen/src/SparseCore/SparseMatrixBase.h: In instantiation of ‘class Eigen::SparseMatrixBase<Eigen::Product<Eigen::SparseMatrix<double, 0, int>, Eigen::Transpose<Eigen::SparseMatrix<double, 0, int> >, 2> >’:
/home/biocbuild/bbs-3.20-bioc/R/site-library/RcppEigen/include/Eigen/src/Core/Product.h:145:7:   required from ‘class Eigen::ProductImpl<Eigen::SparseMatrix<double, 0, int>, Eigen::Transpose<Eigen::SparseMatrix<double, 0, int> >, 2, Eigen::Sparse>’
/home/biocbuild/bbs-3.20-bioc/R/site-library/RcppEigen/include/Eigen/src/Core/Product.h:71:7:   required from ‘class Eigen::Product<Eigen::SparseMatrix<double, 0, int>, Eigen::Transpose<Eigen::SparseMatrix<double, 0, int> >, 2>’
snn.cpp:24:31:   required from here
/home/biocbuild/bbs-3.20-bioc/R/site-library/RcppEigen/include/Eigen/src/SparseCore/SparseMatrixBase.h:47:30: warning: ignoring attributes on template argument ‘Eigen::internal::packet_traits<double>::type’ {aka ‘__m128d’} [-Wignored-attributes]
snn.cpp: In function ‘std::vector<double> SNN_SmallestNonzero_Dist(Eigen::SparseMatrix<double, 0, int>, Eigen::MatrixXd, int, std::vector<double>)’:
snn.cpp:96:13: warning: comparison of integer expressions of different signedness: ‘int’ and ‘std::vector<long unsigned int>::size_type’ {aka ‘long unsigned int’} [-Wsign-compare]
   96 |     if (n_i > nonzero_order.size()) n_i = nonzero_order.size();
      |         ~~~~^~~~~~~~~~~~~~~~~~~~~~
snn.cpp:98:23: warning: comparison of integer expressions of different signedness: ‘int’ and ‘std::vector<long unsigned int>::size_type’ {aka ‘long unsigned int’} [-Wsign-compare]
   98 |     for (int j = 0; j < nonzero_order.size(); ++j) {
      |                     ~~^~~~~~~~~~~~~~~~~~~~~~
snn.cpp:102:23: warning: comparison of integer expressions of different signedness: ‘std::vector<double>::size_type’ {aka ‘long unsigned int’} and ‘int’ [-Wsign-compare]
  102 |       if(dists.size() < n_i  || nonzero[nonzero_order[j]] == nonzero[nonzero_order[n_i-1]]) {
      |          ~~~~~~~~~~~~~^~~~~
In file included from /home/biocbuild/bbs-3.20-bioc/R/site-library/RcppEigen/include/Eigen/Core:271,
                 from /home/biocbuild/bbs-3.20-bioc/R/site-library/RcppEigen/include/Eigen/Dense:1,
                 from /home/biocbuild/bbs-3.20-bioc/R/site-library/RcppEigen/include/RcppEigenForward.h:28,
                 from /home/biocbuild/bbs-3.20-bioc/R/site-library/RcppEigen/include/RcppEigen.h:25,
                 from snn.cpp:1:
/home/biocbuild/bbs-3.20-bioc/R/site-library/RcppEigen/include/Eigen/src/Core/DenseCoeffsBase.h: In instantiation of ‘class Eigen::DenseCoeffsBase<Eigen::Block<Eigen::Matrix<double, -1, -1>, 1, -1, false>, 0>’:
/home/biocbuild/bbs-3.20-bioc/R/site-library/RcppEigen/include/Eigen/src/Core/DenseCoeffsBase.h:302:7:   required from ‘class Eigen::DenseCoeffsBase<Eigen::Block<Eigen::Matrix<double, -1, -1>, 1, -1, false>, 1>’
/home/biocbuild/bbs-3.20-bioc/R/site-library/RcppEigen/include/Eigen/src/Core/DenseCoeffsBase.h:555:7:   required from ‘class Eigen::DenseCoeffsBase<Eigen::Block<Eigen::Matrix<double, -1, -1>, 1, -1, false>, 3>’
/home/biocbuild/bbs-3.20-bioc/R/site-library/RcppEigen/include/Eigen/src/Core/DenseBase.h:41:34:   required from ‘class Eigen::DenseBase<Eigen::Block<Eigen::Matrix<double, -1, -1>, 1, -1, false> >’
/home/biocbuild/bbs-3.20-bioc/R/site-library/RcppEigen/include/Eigen/src/Core/MatrixBase.h:48:34:   required from ‘class Eigen::MatrixBase<Eigen::Block<Eigen::Matrix<double, -1, -1>, 1, -1, false> >’
/home/biocbuild/bbs-3.20-bioc/R/site-library/RcppEigen/include/Eigen/src/Core/MapBase.h:37:34:   required from ‘class Eigen::MapBase<Eigen::Block<Eigen::Matrix<double, -1, -1>, 1, -1, false>, 0>’
/home/biocbuild/bbs-3.20-bioc/R/site-library/RcppEigen/include/Eigen/src/Core/MapBase.h:223:34:   required from ‘class Eigen::MapBase<Eigen::Block<Eigen::Matrix<double, -1, -1>, 1, -1, false>, 1>’
/home/biocbuild/bbs-3.20-bioc/R/site-library/RcppEigen/include/Eigen/src/Core/Block.h:329:7:   required from ‘class Eigen::internal::BlockImpl_dense<Eigen::Matrix<double, -1, -1>, 1, -1, false, true>’
/home/biocbuild/bbs-3.20-bioc/R/site-library/RcppEigen/include/Eigen/src/Core/Block.h:154:7:   required from ‘class Eigen::BlockImpl<Eigen::Matrix<double, -1, -1>, 1, -1, false, Eigen::Dense>’
/home/biocbuild/bbs-3.20-bioc/R/site-library/RcppEigen/include/Eigen/src/Core/Block.h:103:81:   required from ‘class Eigen::Block<Eigen::Matrix<double, -1, -1>, 1, -1, false>’
snn.cpp:103:30:   required from here
/home/biocbuild/bbs-3.20-bioc/R/site-library/RcppEigen/include/Eigen/src/Core/DenseCoeffsBase.h:56:30: warning: ignoring attributes on template argument ‘Eigen::internal::packet_traits<double>::type’ {aka ‘__m128d’} [-Wignored-attributes]
   56 |                      >::type PacketReturnType;
      |                              ^~~~~~~~~~~~~~~~
/home/biocbuild/bbs-3.20-bioc/R/site-library/RcppEigen/include/Eigen/src/Core/DenseCoeffsBase.h: In instantiation of ‘class Eigen::DenseCoeffsBase<Eigen::CwiseBinaryOp<Eigen::internal::scalar_difference_op<double, double>, const Eigen::Block<Eigen::Matrix<double, -1, -1>, 1, -1, false>, const Eigen::Block<Eigen::Matrix<double, -1, -1>, 1, -1, false> >, 0>’:
/home/biocbuild/bbs-3.20-bioc/R/site-library/RcppEigen/include/Eigen/src/Core/DenseBase.h:41:34:   required from ‘class Eigen::DenseBase<Eigen::CwiseBinaryOp<Eigen::internal::scalar_difference_op<double, double>, const Eigen::Block<Eigen::Matrix<double, -1, -1>, 1, -1, false>, const Eigen::Block<Eigen::Matrix<double, -1, -1>, 1, -1, false> > >’
/home/biocbuild/bbs-3.20-bioc/R/site-library/RcppEigen/include/Eigen/src/Core/MatrixBase.h:48:34:   required from ‘class Eigen::MatrixBase<Eigen::CwiseBinaryOp<Eigen::internal::scalar_difference_op<double, double>, const Eigen::Block<Eigen::Matrix<double, -1, -1>, 1, -1, false>, const Eigen::Block<Eigen::Matrix<double, -1, -1>, 1, -1, false> > >’
/home/biocbuild/bbs-3.20-bioc/R/site-library/RcppEigen/include/Eigen/src/Core/CwiseBinaryOp.h:148:7:   required from ‘class Eigen::CwiseBinaryOpImpl<Eigen::internal::scalar_difference_op<double, double>, const Eigen::Block<Eigen::Matrix<double, -1, -1>, 1, -1, false>, const Eigen::Block<Eigen::Matrix<double, -1, -1>, 1, -1, false>, Eigen::Dense>’
/home/biocbuild/bbs-3.20-bioc/R/site-library/RcppEigen/include/Eigen/src/Core/CwiseBinaryOp.h:77:7:   required from ‘class Eigen::CwiseBinaryOp<Eigen::internal::scalar_difference_op<double, double>, const Eigen::Block<Eigen::Matrix<double, -1, -1>, 1, -1, false>, const Eigen::Block<Eigen::Matrix<double, -1, -1>, 1, -1, false> >’
snn.cpp:103:48:   required from here
/home/biocbuild/bbs-3.20-bioc/R/site-library/RcppEigen/include/Eigen/src/Core/DenseCoeffsBase.h:56:30: warning: ignoring attributes on template argument ‘Eigen::internal::packet_traits<double>::type’ {aka ‘__m128d’} [-Wignored-attributes]
snn.cpp:114:22: warning: comparison of integer expressions of different signedness: ‘std::vector<double>::size_type’ {aka ‘long unsigned int’} and ‘int’ [-Wsign-compare]
  114 |     if (dists.size() > n_i) {
      |         ~~~~~~~~~~~~~^~~~~
In file included from /home/biocbuild/bbs-3.20-bioc/R/site-library/RcppEigen/include/Eigen/SparseCore:37,
                 from /home/biocbuild/bbs-3.20-bioc/R/site-library/RcppEigen/include/Eigen/Sparse:26,
                 from /home/biocbuild/bbs-3.20-bioc/R/site-library/RcppEigen/include/RcppEigenForward.h:29,
                 from /home/biocbuild/bbs-3.20-bioc/R/site-library/RcppEigen/include/RcppEigen.h:25,
                 from snn.cpp:1:
/home/biocbuild/bbs-3.20-bioc/R/site-library/RcppEigen/include/Eigen/src/SparseCore/SparseMatrixBase.h: In instantiation of ‘class Eigen::SparseMatrixBase<Eigen::SparseMatrix<double, 1, int> >’:
/home/biocbuild/bbs-3.20-bioc/R/site-library/RcppEigen/include/Eigen/src/SparseCore/SparseCompressedBase.h:36:7:   required from ‘class Eigen::SparseCompressedBase<Eigen::SparseMatrix<double, 1, int> >’
/home/biocbuild/bbs-3.20-bioc/R/site-library/RcppEigen/include/Eigen/src/SparseCore/SparseMatrix.h:96:7:   required from ‘class Eigen::SparseMatrix<double, 1, int>’
/home/biocbuild/bbs-3.20-bioc/R/site-library/RcppEigen/include/Eigen/src/SparseCore/SparseMatrix.h:1040:66:   required from ‘void Eigen::internal::set_from_triplets(const InputIterator&, const InputIterator&, SparseMatrixType&, DupFunctor) [with InputIterator = __gnu_cxx::__normal_iterator<Eigen::Triplet<double>*, std::vector<Eigen::Triplet<double> > >; SparseMatrixType = Eigen::SparseMatrix<double, 0, int>; DupFunctor = Eigen::internal::scalar_sum_op<double, double>]’
/home/biocbuild/bbs-3.20-bioc/R/site-library/RcppEigen/include/Eigen/src/SparseCore/SparseMatrix.h:1110:92:   required from ‘void Eigen::SparseMatrix<_Scalar, _Flags, _StorageIndex>::setFromTriplets(const InputIterators&, const InputIterators&) [with InputIterators = __gnu_cxx::__normal_iterator<Eigen::Triplet<double>*, std::vector<Eigen::Triplet<double> > >; _Scalar = double; int _Options = 0; _StorageIndex = int]’
snn.cpp:23:22:   required from here
/home/biocbuild/bbs-3.20-bioc/R/site-library/RcppEigen/include/Eigen/src/SparseCore/SparseMatrixBase.h:47:30: warning: ignoring attributes on template argument ‘Eigen::internal::packet_traits<double>::type’ {aka ‘__m128d’} [-Wignored-attributes]
   47 |                      >::type PacketReturnType;
      |                              ^~~~~~~~~~~~~~~~
In file included from /home/biocbuild/bbs-3.20-bioc/R/site-library/RcppEigen/include/Eigen/Core:271,
                 from /home/biocbuild/bbs-3.20-bioc/R/site-library/RcppEigen/include/Eigen/Dense:1,
                 from /home/biocbuild/bbs-3.20-bioc/R/site-library/RcppEigen/include/RcppEigenForward.h:28,
                 from /home/biocbuild/bbs-3.20-bioc/R/site-library/RcppEigen/include/RcppEigen.h:25,
                 from snn.cpp:1:
/home/biocbuild/bbs-3.20-bioc/R/site-library/RcppEigen/include/Eigen/src/Core/DenseCoeffsBase.h: In instantiation of ‘class Eigen::DenseCoeffsBase<Eigen::CwiseUnaryOp<Eigen::internal::scalar_abs2_op<double>, const Eigen::CwiseBinaryOp<Eigen::internal::scalar_difference_op<double, double>, const Eigen::Block<Eigen::Matrix<double, -1, -1>, 1, -1, false>, const Eigen::Block<Eigen::Matrix<double, -1, -1>, 1, -1, false> > >, 0>’:
/home/biocbuild/bbs-3.20-bioc/R/site-library/RcppEigen/include/Eigen/src/Core/DenseBase.h:41:34:   required from ‘class Eigen::DenseBase<Eigen::CwiseUnaryOp<Eigen::internal::scalar_abs2_op<double>, const Eigen::CwiseBinaryOp<Eigen::internal::scalar_difference_op<double, double>, const Eigen::Block<Eigen::Matrix<double, -1, -1>, 1, -1, false>, const Eigen::Block<Eigen::Matrix<double, -1, -1>, 1, -1, false> > > >’
/home/biocbuild/bbs-3.20-bioc/R/site-library/RcppEigen/include/Eigen/src/Core/MatrixBase.h:48:34:   required from ‘class Eigen::MatrixBase<Eigen::CwiseUnaryOp<Eigen::internal::scalar_abs2_op<double>, const Eigen::CwiseBinaryOp<Eigen::internal::scalar_difference_op<double, double>, const Eigen::Block<Eigen::Matrix<double, -1, -1>, 1, -1, false>, const Eigen::Block<Eigen::Matrix<double, -1, -1>, 1, -1, false> > > >’
/home/biocbuild/bbs-3.20-bioc/R/site-library/RcppEigen/include/Eigen/src/Core/CwiseUnaryOp.h:94:7:   required from ‘class Eigen::CwiseUnaryOpImpl<Eigen::internal::scalar_abs2_op<double>, const Eigen::CwiseBinaryOp<Eigen::internal::scalar_difference_op<double, double>, const Eigen::Block<Eigen::Matrix<double, -1, -1>, 1, -1, false>, const Eigen::Block<Eigen::Matrix<double, -1, -1>, 1, -1, false> >, Eigen::Dense>’
/home/biocbuild/bbs-3.20-bioc/R/site-library/RcppEigen/include/Eigen/src/Core/CwiseUnaryOp.h:55:7:   required from ‘class Eigen::CwiseUnaryOp<Eigen::internal::scalar_abs2_op<double>, const Eigen::CwiseBinaryOp<Eigen::internal::scalar_difference_op<double, double>, const Eigen::Block<Eigen::Matrix<double, -1, -1>, 1, -1, false>, const Eigen::Block<Eigen::Matrix<double, -1, -1>, 1, -1, false> > >’
/home/biocbuild/bbs-3.20-bioc/R/site-library/RcppEigen/include/Eigen/src/Core/Dot.h:98:40:   required from ‘typename Eigen::NumTraits<typename Eigen::internal::traits<T>::Scalar>::Real Eigen::MatrixBase<Derived>::squaredNorm() const [with Derived = Eigen::CwiseBinaryOp<Eigen::internal::scalar_difference_op<double, double>, const Eigen::Block<Eigen::Matrix<double, -1, -1>, 1, -1, false>, const Eigen::Block<Eigen::Matrix<double, -1, -1>, 1, -1, false> >; typename Eigen::NumTraits<typename Eigen::internal::traits<T>::Scalar>::Real = double; typename Eigen::internal::traits<T>::Scalar = double]’
/home/biocbuild/bbs-3.20-bioc/R/site-library/RcppEigen/include/Eigen/src/Core/Dot.h:110:23:   required from ‘typename Eigen::NumTraits<typename Eigen::internal::traits<T>::Scalar>::Real Eigen::MatrixBase<Derived>::norm() const [with Derived = Eigen::CwiseBinaryOp<Eigen::internal::scalar_difference_op<double, double>, const Eigen::Block<Eigen::Matrix<double, -1, -1>, 1, -1, false>, const Eigen::Block<Eigen::Matrix<double, -1, -1>, 1, -1, false> >; typename Eigen::NumTraits<typename Eigen::internal::traits<T>::Scalar>::Real = double; typename Eigen::internal::traits<T>::Scalar = double]’
snn.cpp:103:55:   required from here
/home/biocbuild/bbs-3.20-bioc/R/site-library/RcppEigen/include/Eigen/src/Core/DenseCoeffsBase.h:56:30: warning: ignoring attributes on template argument ‘Eigen::internal::packet_traits<double>::type’ {aka ‘__m128d’} [-Wignored-attributes]
   56 |                      >::type PacketReturnType;
      |                              ^~~~~~~~~~~~~~~~
/home/biocbuild/bbs-3.20-bioc/R/site-library/RcppEigen/include/Eigen/src/Core/DenseCoeffsBase.h: In instantiation of ‘class Eigen::DenseCoeffsBase<Eigen::SparseMatrix<double, 1, int>, 0>’:
/home/biocbuild/bbs-3.20-bioc/R/site-library/RcppEigen/include/Eigen/src/SparseCore/SparseCompressedBase.h:336:80:   required from ‘struct Eigen::internal::evaluator<Eigen::SparseCompressedBase<Eigen::SparseMatrix<double, 1, int> > >’
/home/biocbuild/bbs-3.20-bioc/R/site-library/RcppEigen/include/Eigen/src/SparseCore/SparseMatrix.h:1505:8:   required from ‘struct Eigen::internal::evaluator<Eigen::SparseMatrix<double, 1, int> >’
/home/biocbuild/bbs-3.20-bioc/R/site-library/RcppEigen/include/Eigen/src/SparseCore/SparseMatrix.h:1181:93:   required from ‘Eigen::SparseMatrix<_Scalar, _Options, _StorageIndex>& Eigen::SparseMatrix<_Scalar, _Flags, _StorageIndex>::operator=(const Eigen::SparseMatrixBase<OtherDerived>&) [with OtherDerived = Eigen::SparseMatrix<double, 1, int>; _Scalar = double; int _Options = 0; _StorageIndex = int]’
/home/biocbuild/bbs-3.20-bioc/R/site-library/RcppEigen/include/Eigen/src/SparseCore/SparseMatrix.h:1063:7:   required from ‘void Eigen::internal::set_from_triplets(const InputIterator&, const InputIterator&, SparseMatrixType&, DupFunctor) [with InputIterator = __gnu_cxx::__normal_iterator<Eigen::Triplet<double>*, std::vector<Eigen::Triplet<double> > >; SparseMatrixType = Eigen::SparseMatrix<double, 0, int>; DupFunctor = Eigen::internal::scalar_sum_op<double, double>]’
/home/biocbuild/bbs-3.20-bioc/R/site-library/RcppEigen/include/Eigen/src/SparseCore/SparseMatrix.h:1110:92:   required from ‘void Eigen::SparseMatrix<_Scalar, _Flags, _StorageIndex>::setFromTriplets(const InputIterators&, const InputIterators&) [with InputIterators = __gnu_cxx::__normal_iterator<Eigen::Triplet<double>*, std::vector<Eigen::Triplet<double> > >; _Scalar = double; int _Options = 0; _StorageIndex = int]’
snn.cpp:23:22:   required from here
/home/biocbuild/bbs-3.20-bioc/R/site-library/RcppEigen/include/Eigen/src/Core/DenseCoeffsBase.h:56:30: warning: ignoring attributes on template argument ‘Eigen::internal::packet_traits<double>::type’ {aka ‘__m128d’} [-Wignored-attributes]
/home/biocbuild/bbs-3.20-bioc/R/site-library/RcppEigen/include/Eigen/src/Core/DenseCoeffsBase.h: In instantiation of ‘class Eigen::DenseCoeffsBase<Eigen::SparseMatrix<double, 0, int>, 0>’:
/home/biocbuild/bbs-3.20-bioc/R/site-library/RcppEigen/include/Eigen/src/SparseCore/SparseCompressedBase.h:336:80:   required from ‘struct Eigen::internal::evaluator<Eigen::SparseCompressedBase<Eigen::SparseMatrix<double, 0, int> > >’
/home/biocbuild/bbs-3.20-bioc/R/site-library/RcppEigen/include/Eigen/src/SparseCore/SparseMatrix.h:1505:8:   required from ‘struct Eigen::internal::evaluator<Eigen::SparseMatrix<double, 0, int> >’
/home/biocbuild/bbs-3.20-bioc/R/site-library/RcppEigen/include/Eigen/src/SparseCore/SparseUtil.h:121:8:   required from ‘struct Eigen::internal::plain_object_eval<Eigen::SparseMatrix<double, 0, int>, Eigen::Sparse>’
/home/biocbuild/bbs-3.20-bioc/R/site-library/RcppEigen/include/Eigen/src/SparseCore/SparseProduct.h:71:53:   required from ‘static void Eigen::internal::generic_product_impl<Lhs, Rhs, Eigen::SparseShape, Eigen::SparseShape, ProductType>::evalTo(Dest&, const Lhs&, const Rhs&, Eigen::SparseShape) [with Dest = Eigen::SparseMatrix<double, 0, int>; Lhs = Eigen::SparseMatrix<double, 0, int>; Rhs = Eigen::Transpose<Eigen::SparseMatrix<double, 0, int> >; int ProductType = 8]’
/home/biocbuild/bbs-3.20-bioc/R/site-library/RcppEigen/include/Eigen/src/SparseCore/SparseProduct.h:43:11:   required from ‘static void Eigen::internal::generic_product_impl<Lhs, Rhs, Eigen::SparseShape, Eigen::SparseShape, ProductType>::evalTo(Dest&, const Lhs&, const Rhs&) [with Dest = Eigen::SparseMatrix<double, 0, int>; Lhs = Eigen::SparseMatrix<double, 0, int>; Rhs = Eigen::Transpose<Eigen::SparseMatrix<double, 0, int> >; int ProductType = 8]’
/home/biocbuild/bbs-3.20-bioc/R/site-library/RcppEigen/include/Eigen/src/SparseCore/SparseProduct.h:174:51:   required from ‘Eigen::SparseMatrix<_Scalar, _Options, _StorageIndex>& Eigen::SparseMatrix<_Scalar, _Flags, _StorageIndex>::operator=(const Eigen::Product<Lhs, Rhs, 2>&) [with Lhs = Eigen::SparseMatrix<double, 0, int>; Rhs = Eigen::Transpose<Eigen::SparseMatrix<double, 0, int> >; _Scalar = double; int _Options = 0; _StorageIndex = int]’
snn.cpp:24:31:   required from here
/home/biocbuild/bbs-3.20-bioc/R/site-library/RcppEigen/include/Eigen/src/Core/DenseCoeffsBase.h:56:30: warning: ignoring attributes on template argument ‘Eigen::internal::packet_traits<double>::type’ {aka ‘__m128d’} [-Wignored-attributes]
In file included from /home/biocbuild/bbs-3.20-bioc/R/site-library/RcppEigen/include/Eigen/Core:277,
                 from /home/biocbuild/bbs-3.20-bioc/R/site-library/RcppEigen/include/Eigen/Dense:1,
                 from /home/biocbuild/bbs-3.20-bioc/R/site-library/RcppEigen/include/RcppEigenForward.h:28,
                 from /home/biocbuild/bbs-3.20-bioc/R/site-library/RcppEigen/include/RcppEigen.h:25,
                 from snn.cpp:1:
/home/biocbuild/bbs-3.20-bioc/R/site-library/RcppEigen/include/Eigen/src/Core/CoreEvaluators.h: In instantiation of ‘struct Eigen::internal::evaluator<Eigen::Block<Eigen::Matrix<double, -1, -1>, 1, -1, false> >’:
/home/biocbuild/bbs-3.20-bioc/R/site-library/RcppEigen/include/Eigen/src/Core/CoreEvaluators.h:100:8:   required from ‘struct Eigen::internal::evaluator<const Eigen::Block<Eigen::Matrix<double, -1, -1>, 1, -1, false> >’
/home/biocbuild/bbs-3.20-bioc/R/site-library/RcppEigen/include/Eigen/src/Core/CoreEvaluators.h:739:41:   required from ‘struct Eigen::internal::binary_evaluator<Eigen::CwiseBinaryOp<Eigen::internal::scalar_difference_op<double, double>, const Eigen::Block<Eigen::Matrix<double, -1, -1>, 1, -1, false>, const Eigen::Block<Eigen::Matrix<double, -1, -1>, 1, -1, false> >, Eigen::internal::IndexBased, Eigen::internal::IndexBased, double, double>’
/home/biocbuild/bbs-3.20-bioc/R/site-library/RcppEigen/include/Eigen/src/Core/CoreEvaluators.h:722:8:   required from ‘struct Eigen::internal::evaluator<Eigen::CwiseBinaryOp<Eigen::internal::scalar_difference_op<double, double>, const Eigen::Block<Eigen::Matrix<double, -1, -1>, 1, -1, false>, const Eigen::Block<Eigen::Matrix<double, -1, -1>, 1, -1, false> > >’
/home/biocbuild/bbs-3.20-bioc/R/site-library/RcppEigen/include/Eigen/src/Core/CoreEvaluators.h:100:8:   required from ‘struct Eigen::internal::evaluator<const Eigen::CwiseBinaryOp<Eigen::internal::scalar_difference_op<double, double>, const Eigen::Block<Eigen::Matrix<double, -1, -1>, 1, -1, false>, const Eigen::Block<Eigen::Matrix<double, -1, -1>, 1, -1, false> > >’
/home/biocbuild/bbs-3.20-bioc/R/site-library/RcppEigen/include/Eigen/src/Core/CoreEvaluators.h:564:45:   [ skipping 2 instantiation contexts, use -ftemplate-backtrace-limit=0 to disable ]
/home/biocbuild/bbs-3.20-bioc/R/site-library/RcppEigen/include/Eigen/src/Core/Redux.h:357:7:   required from ‘class Eigen::internal::redux_evaluator<Eigen::CwiseUnaryOp<Eigen::internal::scalar_abs2_op<double>, const Eigen::CwiseBinaryOp<Eigen::internal::scalar_difference_op<double, double>, const Eigen::Block<Eigen::Matrix<double, -1, -1>, 1, -1, false>, const Eigen::Block<Eigen::Matrix<double, -1, -1>, 1, -1, false> > > >’
/home/biocbuild/bbs-3.20-bioc/R/site-library/RcppEigen/include/Eigen/src/Core/Redux.h:414:17:   required from ‘typename Eigen::internal::traits<T>::Scalar Eigen::DenseBase<Derived>::redux(const Func&) const [with BinaryOp = Eigen::internal::scalar_sum_op<double, double>; Derived = Eigen::CwiseUnaryOp<Eigen::internal::scalar_abs2_op<double>, const Eigen::CwiseBinaryOp<Eigen::internal::scalar_difference_op<double, double>, const Eigen::Block<Eigen::Matrix<double, -1, -1>, 1, -1, false>, const Eigen::Block<Eigen::Matrix<double, -1, -1>, 1, -1, false> > >; typename Eigen::internal::traits<T>::Scalar = double]’
/home/biocbuild/bbs-3.20-bioc/R/site-library/RcppEigen/include/Eigen/src/Core/Redux.h:463:25:   required from ‘typename Eigen::internal::traits<T>::Scalar Eigen::DenseBase<Derived>::sum() const [with Derived = Eigen::CwiseUnaryOp<Eigen::internal::scalar_abs2_op<double>, const Eigen::CwiseBinaryOp<Eigen::internal::scalar_difference_op<double, double>, const Eigen::Block<Eigen::Matrix<double, -1, -1>, 1, -1, false>, const Eigen::Block<Eigen::Matrix<double, -1, -1>, 1, -1, false> > >; typename Eigen::internal::traits<T>::Scalar = double]’
/home/biocbuild/bbs-3.20-bioc/R/site-library/RcppEigen/include/Eigen/src/Core/Dot.h:98:46:   required from ‘typename Eigen::NumTraits<typename Eigen::internal::traits<T>::Scalar>::Real Eigen::MatrixBase<Derived>::squaredNorm() const [with Derived = Eigen::CwiseBinaryOp<Eigen::internal::scalar_difference_op<double, double>, const Eigen::Block<Eigen::Matrix<double, -1, -1>, 1, -1, false>, const Eigen::Block<Eigen::Matrix<double, -1, -1>, 1, -1, false> >; typename Eigen::NumTraits<typename Eigen::internal::traits<T>::Scalar>::Real = double; typename Eigen::internal::traits<T>::Scalar = double]’
/home/biocbuild/bbs-3.20-bioc/R/site-library/RcppEigen/include/Eigen/src/Core/Dot.h:110:23:   required from ‘typename Eigen::NumTraits<typename Eigen::internal::traits<T>::Scalar>::Real Eigen::MatrixBase<Derived>::norm() const [with Derived = Eigen::CwiseBinaryOp<Eigen::internal::scalar_difference_op<double, double>, const Eigen::Block<Eigen::Matrix<double, -1, -1>, 1, -1, false>, const Eigen::Block<Eigen::Matrix<double, -1, -1>, 1, -1, false> >; typename Eigen::NumTraits<typename Eigen::internal::traits<T>::Scalar>::Real = double; typename Eigen::internal::traits<T>::Scalar = double]’
snn.cpp:103:55:   required from here
/home/biocbuild/bbs-3.20-bioc/R/site-library/RcppEigen/include/Eigen/src/Core/CoreEvaluators.h:1071:54: warning: ignoring attributes on template argument ‘Eigen::internal::packet_traits<double>::type’ {aka ‘__m128d’} [-Wignored-attributes]
 1071 |     PacketAlignment = unpacket_traits<PacketScalar>::alignment,
      |                                                      ^~~~~~~~~
g++ -std=gnu++11 -shared -L/home/biocbuild/bbs-3.20-bioc/R/lib -L/usr/local/lib -o HGC.so HGC_unordered_map.o RHGC_unordered_map.o RTime.o RcppExports.o Rget_leaves.o snn.o -L/home/biocbuild/bbs-3.20-bioc/R/lib -lR
installing to /home/biocbuild/bbs-3.20-bioc/R/site-library/00LOCK-HGC/00new/HGC/libs
** R
** data
** inst
** byte-compile and prepare package for lazy loading
** help
*** installing help indices
** building package indices
** installing vignettes
** testing if installed package can be loaded from temporary location
** checking absolute paths in shared objects and dynamic libraries
** testing if installed package can be loaded from final location
** testing if installed package keeps a record of temporary installation path
* DONE (HGC)