Back to Multiple platform build/check report for BioC 3.20:   simplified   long
ABCDEFG[H]IJKLMNOPQRSTUVWXYZ

This page was generated on 2024-05-15 13:46:34 -0400 (Wed, 15 May 2024).

HostnameOSArch (*)R versionInstalled pkgs
nebbiolo2Linux (Ubuntu 22.04.3 LTS)x86_644.4.0 RC (2024-04-16 r86468) -- "Puppy Cup" 4663
kunpeng2Linux (openEuler 22.03 LTS-SP1)aarch644.4.0 beta (2024-04-15 r86425) -- "Puppy Cup" 4480
Click on any hostname to see more info about the system (e.g. compilers)      (*) as reported by 'uname -p', except on Windows and Mac OS X

Package 923/2230HostnameOS / ArchINSTALLBUILDCHECKBUILD BIN
HELP 1.63.0  (landing page)
Reid F. Thompson
Snapshot Date: 2024-05-13 14:05:07 -0400 (Mon, 13 May 2024)
git_url: https://git.bioconductor.org/packages/HELP
git_branch: devel
git_last_commit: 4a43015
git_last_commit_date: 2024-04-30 10:18:13 -0400 (Tue, 30 Apr 2024)
nebbiolo2Linux (Ubuntu 22.04.3 LTS) / x86_64  OK    OK    OK  UNNEEDED, same version is already published
kunpeng2Linux (openEuler 22.03 LTS-SP1) / aarch64  OK    OK    OK  
kjohnson1macOS 13.6.6 Ventura / arm64see weekly results here

CHECK results for HELP on kunpeng2


To the developers/maintainers of the HELP package:
- Allow up to 24 hours (and sometimes 48 hours) for your latest push to git@git.bioconductor.org:packages/HELP.git to reflect on this report. See Troubleshooting Build Report for more information.
- Use the following Renviron settings to reproduce errors and warnings.
- If 'R CMD check' started to fail recently on the Linux builder(s) over a missing dependency, add the missing dependency to 'Suggests:' in your DESCRIPTION file. See Renviron.bioc for more information.
- See Martin Grigorov's blog post for how to debug Linux ARM64 related issues on a x86_64 host.

raw results


Summary

Package: HELP
Version: 1.62.0
Command: /home/biocbuild/R/R-beta-2024-04-15_r86425/bin/R CMD check --install=check:HELP.install-out.txt --library=/home/biocbuild/R/R-beta-2024-04-15_r86425/site-library --no-vignettes --timings HELP_1.62.0.tar.gz
StartedAt: 2024-05-09 08:16:05 -0000 (Thu, 09 May 2024)
EndedAt: 2024-05-09 08:18:11 -0000 (Thu, 09 May 2024)
EllapsedTime: 126.2 seconds
RetCode: 0
Status:   OK  
CheckDir: HELP.Rcheck
Warnings: 0

Command output

##############################################################################
##############################################################################
###
### Running command:
###
###   /home/biocbuild/R/R-beta-2024-04-15_r86425/bin/R CMD check --install=check:HELP.install-out.txt --library=/home/biocbuild/R/R-beta-2024-04-15_r86425/site-library --no-vignettes --timings HELP_1.62.0.tar.gz
###
##############################################################################
##############################################################################


* using log directory ‘/home/biocbuild/bbs-3.19-bioc/meat/HELP.Rcheck’
* using R version 4.4.0 beta (2024-04-15 r86425)
* using platform: aarch64-unknown-linux-gnu
* R was compiled by
    gcc (GCC) 10.3.1
    GNU Fortran (GCC) 10.3.1
* running under: openEuler 22.03 (LTS-SP1)
* using session charset: UTF-8
* using option ‘--no-vignettes’
* checking for file ‘HELP/DESCRIPTION’ ... OK
* this is package ‘HELP’ version ‘1.62.0’
* checking package namespace information ... OK
* checking package dependencies ... OK
* checking if this is a source package ... OK
* checking if there is a namespace ... OK
* checking for hidden files and directories ... OK
* checking for portable file names ... OK
* checking for sufficient/correct file permissions ... OK
* checking whether package ‘HELP’ can be installed ... OK
* checking installed package size ... OK
* checking package directory ... OK
* checking ‘build’ directory ... OK
* checking DESCRIPTION meta-information ... OK
* checking top-level files ... OK
* checking for left-over files ... OK
* checking index information ... OK
* checking package subdirectories ... OK
* checking code files for non-ASCII characters ... OK
* checking R files for syntax errors ... OK
* checking whether the package can be loaded ... OK
* checking whether the package can be loaded with stated dependencies ... OK
* checking whether the package can be unloaded cleanly ... OK
* checking whether the namespace can be loaded with stated dependencies ... OK
* checking whether the namespace can be unloaded cleanly ... OK
* checking loading without being on the library search path ... OK
* checking dependencies in R code ... NOTE
Package in Depends field not imported from: ‘methods’
  These packages need to be imported from (in the NAMESPACE file)
  for when this namespace is loaded but not attached.
* checking S3 generic/method consistency ... OK
* checking replacement functions ... OK
* checking foreign function calls ... OK
* checking R code for possible problems ... NOTE
calcTm: no visible global function definition for ‘data’
calcTm: no visible binding for global variable
  ‘base.stacking.thermodynamics’
readSampleKey: no visible global function definition for ‘read.table’
calcGC,ExpressionSet: no visible global function definition for
  ‘validObject’
calcGC,ExpressionSet: no visible global function definition for
  ‘callGeneric’
calcGC,ExpressionSet: no visible global function definition for ‘new’
calcPrototype,ExpressionSet: no visible global function definition for
  ‘validObject’
calcPrototype,ExpressionSet: no visible global function definition for
  ‘callGeneric’
calcPrototype,vector: no visible global function definition for
  ‘callGeneric’
calcTm,ExpressionSet: no visible global function definition for
  ‘validObject’
calcTm,ExpressionSet: no visible global function definition for
  ‘callGeneric’
calcTm,ExpressionSet: no visible global function definition for ‘new’
calcTm,character: no visible binding for global variable
  ‘base.stacking.thermodynamics’
combineData,ExpressionSet-missing-missing: no visible global function
  definition for ‘validObject’
combineData,ExpressionSet-missing-missing: no visible global function
  definition for ‘callGeneric’
combineData,ExpressionSet-vector-missing: no visible global function
  definition for ‘validObject’
combineData,ExpressionSet-vector-missing: no visible global function
  definition for ‘callGeneric’
combineData,matrix-vector-missing: no visible global function
  definition for ‘callGeneric’
combineData,vector-missing-missing: no visible global function
  definition for ‘callGeneric’
combineData,vector-missing-vector: no visible global function
  definition for ‘callGeneric’
combineData,vector-vector-missing: no visible global function
  definition for ‘callGeneric’
combineData,vector-vector-vector: no visible global function definition
  for ‘callGeneric’
createWiggle,ExpressionSet-matrix: no visible global function
  definition for ‘validObject’
createWiggle,ExpressionSet-matrix: no visible global function
  definition for ‘callGeneric’
createWiggle,ExpressionSet-missing: no visible global function
  definition for ‘validObject’
createWiggle,ExpressionSet-missing: no visible global function
  definition for ‘callGeneric’
createWiggle,matrix-matrix: no visible global function definition for
  ‘rainbow’
createWiggle,matrix-matrix: no visible global function definition for
  ‘col2rgb’
createWiggle,vector-matrix: no visible global function definition for
  ‘callGeneric’
getFeatures,AnnotatedDataFrame-NULL: no visible global function
  definition for ‘validObject’
getFeatures,AnnotatedDataFrame-missing: no visible global function
  definition for ‘validObject’
getFeatures,AnnotatedDataFrame-vector: no visible global function
  definition for ‘validObject’
getFeatures,AnnotatedDataFrame-vector: no visible global function
  definition for ‘callGeneric’
getFeatures,ExpressionSet-NULL: no visible global function definition
  for ‘validObject’
getFeatures,ExpressionSet-missing: no visible global function
  definition for ‘validObject’
getFeatures,ExpressionSet-vector: no visible global function definition
  for ‘validObject’
getFeatures,ExpressionSet-vector: no visible global function definition
  for ‘callGeneric’
getFeatures,vector-vector: no visible global function definition for
  ‘callGeneric’
getSamples,ExpressionSet-NULL: no visible global function definition
  for ‘validObject’
getSamples,ExpressionSet-missing: no visible global function definition
  for ‘validObject’
getSamples,ExpressionSet-vector: no visible global function definition
  for ‘validObject’
getSamples,ExpressionSet-vector: no visible global function definition
  for ‘callGeneric’
getSamples,vector-vector: no visible global function definition for
  ‘callGeneric’
plotBins,ExpressionSet-ExpressionSet: no visible global function
  definition for ‘validObject’
plotBins,ExpressionSet-ExpressionSet: no visible global function
  definition for ‘callGeneric’
plotBins,ExpressionSet-missing: no visible global function definition
  for ‘validObject’
plotBins,ExpressionSet-missing: no visible global function definition
  for ‘callGeneric’
plotBins,ExpressionSet-vector: no visible global function definition
  for ‘validObject’
plotBins,ExpressionSet-vector: no visible global function definition
  for ‘callGeneric’
plotBins,matrix-missing: no visible global function definition for
  ‘callGeneric’
plotBins,vector-ExpressionSet: no visible global function definition
  for ‘validObject’
plotBins,vector-ExpressionSet: no visible global function definition
  for ‘callGeneric’
plotBins,vector-vector: no visible global function definition for
  ‘rainbow’
plotBins,vector-vector: no visible global function definition for
  ‘quantile’
plotBins,vector-vector: no visible global function definition for
  ‘layout’
plotBins,vector-vector: no visible global function definition for
  ‘axis’
plotBins,vector-vector: no visible global function definition for
  ‘rect’
plotBins,vector-vector: no visible global function definition for
  ‘density’
plotBins,vector-vector: no visible global function definition for
  ‘lines’
plotChip,ExpressionSet-ExpressionSet-missing: no visible global
  function definition for ‘validObject’
plotChip,ExpressionSet-ExpressionSet-missing: no visible global
  function definition for ‘callGeneric’
plotChip,ExpressionSet-missing-missing: no visible global function
  definition for ‘validObject’
plotChip,ExpressionSet-missing-missing: no visible global function
  definition for ‘callGeneric’
plotChip,ExpressionSet-vector-missing: no visible global function
  definition for ‘validObject’
plotChip,ExpressionSet-vector-missing: no visible global function
  definition for ‘callGeneric’
plotChip,matrix-missing-missing: no visible global function definition
  for ‘callGeneric’
plotChip,vector-vector-ExpressionSet: no visible global function
  definition for ‘validObject’
plotChip,vector-vector-ExpressionSet: no visible global function
  definition for ‘callGeneric’
plotChip,vector-vector-vector: no visible global function definition
  for ‘rainbow’
plotChip,vector-vector-vector: no visible global function definition
  for ‘quantile’
plotChip,vector-vector-vector: no visible global function definition
  for ‘rect’
plotFeature,ExpressionSet-missing: no visible global function
  definition for ‘callGeneric’
plotFeature,ExpressionSet-vector: no visible global function definition
  for ‘validObject’
plotFeature,ExpressionSet-vector: no visible global function definition
  for ‘callGeneric’
plotFeature,matrix-vector: no visible global function definition for
  ‘par’
plotFeature,matrix-vector: no visible global function definition for
  ‘median’
plotFeature,matrix-vector: no visible global function definition for
  ‘mad’
plotFeature,matrix-vector: no visible global function definition for
  ‘layout’
plotFeature,matrix-vector: no visible global function definition for
  ‘density’
plotFeature,matrix-vector: no visible global function definition for
  ‘points’
plotFeature,matrix-vector: no visible global function definition for
  ‘abline’
plotPairs,ExpressionSet: no visible global function definition for
  ‘validObject’
plotPairs,ExpressionSet: no visible global function definition for
  ‘callGeneric’
plotPairs,matrix: no visible global function definition for ‘par’
plotPairs,matrix: no visible global function definition for ‘hclust’
plotPairs,matrix: no visible global function definition for ‘dist’
plotPairs,matrix: no visible global function definition for ‘cutree’
plotPairs,matrix: no visible global function definition for ‘rainbow’
plotPairs,matrix : plot.pairs.upper: no visible global function
  definition for ‘par’
plotPairs,matrix : plot.pairs.upper: no visible global function
  definition for ‘points’
plotPairs,matrix : plot.pairs.upper: no visible global function
  definition for ‘cor’
plotPairs,matrix : plot.pairs.upper: no visible global function
  definition for ‘lowess’
plotPairs,matrix : plot.pairs.upper: no visible global function
  definition for ‘lines’
plotPairs,matrix : plot.pairs.upper: no visible global function
  definition for ‘text’
plotPairs,matrix: no visible global function definition for ‘layout’
plotPairs,matrix: no visible global function definition for ‘pairs’
plotPairs,matrix: no visible global function definition for ‘points’
plotPairs,matrix: no visible global function definition for ‘abline’
plotPairs,matrix: no visible global function definition for ‘text’
plotPairs,matrix : draw.tree: no visible global function definition for
  ‘points’
plotPairs,matrix: no visible global function definition for
  ‘as.dendrogram’
quantileNormalize,ExpressionSet-ExpressionSet: no visible global
  function definition for ‘validObject’
quantileNormalize,ExpressionSet-ExpressionSet: no visible global
  function definition for ‘callGeneric’
quantileNormalize,ExpressionSet-missing: no visible global function
  definition for ‘validObject’
quantileNormalize,ExpressionSet-missing: no visible global function
  definition for ‘callGeneric’
quantileNormalize,ExpressionSet-vector: no visible global function
  definition for ‘validObject’
quantileNormalize,ExpressionSet-vector: no visible global function
  definition for ‘callGeneric’
quantileNormalize,matrix-missing: no visible global function definition
  for ‘callGeneric’
quantileNormalize,vector-ExpressionSet: no visible global function
  definition for ‘validObject’
quantileNormalize,vector-ExpressionSet: no visible global function
  definition for ‘callGeneric’
quantileNormalize,vector-vector: no visible global function definition
  for ‘quantile’
readDesign,character-character-ExpressionSet: no visible global
  function definition for ‘validObject’
readDesign,character-character-ExpressionSet: no visible global
  function definition for ‘read.table’
readDesign,character-character-ExpressionSet: no visible global
  function definition for ‘new’
readDesign,vector-missing-missing: no visible global function
  definition for ‘callGeneric’
readDesign,vector-missing-missing: no visible global function
  definition for ‘new’
readDesign,vector-vector-missing: no visible global function definition
  for ‘callGeneric’
readDesign,vector-vector-missing: no visible global function definition
  for ‘new’
readPairs,character-character-ExpressionSet: no visible global function
  definition for ‘validObject’
readPairs,character-character-ExpressionSet: no visible global function
  definition for ‘read.table’
readPairs,character-character-ExpressionSet: no visible global function
  definition for ‘new’
readPairs,vector-missing-missing: no visible global function definition
  for ‘callGeneric’
readPairs,vector-missing-missing: no visible global function definition
  for ‘new’
readPairs,vector-vector-missing: no visible global function definition
  for ‘callGeneric’
readPairs,vector-vector-missing: no visible global function definition
  for ‘new’
Undefined global functions or variables:
  abline as.dendrogram axis base.stacking.thermodynamics callGeneric
  col2rgb cor cutree data density dist hclust layout lines lowess mad
  median new pairs par points quantile rainbow read.table rect text
  validObject
Consider adding
  importFrom("grDevices", "col2rgb", "rainbow")
  importFrom("graphics", "abline", "axis", "layout", "lines", "pairs",
             "par", "points", "rect", "text")
  importFrom("methods", "callGeneric", "new", "validObject")
  importFrom("stats", "as.dendrogram", "cor", "cutree", "density",
             "dist", "hclust", "lowess", "mad", "median", "quantile")
  importFrom("utils", "data", "read.table")
to your NAMESPACE file (and ensure that your DESCRIPTION Imports field
contains 'methods').
* checking Rd files ... NOTE
checkRd: (-1) combineData-methods.Rd:36: Lost braces
    36 | \item{x = "ExpressionSet", y = "vector", w = "missing"}{ Handle input of an object of class \code{ExpressionSet} and a vector specifying grouping information. Derive weighting data from code{AssayDataElement}. }
       |                                                                                                                                                                                               ^
checkRd: (-1) fuzzyMatches.Rd:22: Lost braces
    22 |         \item{\option{nomatch}}{ numerical, specifying a value for non-matching values in code{x} when \code{strict = FALSE}, \code{keep = TRUE}, and \code{alias = FALSE}.}
       |                                                                                               ^
checkRd: (-1) fuzzyMatches.Rd:23: Lost braces
    23 |         \item{\option{na.rm}}{ a logical value indicating whether NA values should be stripped before the computation proceeds (default is \option{TRUE}). If \option{FALSE} any missing values in \code{x} will cause an error and missing values in code{y} may cause unexpected behavior. }
       |                                                                                                                                                                                                                                                           ^
* checking Rd metadata ... OK
* checking Rd cross-references ... OK
* checking for missing documentation entries ... OK
* checking for code/documentation mismatches ... OK
* checking Rd \usage sections ... OK
* checking Rd contents ... OK
* checking for unstated dependencies in examples ... OK
* checking contents of ‘data’ directory ... OK
* checking data for non-ASCII characters ... OK
* checking data for ASCII and uncompressed saves ... OK
* checking files in ‘vignettes’ ... OK
* checking examples ... OK
* checking for unstated dependencies in vignettes ... OK
* checking package vignettes ... OK
* checking running R code from vignettes ... SKIPPED
* checking re-building of vignette outputs ... SKIPPED
* checking PDF version of manual ... OK
* DONE

Status: 3 NOTEs
See
  ‘/home/biocbuild/bbs-3.19-bioc/meat/HELP.Rcheck/00check.log’
for details.


Installation output

HELP.Rcheck/00install.out

##############################################################################
##############################################################################
###
### Running command:
###
###   /home/biocbuild/R/R-beta-2024-04-15_r86425/bin/R CMD INSTALL HELP
###
##############################################################################
##############################################################################


* installing to library ‘/home/biocbuild/R/R-beta-2024-04-15_r86425/site-library’
* installing *source* package ‘HELP’ ...
** using staged installation
** R
** data
** demo
** inst
** byte-compile and prepare package for lazy loading
** help
*** installing help indices
** building package indices
** installing vignettes
** testing if installed package can be loaded from temporary location
** testing if installed package can be loaded from final location
** testing if installed package keeps a record of temporary installation path
* DONE (HELP)

Tests output


Example timings

HELP.Rcheck/HELP-Ex.timings

nameusersystemelapsed
base.stacking.thermodynamics0.0170.0000.017
calcGC000
calcPrototype0.0410.0120.054
calcTm0.0510.0040.055
combineData0.0740.0080.082
createWiggle0.0030.0000.003
exprs2000
fuzzyMatches0.0770.0000.077
getFeatures0.0610.0000.062
getSamples0.0310.0040.036
plotBins0.0650.0040.069
plotChip0.1640.0080.172
plotFeature0.0810.0040.085
plotPairs0.6740.0040.679
quantileNormalize0.1120.0000.113
readDesign0.0690.0040.072
readPairs0.1120.0000.112
readSampleKey0.0020.0000.002