Back to Multiple platform build/check report for BioC 3.14
ABCDEF[G]HIJKLMNOPQRSTUVWXYZ

This page was generated on 2021-06-18 12:04:54 -0400 (Fri, 18 Jun 2021).

INSTALL results for GraphAT on riesling1

To the developers/maintainers of the GraphAT package:
- Please allow up to 24 hours (and sometimes 48 hours) for your latest push to git@git.bioconductor.org:packages/GraphAT.git to
reflect on this report. See How and When does the builder pull? When will my changes propagate? here for more information.
- Make sure to use the following settings in order to reproduce any error or warning you see on this page.

raw results

Package 785/1993HostnameOS / ArchINSTALLBUILDCHECKBUILD BIN
GraphAT 1.65.0  (landing page)
Thomas LaFramboise
Snapshot Date: 2021-06-17 14:50:06 -0400 (Thu, 17 Jun 2021)
URL: https://git.bioconductor.org/packages/GraphAT
Branch: master
Last Commit: ca43226
Last Changed Date: 2021-05-19 11:34:36 -0400 (Wed, 19 May 2021)
nebbiolo2Linux (Ubuntu 20.04.2 LTS) / x86_64  OK    OK    OK  UNNEEDED, same version is already published
riesling1Windows Server 2019 Standard / x64  OK    OK    OK    OK  UNNEEDED, same version is already published
merida1macOS 10.14.6 Mojave / x86_64  OK    OK    OK    OK  UNNEEDED, same version is already published

Summary

Package: GraphAT
Version: 1.65.0
Command: C:\cygwin\bin\curl.exe -O http://155.52.207.166/BBS/3.14/bioc/src/contrib/GraphAT_1.65.0.tar.gz && rm -rf GraphAT.buildbin-libdir && mkdir GraphAT.buildbin-libdir && D:\biocbuild\bbs-3.14-bioc\R\bin\R.exe CMD INSTALL --merge-multiarch --build --library=GraphAT.buildbin-libdir GraphAT_1.65.0.tar.gz && D:\biocbuild\bbs-3.14-bioc\R\bin\R.exe CMD INSTALL GraphAT_1.65.0.zip && rm GraphAT_1.65.0.tar.gz GraphAT_1.65.0.zip
StartedAt: 2021-06-17 16:48:53 -0400 (Thu, 17 Jun 2021)
EndedAt: 2021-06-17 16:51:48 -0400 (Thu, 17 Jun 2021)
EllapsedTime: 174.6 seconds
RetCode: 0
Status:   OK  

Command output

##############################################################################
##############################################################################
###
### Running command:
###
###   C:\cygwin\bin\curl.exe -O http://155.52.207.166/BBS/3.14/bioc/src/contrib/GraphAT_1.65.0.tar.gz && rm -rf GraphAT.buildbin-libdir && mkdir GraphAT.buildbin-libdir && D:\biocbuild\bbs-3.14-bioc\R\bin\R.exe CMD INSTALL --merge-multiarch --build --library=GraphAT.buildbin-libdir GraphAT_1.65.0.tar.gz && D:\biocbuild\bbs-3.14-bioc\R\bin\R.exe CMD INSTALL GraphAT_1.65.0.zip && rm GraphAT_1.65.0.tar.gz GraphAT_1.65.0.zip
###
##############################################################################
##############################################################################


  % Total    % Received % Xferd  Average Speed   Time    Time     Time  Current
                                 Dload  Upload   Total   Spent    Left  Speed

  0     0    0     0    0     0      0      0 --:--:-- --:--:-- --:--:--     0
100 1928k  100 1928k    0     0  7745k      0 --:--:-- --:--:-- --:--:-- 7745k

install for i386

* installing *source* package 'GraphAT' ...
** using staged installation
** R
** data
** byte-compile and prepare package for lazy loading
** help
*** installing help indices
  converting help for package 'GraphAT'
    finding HTML links ... done
    Phenoclusters                           html  
    causton                                 html  
    cellcycle                               html  
    clust2Mat                               html  
    depthmat                                html  
    getpvalue                               html  
    giaever                                 html  
    mRNAclusters                            html  
    makeClustM                              html  
    mat2UndirG                              html  
    permPower                               html  
    perms                                   html  
** building package indices
** testing if installed package can be loaded from temporary location
** testing if installed package can be loaded from final location
** testing if installed package keeps a record of temporary installation path

install for x64

* installing *source* package 'GraphAT' ...
** testing if installed package can be loaded
* MD5 sums
packaged installation of 'GraphAT' as GraphAT_1.65.0.zip
* DONE (GraphAT)
* installing to library 'D:/biocbuild/bbs-3.14-bioc/R/library'
package 'GraphAT' successfully unpacked and MD5 sums checked