Back to Multiple platform build/check report for BioC 3.14
ABCDEF[G]HIJKLMNOPQRSTUVWXYZ

All results for package GraphAT

This page was generated on 2021-06-14 12:03:37 -0400 (Mon, 14 Jun 2021).

Package 785/1993HostnameOS / ArchINSTALLBUILDCHECKBUILD BIN
GraphAT 1.65.0  (landing page)
Thomas LaFramboise
Snapshot Date: 2021-06-13 14:50:05 -0400 (Sun, 13 Jun 2021)
URL: https://git.bioconductor.org/packages/GraphAT
Branch: master
Last Commit: ca43226
Last Changed Date: 2021-05-19 11:34:36 -0400 (Wed, 19 May 2021)
nebbiolo2Linux (Ubuntu 20.04.2 LTS) / x86_64  OK    OK    OK  UNNEEDED, same version is already published
riesling1Windows Server 2019 Standard / x64  OK    OK    OK    OK  UNNEEDED, same version is already published
merida1macOS 10.14.6 Mojave / x86_64  OK    OK    OK    OK  UNNEEDED, same version is already published