Index of /checkResults/devel/bioc-LATEST/GenomicOZone/raw-results/nebbiolo2

[ICO]NameLast modifiedSizeDescription

[DIR]Parent Directory  -  
[   ]install-summary.dcf26-Jul-2024 00:38 269  
[TXT]install-out.txt26-Jul-2024 00:38 1.1K 
[   ]checksrc-summary.dcf26-Jul-2024 00:38 434  
[TXT]checksrc-out.txt26-Jul-2024 00:38 3.0K 
[   ]buildsrc-summary.dcf26-Jul-2024 00:38 439  
[TXT]buildsrc-out.txt26-Jul-2024 00:38 1.0K