Index of /checkResults/devel/bioc-LATEST/GenomicOZone/raw-results/nebbiolo2

[ICO]NameLast modifiedSizeDescription

[DIR]Parent Directory  -  
[TXT]buildsrc-out.txt18-Jun-2024 01:22 1.0K 
[   ]buildsrc-summary.dcf18-Jun-2024 01:22 439  
[TXT]checksrc-out.txt18-Jun-2024 01:22 3.0K 
[   ]checksrc-summary.dcf18-Jun-2024 01:22 434  
[TXT]install-out.txt18-Jun-2024 01:22 1.1K 
[   ]install-summary.dcf18-Jun-2024 01:22 269