Index of /checkResults/devel/bioc-LATEST/GenomicOZone/raw-results/kjohnson3

[ICO]NameLast modifiedSizeDescription

[DIR]Parent Directory  -  
[TXT]buildbin-out.txt23-Jul-2024 01:45 1.2K 
[   ]buildbin-summary.dcf23-Jul-2024 01:45 560  
[TXT]buildsrc-out.txt23-Jul-2024 01:45 1.0K 
[   ]buildsrc-summary.dcf23-Jul-2024 01:45 442  
[TXT]checksrc-out.txt23-Jul-2024 01:45 3.1K 
[   ]checksrc-summary.dcf23-Jul-2024 01:45 464  
[TXT]install-out.txt23-Jul-2024 01:45 1.1K 
[   ]install-summary.dcf23-Jul-2024 01:45 279