Back to Multiple platform build/check report for BioC 3.14
ABCDEF[G]HIJKLMNOPQRSTUVWXYZ

This page was generated on 2021-07-29 12:05:11 -0400 (Thu, 29 Jul 2021).

All results for package GenoGAM

To the developers/maintainers of the GenoGAM package:
- Please allow up to 24 hours (and sometimes 48 hours) for your latest push to git@git.bioconductor.org:packages/GenoGAM.git to
reflect on this report. See How and When does the builder pull? When will my changes propagate? here for more information.
- Make sure to use the following settings in order to reproduce any error or warning you see on this page.

raw results

Package 723/2015HostnameOS / ArchINSTALLBUILDCHECKBUILD BIN
GenoGAM 2.11.0  (landing page)
Georg Stricker
Snapshot Date: 2021-07-28 14:50:02 -0400 (Wed, 28 Jul 2021)
URL: https://git.bioconductor.org/packages/GenoGAM
Branch: master
Last Commit: 7c8148a
Last Changed Date: 2021-05-19 12:19:19 -0400 (Wed, 19 May 2021)
nebbiolo2Linux (Ubuntu 20.04.2 LTS) / x86_64  OK    OK    WARNINGS  UNNEEDED, same version is already published
riesling1Windows Server 2019 Standard / x64  OK    OK    WARNINGS    OK  UNNEEDED, same version is already published
merida1macOS 10.14.6 Mojave / x86_64  OK    OK    WARNINGS    OK  UNNEEDED, same version is already published