Back to Multiple platform build/check report for BioC 3.14
ABCDEF[G]HIJKLMNOPQRSTUVWXYZ

BUILD results for GeneNetworkBuilder on riesling1

This page was generated on 2021-06-16 12:05:01 -0400 (Wed, 16 Jun 2021).

Package 697/1993HostnameOS / ArchINSTALLBUILDCHECKBUILD BIN
GeneNetworkBuilder 1.35.0  (landing page)
Jianhong Ou
Snapshot Date: 2021-06-15 14:50:06 -0400 (Tue, 15 Jun 2021)
URL: https://git.bioconductor.org/packages/GeneNetworkBuilder
Branch: master
Last Commit: 1bb180e
Last Changed Date: 2021-05-19 11:53:28 -0400 (Wed, 19 May 2021)
nebbiolo2Linux (Ubuntu 20.04.2 LTS) / x86_64  OK    OK    OK  UNNEEDED, same version is already published
riesling1Windows Server 2019 Standard / x64  OK    OK    OK    OK  NO, package depends on 'Rgraphviz' which is not available
merida1macOS 10.14.6 Mojave / x86_64  OK    OK    OK    OK  UNNEEDED, same version is already published
To the developers/maintainers of the GeneNetworkBuilder package:
- Please allow up to 24 hours (and sometimes 48 hours) for your latest push to git@git.bioconductor.org:packages/GeneNetworkBuilder.git to
reflect on this report. See How and When does the builder pull? When will my changes propagate? here for more information.
- Make sure to use the following settings in order to reproduce any error or warning you see on this page.

Summary

Package: GeneNetworkBuilder
Version: 1.35.0
Command: chmod a+r GeneNetworkBuilder -R && D:\biocbuild\bbs-3.14-bioc\R\bin\R.exe CMD build --keep-empty-dirs --no-resave-data GeneNetworkBuilder
StartedAt: 2021-06-15 19:57:46 -0400 (Tue, 15 Jun 2021)
EndedAt: 2021-06-15 20:01:41 -0400 (Tue, 15 Jun 2021)
EllapsedTime: 235.4 seconds
RetCode: 0
Status:   OK   
PackageFile: GeneNetworkBuilder_1.35.0.tar.gz
PackageFileSize: 6.883 MiB

Command output

##############################################################################
##############################################################################
###
### Running command:
###
###   chmod a+r GeneNetworkBuilder -R && D:\biocbuild\bbs-3.14-bioc\R\bin\R.exe CMD build --keep-empty-dirs --no-resave-data GeneNetworkBuilder
###
##############################################################################
##############################################################################


* checking for file 'GeneNetworkBuilder/DESCRIPTION' ... OK
* preparing 'GeneNetworkBuilder':
* checking DESCRIPTION meta-information ... OK
* cleaning src
* installing the package to build vignettes
* creating vignettes ... OK
* cleaning src
* checking for LF line-endings in source and make files and shell scripts
* checking for empty or unneeded directories
* building 'GeneNetworkBuilder_1.35.0.tar.gz'