Back to Multiple platform build/check report for BioC 3.20:   simplified   long
ABCDEF[G]HIJKLMNOPQRSTUVWXYZ

This page was generated on 2024-06-21 11:35 -0400 (Fri, 21 Jun 2024).

HostnameOSArch (*)R versionInstalled pkgs
nebbiolo2Linux (Ubuntu 22.04.3 LTS)x86_644.4.0 RC (2024-04-16 r86468) -- "Puppy Cup" 4690
lconwaymacOS 12.7.1 Montereyx86_644.4.1 RC (2024-06-06 r86719) -- "Race for Your Life" 4404
Click on any hostname to see more info about the system (e.g. compilers)      (*) as reported by 'uname -p', except on Windows and Mac OS X

Package 783/2242HostnameOS / ArchINSTALLBUILDCHECKBUILD BIN
GeneNetworkBuilder 1.47.0  (landing page)
Jianhong Ou
Snapshot Date: 2024-06-20 14:00 -0400 (Thu, 20 Jun 2024)
git_url: https://git.bioconductor.org/packages/GeneNetworkBuilder
git_branch: devel
git_last_commit: d35be9c
git_last_commit_date: 2024-04-30 10:28:35 -0400 (Tue, 30 Apr 2024)
nebbiolo2Linux (Ubuntu 22.04.3 LTS) / x86_64  OK    OK    OK  UNNEEDED, same version is already published
lconwaymacOS 12.7.1 Monterey / x86_64  OK    OK    OK    OK  UNNEEDED, same version is already published


CHECK results for GeneNetworkBuilder on nebbiolo2

To the developers/maintainers of the GeneNetworkBuilder package:
- Allow up to 24 hours (and sometimes 48 hours) for your latest push to git@git.bioconductor.org:packages/GeneNetworkBuilder.git to reflect on this report. See Troubleshooting Build Report for more information.
- Use the following Renviron settings to reproduce errors and warnings.
- If 'R CMD check' started to fail recently on the Linux builder(s) over a missing dependency, add the missing dependency to 'Suggests:' in your DESCRIPTION file. See Renviron.bioc for more information.

raw results


Summary

Package: GeneNetworkBuilder
Version: 1.47.0
Command: /home/biocbuild/bbs-3.20-bioc/R/bin/R CMD check --install=check:GeneNetworkBuilder.install-out.txt --library=/home/biocbuild/bbs-3.20-bioc/R/site-library --timings GeneNetworkBuilder_1.47.0.tar.gz
StartedAt: 2024-06-20 23:23:51 -0400 (Thu, 20 Jun 2024)
EndedAt: 2024-06-20 23:33:50 -0400 (Thu, 20 Jun 2024)
EllapsedTime: 599.1 seconds
RetCode: 0
Status:   OK  
CheckDir: GeneNetworkBuilder.Rcheck
Warnings: 0

Command output

##############################################################################
##############################################################################
###
### Running command:
###
###   /home/biocbuild/bbs-3.20-bioc/R/bin/R CMD check --install=check:GeneNetworkBuilder.install-out.txt --library=/home/biocbuild/bbs-3.20-bioc/R/site-library --timings GeneNetworkBuilder_1.47.0.tar.gz
###
##############################################################################
##############################################################################


* using log directory ‘/home/biocbuild/bbs-3.20-bioc/meat/GeneNetworkBuilder.Rcheck’
* using R version 4.4.0 RC (2024-04-16 r86468)
* using platform: x86_64-pc-linux-gnu
* R was compiled by
    gcc (Ubuntu 11.4.0-1ubuntu1~22.04) 11.4.0
    GNU Fortran (Ubuntu 11.4.0-1ubuntu1~22.04) 11.4.0
* running under: Ubuntu 22.04.4 LTS
* using session charset: UTF-8
* checking for file ‘GeneNetworkBuilder/DESCRIPTION’ ... OK
* checking extension type ... Package
* this is package ‘GeneNetworkBuilder’ version ‘1.47.0’
* package encoding: UTF-8
* checking package namespace information ... OK
* checking package dependencies ... OK
* checking if this is a source package ... OK
* checking if there is a namespace ... OK
* checking for hidden files and directories ... OK
* checking for portable file names ... OK
* checking for sufficient/correct file permissions ... OK
* checking whether package ‘GeneNetworkBuilder’ can be installed ... OK
* used C++ compiler: ‘g++ (Ubuntu 11.4.0-1ubuntu1~22.04) 11.4.0’
* checking installed package size ... NOTE
  installed size is  7.9Mb
  sub-directories of 1Mb or more:
    data          3.7Mb
    htmlwidgets   2.7Mb
    libs          1.3Mb
* checking package directory ... OK
* checking ‘build’ directory ... OK
* checking DESCRIPTION meta-information ... OK
* checking top-level files ... OK
* checking for left-over files ... OK
* checking index information ... OK
* checking package subdirectories ... OK
* checking code files for non-ASCII characters ... OK
* checking R files for syntax errors ... OK
* checking whether the package can be loaded ... OK
* checking whether the package can be loaded with stated dependencies ... OK
* checking whether the package can be unloaded cleanly ... OK
* checking whether the namespace can be loaded with stated dependencies ... OK
* checking whether the namespace can be unloaded cleanly ... OK
* checking loading without being on the library search path ... OK
* checking dependencies in R code ... OK
* checking S3 generic/method consistency ... OK
* checking replacement functions ... OK
* checking foreign function calls ... OK
* checking R code for possible problems ... OK
* checking Rd files ... OK
* checking Rd metadata ... OK
* checking Rd cross-references ... OK
* checking for missing documentation entries ... OK
* checking for code/documentation mismatches ... OK
* checking Rd \usage sections ... OK
* checking Rd contents ... OK
* checking for unstated dependencies in examples ... OK
* checking contents of ‘data’ directory ... OK
* checking data for non-ASCII characters ... OK
* checking LazyData ... OK
* checking data for ASCII and uncompressed saves ... OK
* checking line endings in C/C++/Fortran sources/headers ... OK
* checking line endings in Makefiles ... OK
* checking compilation flags in Makevars ... OK
* checking for GNU extensions in Makefiles ... OK
* checking for portable use of $(BLAS_LIBS) and $(LAPACK_LIBS) ... OK
* checking use of PKG_*FLAGS in Makefiles ... OK
* checking compiled code ... NOTE
Note: information on .o files is not available
* checking files in ‘vignettes’ ... OK
* checking examples ... OK
* checking for unstated dependencies in ‘tests’ ... OK
* checking tests ...
  Running ‘runTests.R’
 OK
* checking for unstated dependencies in vignettes ... OK
* checking package vignettes ... OK
* checking re-building of vignette outputs ... OK
* checking PDF version of manual ... OK
* DONE

Status: 2 NOTEs
See
  ‘/home/biocbuild/bbs-3.20-bioc/meat/GeneNetworkBuilder.Rcheck/00check.log’
for details.


Installation output

GeneNetworkBuilder.Rcheck/00install.out

##############################################################################
##############################################################################
###
### Running command:
###
###   /home/biocbuild/bbs-3.20-bioc/R/bin/R CMD INSTALL GeneNetworkBuilder
###
##############################################################################
##############################################################################


* installing to library ‘/home/biocbuild/bbs-3.20-bioc/R/site-library’
* installing *source* package ‘GeneNetworkBuilder’ ...
** using staged installation
** libs
using C++ compiler: ‘g++ (Ubuntu 11.4.0-1ubuntu1~22.04) 11.4.0’
g++ -std=gnu++17 -I"/home/biocbuild/bbs-3.20-bioc/R/include" -DNDEBUG  -I'/home/biocbuild/bbs-3.20-bioc/R/site-library/Rcpp/include' -I/usr/local/include    -fpic  -g -O2  -Wall  -c RcppExports.cpp -o RcppExports.o
g++ -std=gnu++17 -I"/home/biocbuild/bbs-3.20-bioc/R/include" -DNDEBUG  -I'/home/biocbuild/bbs-3.20-bioc/R/site-library/Rcpp/include' -I/usr/local/include    -fpic  -g -O2  -Wall  -c geneTree.cpp -o geneTree.o
g++ -std=gnu++17 -I"/home/biocbuild/bbs-3.20-bioc/R/include" -DNDEBUG  -I'/home/biocbuild/bbs-3.20-bioc/R/site-library/Rcpp/include' -I/usr/local/include    -fpic  -g -O2  -Wall  -c nodefilter.cpp -o nodefilter.o
g++ -std=gnu++17 -shared -L/home/biocbuild/bbs-3.20-bioc/R/lib -L/usr/local/lib -o GeneNetworkBuilder.so RcppExports.o geneTree.o nodefilter.o -L/home/biocbuild/bbs-3.20-bioc/R/lib -lR
installing to /home/biocbuild/bbs-3.20-bioc/R/site-library/00LOCK-GeneNetworkBuilder/00new/GeneNetworkBuilder/libs
** R
** data
*** moving datasets to lazyload DB
** inst
** byte-compile and prepare package for lazy loading
** help
*** installing help indices
** building package indices
** installing vignettes
** testing if installed package can be loaded from temporary location
** checking absolute paths in shared objects and dynamic libraries
** testing if installed package can be loaded from final location
** testing if installed package keeps a record of temporary installation path
* DONE (GeneNetworkBuilder)

Tests output

GeneNetworkBuilder.Rcheck/tests/runTests.Rout


R version 4.4.0 RC (2024-04-16 r86468) -- "Puppy Cup"
Copyright (C) 2024 The R Foundation for Statistical Computing
Platform: x86_64-pc-linux-gnu

R is free software and comes with ABSOLUTELY NO WARRANTY.
You are welcome to redistribute it under certain conditions.
Type 'license()' or 'licence()' for distribution details.

R is a collaborative project with many contributors.
Type 'contributors()' for more information and
'citation()' on how to cite R or R packages in publications.

Type 'demo()' for some demos, 'help()' for on-line help, or
'help.start()' for an HTML browser interface to help.
Type 'q()' to quit R.

> require("GeneNetworkBuilder") || stop("unable to load Package:GeneNetworkBuilder")
Loading required package: GeneNetworkBuilder
Loading required package: Rcpp
[1] TRUE
> BiocGenerics:::testPackage("GeneNetworkBuilder")


RUNIT TEST PROTOCOL -- Thu Jun 20 23:24:35 2024 
*********************************************** 
Number of test functions: 5 
Number of errors: 0 
Number of failures: 0 

 
1 Test Suite : 
GeneNetworkBuilder RUnit Tests - 5 test functions, 0 errors, 0 failures
Number of test functions: 5 
Number of errors: 0 
Number of failures: 0 
> 
> proc.time()
   user  system elapsed 
  1.192   0.061   1.242 

Example timings

GeneNetworkBuilder.Rcheck/GeneNetworkBuilder-Ex.timings

nameusersystemelapsed
browseNetwork2.1850.1242.324
buildNetwork0.1700.0230.193
ce.IDsMap0.1180.0090.126
ce.interactionmap0.0090.0000.009
ce.mapIDs0.1300.0080.138
ce.miRNA.map0.0020.0000.003
convertID0.1970.0000.197
example.data0.0160.0040.021
exportNetwork2.1580.0442.211
filterNetwork0.8430.0350.880
hs.IDsMap0.0650.0000.065
hs.interactionmap0.2580.0200.277
hs.mapIDs0.020.000.02
hs.miRNA.map0.0020.0000.003
networkFromGenes0.0790.0040.083
polishNetwork1.0520.0121.064
subsetNetwork0.0640.0000.065
uniqueExprsData0.2340.0080.242