Back to Multiple platform build/check report for BioC 3.20:   simplified   long
ABCDEF[G]HIJKLMNOPQRSTUVWXYZ

This page was generated on 2024-05-15 13:46:32 -0400 (Wed, 15 May 2024).

HostnameOSArch (*)R versionInstalled pkgs
nebbiolo2Linux (Ubuntu 22.04.3 LTS)x86_644.4.0 RC (2024-04-16 r86468) -- "Puppy Cup" 4663
kunpeng2Linux (openEuler 22.03 LTS-SP1)aarch644.4.0 beta (2024-04-15 r86425) -- "Puppy Cup" 4480
Click on any hostname to see more info about the system (e.g. compilers)      (*) as reported by 'uname -p', except on Windows and Mac OS X

Package 771/2230HostnameOS / ArchINSTALLBUILDCHECKBUILD BIN
GeneBreak 1.35.0  (landing page)
Evert van den Broek
Snapshot Date: 2024-05-13 14:05:07 -0400 (Mon, 13 May 2024)
git_url: https://git.bioconductor.org/packages/GeneBreak
git_branch: devel
git_last_commit: 1b00bc9
git_last_commit_date: 2024-04-30 10:46:19 -0400 (Tue, 30 Apr 2024)
nebbiolo2Linux (Ubuntu 22.04.3 LTS) / x86_64  OK    OK    OK  UNNEEDED, same version is already published
kunpeng2Linux (openEuler 22.03 LTS-SP1) / aarch64  OK    OK    OK  
kjohnson1macOS 13.6.6 Ventura / arm64see weekly results here

CHECK results for GeneBreak on kunpeng2


To the developers/maintainers of the GeneBreak package:
- Allow up to 24 hours (and sometimes 48 hours) for your latest push to git@git.bioconductor.org:packages/GeneBreak.git to reflect on this report. See Troubleshooting Build Report for more information.
- Use the following Renviron settings to reproduce errors and warnings.
- If 'R CMD check' started to fail recently on the Linux builder(s) over a missing dependency, add the missing dependency to 'Suggests:' in your DESCRIPTION file. See Renviron.bioc for more information.
- See Martin Grigorov's blog post for how to debug Linux ARM64 related issues on a x86_64 host.

raw results


Summary

Package: GeneBreak
Version: 1.34.0
Command: /home/biocbuild/R/R-beta-2024-04-15_r86425/bin/R CMD check --install=check:GeneBreak.install-out.txt --library=/home/biocbuild/R/R-beta-2024-04-15_r86425/site-library --no-vignettes --timings GeneBreak_1.34.0.tar.gz
StartedAt: 2024-05-09 07:38:19 -0000 (Thu, 09 May 2024)
EndedAt: 2024-05-09 07:41:40 -0000 (Thu, 09 May 2024)
EllapsedTime: 201.4 seconds
RetCode: 0
Status:   OK  
CheckDir: GeneBreak.Rcheck
Warnings: 0

Command output

##############################################################################
##############################################################################
###
### Running command:
###
###   /home/biocbuild/R/R-beta-2024-04-15_r86425/bin/R CMD check --install=check:GeneBreak.install-out.txt --library=/home/biocbuild/R/R-beta-2024-04-15_r86425/site-library --no-vignettes --timings GeneBreak_1.34.0.tar.gz
###
##############################################################################
##############################################################################


* using log directory ‘/home/biocbuild/bbs-3.19-bioc/meat/GeneBreak.Rcheck’
* using R version 4.4.0 beta (2024-04-15 r86425)
* using platform: aarch64-unknown-linux-gnu
* R was compiled by
    gcc (GCC) 10.3.1
    GNU Fortran (GCC) 10.3.1
* running under: openEuler 22.03 (LTS-SP1)
* using session charset: UTF-8
* using option ‘--no-vignettes’
* checking for file ‘GeneBreak/DESCRIPTION’ ... OK
* checking extension type ... Package
* this is package ‘GeneBreak’ version ‘1.34.0’
* checking package namespace information ... OK
* checking package dependencies ... OK
* checking if this is a source package ... OK
* checking if there is a namespace ... OK
* checking for hidden files and directories ... OK
* checking for portable file names ... OK
* checking for sufficient/correct file permissions ... OK
* checking whether package ‘GeneBreak’ can be installed ... OK
* checking installed package size ... OK
* checking package directory ... OK
* checking ‘build’ directory ... OK
* checking DESCRIPTION meta-information ... OK
* checking top-level files ... OK
* checking for left-over files ... OK
* checking index information ... OK
* checking package subdirectories ... OK
* checking code files for non-ASCII characters ... OK
* checking R files for syntax errors ... OK
* checking whether the package can be loaded ... OK
* checking whether the package can be loaded with stated dependencies ... OK
* checking whether the package can be unloaded cleanly ... OK
* checking whether the namespace can be loaded with stated dependencies ... OK
* checking whether the namespace can be unloaded cleanly ... OK
* checking loading without being on the library search path ... OK
* checking dependencies in R code ... OK
* checking S3 generic/method consistency ... OK
* checking replacement functions ... OK
* checking foreign function calls ... OK
* checking R code for possible problems ... NOTE
.glmbreak: no visible global function definition for ‘glm’
.glmbreak: no visible global function definition for ‘predict’
addGeneAnnotation,CopyNumberBreakPoints: no visible global function
  definition for ‘head’
bpStats,CopyNumberBreakPoints: no visible global function definition
  for ‘sd’
bpStats,CopyNumberBreakPoints: no visible global function definition
  for ‘p.adjust’
Undefined global functions or variables:
  glm head p.adjust predict sd
Consider adding
  importFrom("stats", "glm", "p.adjust", "predict", "sd")
  importFrom("utils", "head")
to your NAMESPACE file.
* checking Rd files ... OK
* checking Rd metadata ... OK
* checking Rd cross-references ... OK
* checking for missing documentation entries ... OK
* checking for code/documentation mismatches ... OK
* checking Rd \usage sections ... OK
* checking Rd contents ... OK
* checking for unstated dependencies in examples ... OK
* checking contents of ‘data’ directory ... OK
* checking data for non-ASCII characters ... OK
* checking data for ASCII and uncompressed saves ... OK
* checking files in ‘vignettes’ ... OK
* checking examples ... OK
Examples with CPU (user + system) or elapsed time > 5s
                                                 user system elapsed
CopyNumberBreakPointGenes-class                 7.614  0.096   7.723
bpStats-CopyNumberBreakPoints-method            6.455  0.024   6.491
recurrentGenes-CopyNumberBreakPointGenes-method 6.464  0.008   6.484
bpPlot-CopyNumberBreakPoints-method             5.997  0.024   6.031
* checking for unstated dependencies in vignettes ... OK
* checking package vignettes ... OK
* checking running R code from vignettes ... SKIPPED
* checking re-building of vignette outputs ... SKIPPED
* checking PDF version of manual ... OK
* DONE

Status: 1 NOTE
See
  ‘/home/biocbuild/bbs-3.19-bioc/meat/GeneBreak.Rcheck/00check.log’
for details.


Installation output

GeneBreak.Rcheck/00install.out

##############################################################################
##############################################################################
###
### Running command:
###
###   /home/biocbuild/R/R-beta-2024-04-15_r86425/bin/R CMD INSTALL GeneBreak
###
##############################################################################
##############################################################################


* installing to library ‘/home/biocbuild/R/R-beta-2024-04-15_r86425/site-library’
* installing *source* package ‘GeneBreak’ ...
** using staged installation
** R
** data
** byte-compile and prepare package for lazy loading
Creating a new generic function for ‘segmentData’ in package ‘GeneBreak’
** help
*** installing help indices
** building package indices
** installing vignettes
** testing if installed package can be loaded from temporary location
** testing if installed package can be loaded from final location
** testing if installed package keeps a record of temporary installation path
* DONE (GeneBreak)

Tests output


Example timings

GeneBreak.Rcheck/GeneBreak-Ex.timings

nameusersystemelapsed
CopyNumberBreakPointGenes-class7.6140.0967.723
CopyNumberBreakPoints-class2.1790.0322.215
accessOptions-CopyNumberBreakPoints-method1.1910.0121.205
addGeneAnnotation-CopyNumberBreakPoints-method3.0810.0083.094
bpFilter-CopyNumberBreakPoints-method1.6750.0121.690
bpGenes-CopyNumberBreakPointGenes-method2.4860.0282.518
bpPlot-CopyNumberBreakPoints-method5.9970.0246.031
bpStats-CopyNumberBreakPoints-method6.4550.0246.491
breakpointData-CopyNumberBreakPoints-method1.3020.1201.424
breakpointsPerGene-CopyNumberBreakPointGenes-method2.5590.0872.652
callData-CopyNumberBreakPoints-method1.3660.0841.453
featureChromosomes-CopyNumberBreakPoints-method1.1790.0201.201
featureInfo-CopyNumberBreakPoints-method2.5210.0282.554
featuresPerGene-CopyNumberBreakPointGenes-method2.4580.0122.475
geneChromosomes-CopyNumberBreakPointGenes-method2.4920.0242.521
geneInfo-CopyNumberBreakPointGenes-method2.2550.0322.290
getBreakpoints1.7950.0081.806
namesFeatures-CopyNumberBreakPoints-method1.1830.0121.196
recurrentGenes-CopyNumberBreakPointGenes-method6.4640.0086.484
sampleNames-CopyNumberBreakPoints-method1.2560.0081.266
segmentData-CopyNumberBreakPoints-method1.4550.1161.574