Back to Multiple platform build/check report for BioC 3.14
ABCDEF[G]HIJKLMNOPQRSTUVWXYZ

This page was generated on 2021-08-02 12:04:45 -0400 (Mon, 02 Aug 2021).

BUILD BIN results for GeneAnswers on riesling1

To the developers/maintainers of the GeneAnswers package:
- Please allow up to 24 hours (and sometimes 48 hours) for your latest push to git@git.bioconductor.org:packages/GeneAnswers.git to
reflect on this report. See How and When does the builder pull? When will my changes propagate? here for more information.
- Make sure to use the following settings in order to reproduce any error or warning you see on this page.

raw results

Package 697/2015HostnameOS / ArchINSTALLBUILDCHECKBUILD BIN
GeneAnswers 2.35.1  (landing page)
Lei Huang and Gang Feng
Snapshot Date: 2021-08-01 14:50:04 -0400 (Sun, 01 Aug 2021)
URL: https://git.bioconductor.org/packages/GeneAnswers
Branch: master
Last Commit: 187eb87
Last Changed Date: 2021-06-21 11:00:38 -0400 (Mon, 21 Jun 2021)
nebbiolo2Linux (Ubuntu 20.04.2 LTS) / x86_64  OK    OK    TIMEOUT  
riesling1Windows Server 2019 Standard / x64  OK    OK    TIMEOUT    OK  
merida1macOS 10.14.6 Mojave / x86_64  OK    OK    ERROR    OK  

Summary

Package: GeneAnswers
Version: 2.35.1
Command: rm -rf GeneAnswers.buildbin-libdir && mkdir GeneAnswers.buildbin-libdir && D:\biocbuild\bbs-3.14-bioc\R\bin\R.exe CMD INSTALL --merge-multiarch --build --library=GeneAnswers.buildbin-libdir GeneAnswers_2.35.1.tar.gz
StartedAt: 2021-08-02 04:15:04 -0400 (Mon, 02 Aug 2021)
EndedAt: 2021-08-02 04:18:46 -0400 (Mon, 02 Aug 2021)
EllapsedTime: 222.0 seconds
RetCode: 0
Status:   OK  
PackageFile: GeneAnswers_2.35.1.zip
PackageFileSize: 32.33 MiB

Command output

##############################################################################
##############################################################################
###
### Running command:
###
###   rm -rf GeneAnswers.buildbin-libdir && mkdir GeneAnswers.buildbin-libdir && D:\biocbuild\bbs-3.14-bioc\R\bin\R.exe CMD INSTALL --merge-multiarch --build --library=GeneAnswers.buildbin-libdir GeneAnswers_2.35.1.tar.gz
###
##############################################################################
##############################################################################



install for i386

* installing *source* package 'GeneAnswers' ...
** using staged installation
** R
** data
** inst
** byte-compile and prepare package for lazy loading
Warning: replacing previous import 'stats::decompose' by 'igraph::decompose' when loading 'GeneAnswers'
Warning: replacing previous import 'stats::spectrum' by 'igraph::spectrum' when loading 'GeneAnswers'
** help
*** installing help indices
  converting help for package 'GeneAnswers'
    finding HTML links ... done
    DO                                      html  
    DOLite                                  html  
    DOLiteTerm                              html  
    DmIALite                                html  
    GeneAnswers-class                       html  
REDIRECT:topic	 class:GeneAnswers -> GeneAnswers-class.html [ FAIL ]
    GeneAnswers-package                     html  
    HsIALite                                html  
    MmIALite                                html  
    RnIALite                                html  
    buildNet                                html  
    caBIO.PATHGenes                         html  
    caBIO2entrez                            html  
    categoryNet                             html  
    chartPlots                              html  
    drawTable                               html  
    entrez2caBIO                            html  
    geneAnnotationHeatmap                   html  
    geneAnswersBuilder                      html  
    geneAnswersChartPlots                   html  
    geneAnswersConceptNet                   html  
    geneAnswersConceptRelation              html  
    geneAnswersConcepts                     html  
    geneAnswersHeatmap                      html  
    geneAnswersHomoMapping                  html  
    geneAnswersReadable                     html  
    geneAnswersSort                         html  
    geneConceptNet                          html  
    getCategoryList                         html  
    getCategoryTerms                        html  
    getConceptTable                         html  
    getConnectedGraph                       html  
    getDOLiteTerms                          html  
    getGOList                               html  
    getHomoGeneIDs                          html  
    getListGIF                              html  
    getMultiLayerGraphIDs                   html  
    getNextGOIDs                            html  
    getPATHList                             html  
    getPATHTerms                            html  
    getREACTOMEPATHList                     html  
    getREACTOMEPATHTerms                    html  
    getSingleLayerGraphIDs                  html  
    getSymbols                              html  
    getTotalGeneNumber                      html  
    getcaBIOPATHList                        html  
    getcaBIOPATHTerms                       html  
    groupReport                             html  
    humanExpr                               html  
    humanGeneInput                          html  
    mouseExpr                               html  
    mouseGeneInput                          html  
    sampleGroupsData                        html  
    searchEntrez                            html  
    topCategory                             html  
    topCategoryGenes                        html  
    topDOLITE                               html  
    topDOLITEGenes                          html  
    topGO                                   html  
    topGOGenes                              html  
    topPATH                                 html  
    topPATHGenes                            html  
    topREACTOME.PATH                        html  
    topREACTOME.PATHGenes                   html  
    topcaBIO.PATH                           html  
** building package indices
** installing vignettes
** testing if installed package can be loaded from temporary location
Warning: replacing previous import 'stats::decompose' by 'igraph::decompose' when loading 'GeneAnswers'
Warning: replacing previous import 'stats::spectrum' by 'igraph::spectrum' when loading 'GeneAnswers'
Warning: Package 'GeneAnswers' is deprecated and will be removed from
  Bioconductor version 3.15
** testing if installed package can be loaded from final location
Warning: replacing previous import 'stats::decompose' by 'igraph::decompose' when loading 'GeneAnswers'
Warning: replacing previous import 'stats::spectrum' by 'igraph::spectrum' when loading 'GeneAnswers'
Warning: Package 'GeneAnswers' is deprecated and will be removed from
  Bioconductor version 3.15
** testing if installed package keeps a record of temporary installation path

install for x64

* installing *source* package 'GeneAnswers' ...
** testing if installed package can be loaded
Warning: replacing previous import 'stats::decompose' by 'igraph::decompose' when loading 'GeneAnswers'
Warning: replacing previous import 'stats::spectrum' by 'igraph::spectrum' when loading 'GeneAnswers'
Warning: Package 'GeneAnswers' is deprecated and will be removed from
  Bioconductor version 3.15
* MD5 sums
packaged installation of 'GeneAnswers' as GeneAnswers_2.35.1.zip
* DONE (GeneAnswers)