Index of /checkResults/devel/bioc-LATEST/GeneAnswers/raw-results/riesling1

[ICO]NameLast modifiedSizeDescription

[DIR]Parent Directory  -  
[TXT]buildbin-out.txt24-Oct-2021 03:06 5.7K 
[   ]buildbin-summary.dcf24-Oct-2021 03:06 558  
[TXT]buildsrc-out.txt24-Oct-2021 03:06 919  
[   ]buildsrc-summary.dcf24-Oct-2021 03:06 469  
[TXT]checksrc-out.txt24-Oct-2021 03:06 7.8K 
[   ]checksrc-summary.dcf24-Oct-2021 03:06 473  
[TXT]install-out.txt24-Oct-2021 03:06 6.8K 
[   ]install-summary.dcf24-Oct-2021 03:06 665