Index of /checkResults/devel/bioc-LATEST/GeneAnswers/raw-results/merida1

[ICO]NameLast modifiedSizeDescription

[DIR]Parent Directory  -  
[TXT]buildbin-out.txt26-Oct-2021 03:07 2.0K 
[   ]buildbin-summary.dcf26-Oct-2021 03:07 554  
[TXT]buildsrc-out.txt26-Oct-2021 03:07 895  
[   ]buildsrc-summary.dcf26-Oct-2021 03:07 439  
[TXT]checksrc-out.txt26-Oct-2021 03:07 6.5K 
[   ]checksrc-summary.dcf26-Oct-2021 03:07 467  
[TXT]install-out.txt26-Oct-2021 03:07 1.8K 
[   ]install-summary.dcf26-Oct-2021 03:07 277