Back to Multiple platform build/check report for BioC 3.14
ABCDEF[G]HIJKLMNOPQRSTUVWXYZ

This page was generated on 2021-08-02 12:05:12 -0400 (Mon, 02 Aug 2021).

BUILD results for GeneAnswers on merida1

To the developers/maintainers of the GeneAnswers package:
- Please allow up to 24 hours (and sometimes 48 hours) for your latest push to git@git.bioconductor.org:packages/GeneAnswers.git to
reflect on this report. See How and When does the builder pull? When will my changes propagate? here for more information.
- Make sure to use the following settings in order to reproduce any error or warning you see on this page.

raw results

Package 697/2015HostnameOS / ArchINSTALLBUILDCHECKBUILD BIN
GeneAnswers 2.35.1  (landing page)
Lei Huang and Gang Feng
Snapshot Date: 2021-08-01 14:50:04 -0400 (Sun, 01 Aug 2021)
URL: https://git.bioconductor.org/packages/GeneAnswers
Branch: master
Last Commit: 187eb87
Last Changed Date: 2021-06-21 11:00:38 -0400 (Mon, 21 Jun 2021)
nebbiolo2Linux (Ubuntu 20.04.2 LTS) / x86_64  OK    OK    TIMEOUT  
riesling1Windows Server 2019 Standard / x64  OK    OK    TIMEOUT    OK  
merida1macOS 10.14.6 Mojave / x86_64  OK    OK    ERROR    OK  

Summary

Package: GeneAnswers
Version: 2.35.1
Command: /Library/Frameworks/R.framework/Resources/bin/R CMD build --keep-empty-dirs --no-resave-data GeneAnswers
StartedAt: 2021-08-01 19:42:50 -0400 (Sun, 01 Aug 2021)
EndedAt: 2021-08-01 19:43:36 -0400 (Sun, 01 Aug 2021)
EllapsedTime: 46.4 seconds
RetCode: 0
Status:   OK  
PackageFile: GeneAnswers_2.35.1.tar.gz
PackageFileSize: 33.01 MiB

Command output

##############################################################################
##############################################################################
###
### Running command:
###
###   /Library/Frameworks/R.framework/Resources/bin/R CMD build --keep-empty-dirs --no-resave-data GeneAnswers
###
##############################################################################
##############################################################################


* checking for file ‘GeneAnswers/DESCRIPTION’ ... OK
* preparing ‘GeneAnswers’:
* checking DESCRIPTION meta-information ... OK
* installing the package to build vignettes
* creating vignettes ... OK
* checking for LF line-endings in source and make files and shell scripts
* checking for empty or unneeded directories
* looking to see if a ‘data/datalist’ file should be added
* building ‘GeneAnswers_2.35.1.tar.gz’