Back to Multiple platform build/check report for BioC 3.14
ABCDEF[G]HIJKLMNOPQRSTUVWXYZ

This page was generated on 2021-08-02 12:05:12 -0400 (Mon, 02 Aug 2021).

BUILD BIN results for GeneAnswers on merida1

To the developers/maintainers of the GeneAnswers package:
- Please allow up to 24 hours (and sometimes 48 hours) for your latest push to git@git.bioconductor.org:packages/GeneAnswers.git to
reflect on this report. See How and When does the builder pull? When will my changes propagate? here for more information.
- Make sure to use the following settings in order to reproduce any error or warning you see on this page.

raw results

Package 697/2015HostnameOS / ArchINSTALLBUILDCHECKBUILD BIN
GeneAnswers 2.35.1  (landing page)
Lei Huang and Gang Feng
Snapshot Date: 2021-08-01 14:50:04 -0400 (Sun, 01 Aug 2021)
URL: https://git.bioconductor.org/packages/GeneAnswers
Branch: master
Last Commit: 187eb87
Last Changed Date: 2021-06-21 11:00:38 -0400 (Mon, 21 Jun 2021)
nebbiolo2Linux (Ubuntu 20.04.2 LTS) / x86_64  OK    OK    TIMEOUT  
riesling1Windows Server 2019 Standard / x64  OK    OK    TIMEOUT    OK  
merida1macOS 10.14.6 Mojave / x86_64  OK    OK    ERROR    OK  

Summary

Package: GeneAnswers
Version: 2.35.1
Command: rm -rf GeneAnswers.buildbin-libdir && mkdir GeneAnswers.buildbin-libdir && /Users/biocbuild/BBS/utils/build-universal.sh GeneAnswers_2.35.1.tar.gz /Library/Frameworks/R.framework/Resources/bin/R GeneAnswers.buildbin-libdir
StartedAt: 2021-08-02 09:09:51 -0400 (Mon, 02 Aug 2021)
EndedAt: 2021-08-02 09:10:39 -0400 (Mon, 02 Aug 2021)
EllapsedTime: 47.3 seconds
RetCode: 0
Status:   OK  
PackageFile: GeneAnswers_2.35.1.tgz
PackageFileSize: 32.29 MiB

Command output

##############################################################################
##############################################################################
###
### Running command:
###
###   rm -rf GeneAnswers.buildbin-libdir && mkdir GeneAnswers.buildbin-libdir && /Users/biocbuild/BBS/utils/build-universal.sh GeneAnswers_2.35.1.tar.gz /Library/Frameworks/R.framework/Resources/bin/R GeneAnswers.buildbin-libdir
###
##############################################################################
##############################################################################


>>>>>>> 
>>>>>>> INSTALLATION WITH 'R CMD INSTALL --preclean --no-multiarch --library=GeneAnswers.buildbin-libdir GeneAnswers_2.35.1.tar.gz'
>>>>>>> 

* installing *source* package ‘GeneAnswers’ ...
** using staged installation
** R
** data
** inst
** byte-compile and prepare package for lazy loading
Warning: replacing previous import ‘stats::decompose’ by ‘igraph::decompose’ when loading ‘GeneAnswers’
Warning: replacing previous import ‘stats::spectrum’ by ‘igraph::spectrum’ when loading ‘GeneAnswers’
** help
*** installing help indices
** building package indices
** installing vignettes
** testing if installed package can be loaded from temporary location
Warning: replacing previous import ‘stats::decompose’ by ‘igraph::decompose’ when loading ‘GeneAnswers’
Warning: replacing previous import ‘stats::spectrum’ by ‘igraph::spectrum’ when loading ‘GeneAnswers’
Warning: Package 'GeneAnswers' is deprecated and will be removed from
  Bioconductor version 3.15
** testing if installed package can be loaded from final location
Warning: replacing previous import ‘stats::decompose’ by ‘igraph::decompose’ when loading ‘GeneAnswers’
Warning: replacing previous import ‘stats::spectrum’ by ‘igraph::spectrum’ when loading ‘GeneAnswers’
Warning: Package 'GeneAnswers' is deprecated and will be removed from
  Bioconductor version 3.15
** testing if installed package keeps a record of temporary installation path
* DONE (GeneAnswers)