Index of /checkResults/devel/bioc-LATEST/GUIDEseq/raw-results/nebbiolo1

[ICO]NameLast modifiedSizeDescription

[DIR]Parent Directory  -  
[TXT]buildsrc-out.txt22-Jan-2022 01:06 873  
[   ]buildsrc-summary.dcf22-Jan-2022 01:06 420  
[TXT]checksrc-out.txt22-Jan-2022 01:06 5.3K 
[   ]checksrc-summary.dcf22-Jan-2022 01:06 428  
[TXT]install-out.txt22-Jan-2022 01:06 958  
[   ]install-summary.dcf22-Jan-2022 01:06 261