Back to Multiple platform build/check report for BioC 3.14
ABCDEF[G]HIJKLMNOPQRSTUVWXYZ

This page was generated on 2021-10-25 14:07:03 -0400 (Mon, 25 Oct 2021).

INSTALL results for GUIDEseq on merida1

To the developers/maintainers of the GUIDEseq package:
- Please allow up to 24 hours (and sometimes 48 hours) for your latest push to git@git.bioconductor.org:packages/GUIDEseq.git to
reflect on this report. See How and When does the builder pull? When will my changes propagate? here for more information.
- Make sure to use the following settings in order to reproduce any error or warning you see on this page.

raw results

Package 842/2083HostnameOS / ArchINSTALLBUILDCHECKBUILD BIN
GUIDEseq 1.23.0  (landing page)
Lihua Julie Zhu
Snapshot Date: 2021-10-24 14:50:04 -0400 (Sun, 24 Oct 2021)
git_url: https://git.bioconductor.org/packages/GUIDEseq
git_branch: master
git_last_commit: ae56235
git_last_commit_date: 2021-05-19 12:16:19 -0400 (Wed, 19 May 2021)
nebbiolo2Linux (Ubuntu 20.04.2 LTS) / x86_64  OK    OK    OK  UNNEEDED, same version is already published
riesling1Windows Server 2019 Standard / x64  OK    OK    OK    OK  UNNEEDED, same version is already published
merida1macOS 10.14.6 Mojave / x86_64  OK    OK    OK    OK  UNNEEDED, same version is already published
machv2macOS 10.14.6 Mojave / x86_64  OK    OK    OK    OK  

Summary

Package: GUIDEseq
Version: 1.23.0
Command: /Library/Frameworks/R.framework/Resources/bin/R CMD INSTALL GUIDEseq
StartedAt: 2021-10-24 17:58:06 -0400 (Sun, 24 Oct 2021)
EndedAt: 2021-10-24 17:58:58 -0400 (Sun, 24 Oct 2021)
EllapsedTime: 52.0 seconds
RetCode: 0
Status:   OK  

Command output

##############################################################################
##############################################################################
###
### Running command:
###
###   /Library/Frameworks/R.framework/Resources/bin/R CMD INSTALL GUIDEseq
###
##############################################################################
##############################################################################


* installing to library ‘/Library/Frameworks/R.framework/Versions/4.1/Resources/library’
* installing *source* package ‘GUIDEseq’ ...
** using staged installation
** R
** data
** inst
** byte-compile and prepare package for lazy loading
** help
*** installing help indices
** building package indices
** installing vignettes
** testing if installed package can be loaded from temporary location
** testing if installed package can be loaded from final location
** testing if installed package keeps a record of temporary installation path
* DONE (GUIDEseq)