Back to Multiple platform build/check report for BioC 3.14
ABCDEF[G]HIJKLMNOPQRSTUVWXYZ

This page was generated on 2021-10-23 14:06:29 -0400 (Sat, 23 Oct 2021).

BUILD results for GSEABenchmarkeR on riesling1

To the developers/maintainers of the GSEABenchmarkeR package:
- Please allow up to 24 hours (and sometimes 48 hours) for your latest push to git@git.bioconductor.org:packages/GSEABenchmarkeR.git to
reflect on this report. See How and When does the builder pull? When will my changes propagate? here for more information.
- Make sure to use the following settings in order to reproduce any error or warning you see on this page.

raw results

Package 833/2083HostnameOS / ArchINSTALLBUILDCHECKBUILD BIN
GSEABenchmarkeR 1.13.5  (landing page)
Ludwig Geistlinger
Snapshot Date: 2021-10-22 14:50:11 -0400 (Fri, 22 Oct 2021)
git_url: https://git.bioconductor.org/packages/GSEABenchmarkeR
git_branch: master
git_last_commit: 911c64d
git_last_commit_date: 2021-07-16 17:18:59 -0400 (Fri, 16 Jul 2021)
nebbiolo2Linux (Ubuntu 20.04.2 LTS) / x86_64  OK    OK    OK  UNNEEDED, same version is already published
riesling1Windows Server 2019 Standard / x64  OK    OK    OK    OK  UNNEEDED, same version is already published
merida1macOS 10.14.6 Mojave / x86_64  OK    OK    OK    OK  UNNEEDED, same version is already published

Summary

Package: GSEABenchmarkeR
Version: 1.13.5
Command: chmod a+r GSEABenchmarkeR -R && D:\biocbuild\bbs-3.14-bioc\R\bin\R.exe CMD build --keep-empty-dirs --no-resave-data GSEABenchmarkeR
StartedAt: 2021-10-22 21:11:24 -0400 (Fri, 22 Oct 2021)
EndedAt: 2021-10-22 21:16:14 -0400 (Fri, 22 Oct 2021)
EllapsedTime: 289.9 seconds
RetCode: 0
Status:   OK  
PackageFile: GSEABenchmarkeR_1.13.5.tar.gz
PackageFileSize: 556.7 KiB

Command output

##############################################################################
##############################################################################
###
### Running command:
###
###   chmod a+r GSEABenchmarkeR -R && D:\biocbuild\bbs-3.14-bioc\R\bin\R.exe CMD build --keep-empty-dirs --no-resave-data GSEABenchmarkeR
###
##############################################################################
##############################################################################


* checking for file 'GSEABenchmarkeR/DESCRIPTION' ... OK
* preparing 'GSEABenchmarkeR':
* checking DESCRIPTION meta-information ... OK
* installing the package to build vignettes
* creating vignettes ... OK
* checking for LF line-endings in source and make files and shell scripts
* checking for empty or unneeded directories
Omitted 'LazyData' from DESCRIPTION
* building 'GSEABenchmarkeR_1.13.5.tar.gz'