Back to Multiple platform build/check report for BioC 3.14
ABCDEF[G]HIJKLMNOPQRSTUVWXYZ

This page was generated on 2021-07-24 12:06:31 -0400 (Sat, 24 Jul 2021).

BUILD BIN results for GRridge on merida1

To the developers/maintainers of the GRridge package:
- Please allow up to 24 hours (and sometimes 48 hours) for your latest push to git@git.bioconductor.org:packages/GRridge.git to
reflect on this report. See How and When does the builder pull? When will my changes propagate? here for more information.
- Make sure to use the following settings in order to reproduce any error or warning you see on this page.

raw results

Package 799/2008HostnameOS / ArchINSTALLBUILDCHECKBUILD BIN
GRridge 1.17.0  (landing page)
Mark A. van de Wiel
Snapshot Date: 2021-07-23 14:50:08 -0400 (Fri, 23 Jul 2021)
URL: https://git.bioconductor.org/packages/GRridge
Branch: master
Last Commit: 26c8069
Last Changed Date: 2021-05-19 12:24:38 -0400 (Wed, 19 May 2021)
nebbiolo2Linux (Ubuntu 20.04.2 LTS) / x86_64  OK    OK    WARNINGS  UNNEEDED, same version is already published
riesling1Windows Server 2019 Standard / x64  OK    OK    WARNINGS    OK  UNNEEDED, same version is already published
merida1macOS 10.14.6 Mojave / x86_64  OK    OK    WARNINGS    OK  UNNEEDED, same version is already published

Summary

Package: GRridge
Version: 1.17.0
Command: rm -rf GRridge.buildbin-libdir && mkdir GRridge.buildbin-libdir && /Users/biocbuild/BBS/utils/build-universal.sh GRridge_1.17.0.tar.gz /Library/Frameworks/R.framework/Resources/bin/R GRridge.buildbin-libdir
StartedAt: 2021-07-24 08:58:09 -0400 (Sat, 24 Jul 2021)
EndedAt: 2021-07-24 08:59:00 -0400 (Sat, 24 Jul 2021)
EllapsedTime: 51.1 seconds
RetCode: 0
Status:   OK  
PackageFile: GRridge_1.17.0.tgz
PackageFileSize: 9.032 MiB

Command output

##############################################################################
##############################################################################
###
### Running command:
###
###   rm -rf GRridge.buildbin-libdir && mkdir GRridge.buildbin-libdir && /Users/biocbuild/BBS/utils/build-universal.sh GRridge_1.17.0.tar.gz /Library/Frameworks/R.framework/Resources/bin/R GRridge.buildbin-libdir
###
##############################################################################
##############################################################################


>>>>>>> 
>>>>>>> INSTALLATION WITH 'R CMD INSTALL --preclean --no-multiarch --library=GRridge.buildbin-libdir GRridge_1.17.0.tar.gz'
>>>>>>> 

* installing *source* package ‘GRridge’ ...
** using staged installation
** R
** data
** inst
** byte-compile and prepare package for lazy loading
** help
*** installing help indices
** building package indices
** installing vignettes
** testing if installed package can be loaded from temporary location
** testing if installed package can be loaded from final location
** testing if installed package keeps a record of temporary installation path
* DONE (GRridge)