Back to Multiple platform build/check report for BioC 3.14
ABCDEF[G]HIJKLMNOPQRSTUVWXYZ

This page was generated on 2021-06-17 12:05:33 -0400 (Thu, 17 Jun 2021).

INSTALL results for GOstats on riesling1

To the developers/maintainers of the GOstats package:
- Please allow up to 24 hours (and sometimes 48 hours) for your latest push to git@git.bioconductor.org:packages/GOstats.git to
reflect on this report. See How and When does the builder pull? When will my changes propagate? here for more information.
- Make sure to use the following settings in order to reproduce any error or warning you see on this page.

raw results

Package 771/1993HostnameOS / ArchINSTALLBUILDCHECKBUILD BIN
GOstats 2.59.0  (landing page)
Bioconductor Package Maintainer
Snapshot Date: 2021-06-16 14:50:06 -0400 (Wed, 16 Jun 2021)
URL: https://git.bioconductor.org/packages/GOstats
Branch: master
Last Commit: b110124
Last Changed Date: 2021-05-19 11:34:28 -0400 (Wed, 19 May 2021)
nebbiolo2Linux (Ubuntu 20.04.2 LTS) / x86_64  OK    OK    ERROR  
riesling1Windows Server 2019 Standard / x64  OK    OK    ERROR    OK  
merida1macOS 10.14.6 Mojave / x86_64  OK    OK    ERROR    OK  

Summary

Package: GOstats
Version: 2.59.0
Command: C:\cygwin\bin\curl.exe -O http://155.52.207.166/BBS/3.14/bioc/src/contrib/GOstats_2.59.0.tar.gz && rm -rf GOstats.buildbin-libdir && mkdir GOstats.buildbin-libdir && D:\biocbuild\bbs-3.14-bioc\R\bin\R.exe CMD INSTALL --merge-multiarch --build --library=GOstats.buildbin-libdir GOstats_2.59.0.tar.gz && D:\biocbuild\bbs-3.14-bioc\R\bin\R.exe CMD INSTALL GOstats_2.59.0.zip && rm GOstats_2.59.0.tar.gz GOstats_2.59.0.zip
StartedAt: 2021-06-16 17:31:05 -0400 (Wed, 16 Jun 2021)
EndedAt: 2021-06-16 17:33:32 -0400 (Wed, 16 Jun 2021)
EllapsedTime: 146.8 seconds
RetCode: 0
Status:   OK  

Command output

##############################################################################
##############################################################################
###
### Running command:
###
###   C:\cygwin\bin\curl.exe -O http://155.52.207.166/BBS/3.14/bioc/src/contrib/GOstats_2.59.0.tar.gz && rm -rf GOstats.buildbin-libdir && mkdir GOstats.buildbin-libdir && D:\biocbuild\bbs-3.14-bioc\R\bin\R.exe CMD INSTALL --merge-multiarch --build --library=GOstats.buildbin-libdir GOstats_2.59.0.tar.gz && D:\biocbuild\bbs-3.14-bioc\R\bin\R.exe CMD INSTALL GOstats_2.59.0.zip && rm GOstats_2.59.0.tar.gz GOstats_2.59.0.zip
###
##############################################################################
##############################################################################


  % Total    % Received % Xferd  Average Speed   Time    Time     Time  Current
                                 Dload  Upload   Total   Spent    Left  Speed

  0     0    0     0    0     0      0      0 --:--:-- --:--:-- --:--:--     0
100 1571k  100 1571k    0     0  5085k      0 --:--:-- --:--:-- --:--:-- 5102k

install for i386

* installing *source* package 'GOstats' ...
** using staged installation
** R
** data
** inst
** byte-compile and prepare package for lazy loading
** help
*** installing help indices
  converting help for package 'GOstats'
    finding HTML links ... done
    GOHyperGResult-class                    html  
    GOstats-defunct                         html  
    GOstats-package                         html  
    Ndists                                  html  
    OBOHyperGResult-class                   html  
    compCorrGraph                           html  
    compGdist                               html  
    hyperGTest                              html  
    idx2dimnames                            html  
    makeGOGraph                             html  
    notConn                                 html  
    oneGOGraph                              html  
    probeSetSummary                         html  
    shortestPath                            html  
    simLL                                   html  
    termGraphs                              html  
    triadCensus                             html  
** building package indices
** installing vignettes
** testing if installed package can be loaded from temporary location
** testing if installed package can be loaded from final location
** testing if installed package keeps a record of temporary installation path

install for x64

* installing *source* package 'GOstats' ...
** testing if installed package can be loaded
* MD5 sums
packaged installation of 'GOstats' as GOstats_2.59.0.zip
* DONE (GOstats)
* installing to library 'D:/biocbuild/bbs-3.14-bioc/R/library'
package 'GOstats' successfully unpacked and MD5 sums checked