Back to Multiple platform build/check report for BioC 3.14
ABCDEF[G]HIJKLMNOPQRSTUVWXYZ

BUILD results for GOstats on riesling1

This page was generated on 2021-06-16 12:05:02 -0400 (Wed, 16 Jun 2021).

Package 771/1993HostnameOS / ArchINSTALLBUILDCHECKBUILD BIN
GOstats 2.59.0  (landing page)
Bioconductor Package Maintainer
Snapshot Date: 2021-06-15 14:50:06 -0400 (Tue, 15 Jun 2021)
URL: https://git.bioconductor.org/packages/GOstats
Branch: master
Last Commit: b110124
Last Changed Date: 2021-05-19 11:34:28 -0400 (Wed, 19 May 2021)
nebbiolo2Linux (Ubuntu 20.04.2 LTS) / x86_64  OK    OK    ERROR  
riesling1Windows Server 2019 Standard / x64  OK    OK    ERROR    OK  
merida1macOS 10.14.6 Mojave / x86_64  OK    OK    ERROR    OK  
To the developers/maintainers of the GOstats package:
- Please allow up to 24 hours (and sometimes 48 hours) for your latest push to git@git.bioconductor.org:packages/GOstats.git to
reflect on this report. See How and When does the builder pull? When will my changes propagate? here for more information.
- Make sure to use the following settings in order to reproduce any error or warning you see on this page.

Summary

Package: GOstats
Version: 2.59.0
Command: chmod a+r GOstats -R && D:\biocbuild\bbs-3.14-bioc\R\bin\R.exe CMD build --keep-empty-dirs --no-resave-data GOstats
StartedAt: 2021-06-15 20:06:23 -0400 (Tue, 15 Jun 2021)
EndedAt: 2021-06-15 20:13:55 -0400 (Tue, 15 Jun 2021)
EllapsedTime: 451.8 seconds
RetCode: 0
Status:   OK   
PackageFile: GOstats_2.59.0.tar.gz
PackageFileSize: 3.12 MiB

Command output

##############################################################################
##############################################################################
###
### Running command:
###
###   chmod a+r GOstats -R && D:\biocbuild\bbs-3.14-bioc\R\bin\R.exe CMD build --keep-empty-dirs --no-resave-data GOstats
###
##############################################################################
##############################################################################


* checking for file 'GOstats/DESCRIPTION' ... OK
* preparing 'GOstats':
* checking DESCRIPTION meta-information ... OK
* installing the package to build vignettes
* creating vignettes ... OK
* checking for LF line-endings in source and make files and shell scripts
* checking for empty or unneeded directories
* looking to see if a 'data/datalist' file should be added
* building 'GOstats_2.59.0.tar.gz'