Index of /checkResults/devel/bioc-LATEST/GOstats/raw-results/riesling1

[ICO]NameLast modifiedSizeDescription

[DIR]Parent Directory  -  
[TXT]buildbin-out.txt23-Oct-2021 01:04 2.2K 
[   ]buildbin-summary.dcf23-Oct-2021 01:04 534  
[TXT]buildsrc-out.txt23-Oct-2021 01:04 899  
[   ]buildsrc-summary.dcf23-Oct-2021 01:04 453  
[TXT]checksrc-out.txt23-Oct-2021 01:04 3.7K 
[   ]checksrc-summary.dcf23-Oct-2021 01:04 450  
[TXT]install-out.txt23-Oct-2021 01:04 2.8K 
[   ]install-summary.dcf23-Oct-2021 01:04 629