Index of /checkResults/devel/bioc-LATEST/GOstats/raw-results/riesling1

[ICO]NameLast modifiedSizeDescription

[DIR]Parent Directory  -  
[TXT]buildbin-out.txt25-Sep-2021 01:05 2.2K 
[   ]buildbin-summary.dcf25-Sep-2021 01:05 534  
[TXT]buildsrc-out.txt25-Sep-2021 01:05 899  
[   ]buildsrc-summary.dcf25-Sep-2021 01:05 453  
[TXT]checksrc-out.txt25-Sep-2021 01:05 3.7K 
[   ]checksrc-summary.dcf25-Sep-2021 01:05 450  
[TXT]install-out.txt25-Sep-2021 01:05 2.9K 
[   ]install-summary.dcf25-Sep-2021 01:05 629