Index of /checkResults/devel/bioc-LATEST/GOstats/raw-results/nebbiolo2

[ICO]NameLast modifiedSizeDescription

[DIR]Parent Directory  -  
[   ]install-summary.dcf24-Oct-2021 03:06 259  
[   ]buildsrc-summary.dcf24-Oct-2021 03:06 418  
[   ]checksrc-summary.dcf24-Oct-2021 03:06 424  
[TXT]buildsrc-out.txt24-Oct-2021 03:06 869  
[TXT]install-out.txt24-Oct-2021 03:06 955  
[TXT]checksrc-out.txt24-Oct-2021 03:06 3.1K