Index of /checkResults/devel/bioc-LATEST/GOstats/raw-results/nebbiolo2

[ICO]NameLast modifiedSizeDescription

[DIR]Parent Directory  -  
[TXT]buildsrc-out.txt25-Sep-2021 01:04 869  
[   ]buildsrc-summary.dcf25-Sep-2021 01:04 418  
[TXT]checksrc-out.txt25-Sep-2021 01:04 3.1K 
[   ]checksrc-summary.dcf25-Sep-2021 01:04 424  
[TXT]install-out.txt25-Sep-2021 01:04 955  
[   ]install-summary.dcf25-Sep-2021 01:04 259