Index of /checkResults/devel/bioc-LATEST/GOstats/raw-results/merida1

[ICO]NameLast modifiedSizeDescription

[DIR]Parent Directory  -  
[   ]install-summary.dcf23-Oct-2021 01:04 269  
[TXT]install-out.txt23-Oct-2021 01:04 1.0K 
[   ]checksrc-summary.dcf23-Oct-2021 01:04 444  
[TXT]checksrc-out.txt23-Oct-2021 01:04 3.2K 
[   ]buildsrc-summary.dcf23-Oct-2021 01:04 428  
[TXT]buildsrc-out.txt23-Oct-2021 01:04 879