Index of /checkResults/devel/bioc-LATEST/GOstats/raw-results/merida1

[ICO]NameLast modifiedSizeDescription

[DIR]Parent Directory  -  
[TXT]buildbin-out.txt25-Sep-2021 01:05 1.2K 
[   ]buildbin-summary.dcf25-Sep-2021 01:05 530  
[TXT]buildsrc-out.txt25-Sep-2021 01:05 879  
[   ]buildsrc-summary.dcf25-Sep-2021 01:05 428  
[TXT]checksrc-out.txt25-Sep-2021 01:05 3.2K 
[   ]checksrc-summary.dcf25-Sep-2021 01:05 444  
[TXT]install-out.txt25-Sep-2021 01:05 1.0K 
[   ]install-summary.dcf25-Sep-2021 01:05 269