Back to Multiple platform build/check report for BioC 3.14
ABCDEF[G]HIJKLMNOPQRSTUVWXYZ

This page was generated on 2021-06-22 12:05:58 -0400 (Tue, 22 Jun 2021).

INSTALL results for GOSim on riesling1

To the developers/maintainers of the GOSim package:
- Please allow up to 24 hours (and sometimes 48 hours) for your latest push to git@git.bioconductor.org:packages/GOSim.git to
reflect on this report. See How and When does the builder pull? When will my changes propagate? here for more information.
- Make sure to use the following settings in order to reproduce any error or warning you see on this page.

raw results

Package 769/1993HostnameOS / ArchINSTALLBUILDCHECKBUILD BIN
GOSim 1.31.0  (landing page)
Holger Froehlich
Snapshot Date: 2021-06-21 14:50:06 -0400 (Mon, 21 Jun 2021)
URL: https://git.bioconductor.org/packages/GOSim
Branch: master
Last Commit: 88e442e
Last Changed Date: 2021-05-19 12:00:43 -0400 (Wed, 19 May 2021)
nebbiolo2Linux (Ubuntu 20.04.2 LTS) / x86_64  OK    OK    OK  UNNEEDED, same version is already published
riesling1Windows Server 2019 Standard / x64  OK    OK    OK    OK  UNNEEDED, same version is already published
merida1macOS 10.14.6 Mojave / x86_64  OK    OK    OK    OK  UNNEEDED, same version is already published

Summary

Package: GOSim
Version: 1.31.0
Command: C:\cygwin\bin\curl.exe -O http://155.52.207.166/BBS/3.14/bioc/src/contrib/GOSim_1.31.0.tar.gz && rm -rf GOSim.buildbin-libdir && mkdir GOSim.buildbin-libdir && D:\biocbuild\bbs-3.14-bioc\R\bin\R.exe CMD INSTALL --merge-multiarch --build --library=GOSim.buildbin-libdir GOSim_1.31.0.tar.gz && D:\biocbuild\bbs-3.14-bioc\R\bin\R.exe CMD INSTALL GOSim_1.31.0.zip && rm GOSim_1.31.0.tar.gz GOSim_1.31.0.zip
StartedAt: 2021-06-21 17:17:38 -0400 (Mon, 21 Jun 2021)
EndedAt: 2021-06-21 17:20:07 -0400 (Mon, 21 Jun 2021)
EllapsedTime: 148.6 seconds
RetCode: 0
Status:   OK  

Command output

##############################################################################
##############################################################################
###
### Running command:
###
###   C:\cygwin\bin\curl.exe -O http://155.52.207.166/BBS/3.14/bioc/src/contrib/GOSim_1.31.0.tar.gz && rm -rf GOSim.buildbin-libdir && mkdir GOSim.buildbin-libdir && D:\biocbuild\bbs-3.14-bioc\R\bin\R.exe CMD INSTALL --merge-multiarch --build --library=GOSim.buildbin-libdir GOSim_1.31.0.tar.gz && D:\biocbuild\bbs-3.14-bioc\R\bin\R.exe CMD INSTALL GOSim_1.31.0.zip && rm GOSim_1.31.0.tar.gz GOSim_1.31.0.zip
###
##############################################################################
##############################################################################


  % Total    % Received % Xferd  Average Speed   Time    Time     Time  Current
                                 Dload  Upload   Total   Spent    Left  Speed

  0     0    0     0    0     0      0      0 --:--:-- --:--:-- --:--:--     0
100  198k  100  198k    0     0  1371k      0 --:--:-- --:--:-- --:--:-- 1371k

install for i386

* installing *source* package 'GOSim' ...
** using staged installation
** libs
"C:/rtools40/mingw32/bin/"g++ -std=gnu++11  -I"D:/biocbuild/bbs-3.14-bioc/R/include" -DNDEBUG  -I'D:/biocbuild/bbs-3.14-bioc/R/library/Rcpp/include'   -I"C:/extsoft/include"  `D:/biocbuild/bbs-3.14-bioc/R/bin/Rscript -e "require(Rcpp); Rcpp:::CxxFlags()"`   -O2 -Wall  -mfpmath=sse -msse2 -mstackrealign  -c OAWrapper.cpp -o OAWrapper.o
Loading required package: Rcpp
"C:/rtools40/mingw32/bin/"gcc  -I"D:/biocbuild/bbs-3.14-bioc/R/include" -DNDEBUG  -I'D:/biocbuild/bbs-3.14-bioc/R/library/Rcpp/include'   -I"C:/extsoft/include"     -O2 -Wall  -std=gnu99 -mfpmath=sse -msse2 -mstackrealign  -c hungarian2.c -o hungarian2.o
Loading required package: Rcpp
C:/rtools40/mingw32/bin/g++ -std=gnu++11 -shared -s -static-libgcc -o GOSim.dll tmp.def OAWrapper.o hungarian2.o -LC:/extsoft/lib/i386 -LC:/extsoft/lib -LD:/biocbuild/bbs-3.14-bioc/R/bin/i386 -lR
Loading required package: Rcpp
installing to D:/biocbuild/bbs-3.14-bioc/meat/GOSim.buildbin-libdir/00LOCK-GOSim/00new/GOSim/libs/i386
** R
** data
** inst
** byte-compile and prepare package for lazy loading
** help
*** installing help indices
  converting help for package 'GOSim'
    finding HTML links ... done
    GOenrichment                            html  
    IC                                      html  
    calc.diffusion.kernel                   html  
    calcICs                                 html  
    evaluateClustering                      html  
    filterGO                                html  
    getAncestors                            html  
    getChildren                             html  
    getDisjCommAnc                          html  
    getGOGraph                              html  
    getGOInfo                               html  
    getGeneFeatures                         html  
    getGeneFeaturesPrototypes               html  
    getGeneSim                              html  
    getGeneSimPrototypes                    html  
    getMinimumSubsumer                      html  
    getOffsprings                           html  
    getParents                              html  
    getTermSim                              html  
    internal                                html  
    selectPrototypes                        html  
    setEnrichmentFactors                    html  
    setEvidenceLevel                        html  
    setOntology                             html  
** building package indices
** installing vignettes
** testing if installed package can be loaded from temporary location
** testing if installed package can be loaded from final location
** testing if installed package keeps a record of temporary installation path

install for x64

* installing *source* package 'GOSim' ...
** libs
"C:/rtools40/mingw64/bin/"g++ -std=gnu++11  -I"D:/biocbuild/bbs-3.14-bioc/R/include" -DNDEBUG  -I'D:/biocbuild/bbs-3.14-bioc/R/library/Rcpp/include'   -I"C:/extsoft/include"  `D:/biocbuild/bbs-3.14-bioc/R/bin/Rscript -e "require(Rcpp); Rcpp:::CxxFlags()"`   -O2 -Wall  -mfpmath=sse -msse2 -mstackrealign  -c OAWrapper.cpp -o OAWrapper.o
Loading required package: Rcpp
"C:/rtools40/mingw64/bin/"gcc  -I"D:/biocbuild/bbs-3.14-bioc/R/include" -DNDEBUG  -I'D:/biocbuild/bbs-3.14-bioc/R/library/Rcpp/include'   -I"C:/extsoft/include"     -O2 -Wall  -std=gnu99 -mfpmath=sse -msse2 -mstackrealign  -c hungarian2.c -o hungarian2.o
Loading required package: Rcpp
C:/rtools40/mingw64/bin/g++ -std=gnu++11 -shared -s -static-libgcc -o GOSim.dll tmp.def OAWrapper.o hungarian2.o -LC:/extsoft/lib/x64 -LC:/extsoft/lib -LD:/biocbuild/bbs-3.14-bioc/R/bin/x64 -lR
Loading required package: Rcpp
installing to D:/biocbuild/bbs-3.14-bioc/meat/GOSim.buildbin-libdir/GOSim/libs/x64
** testing if installed package can be loaded
* MD5 sums
packaged installation of 'GOSim' as GOSim_1.31.0.zip
* DONE (GOSim)
* installing to library 'D:/biocbuild/bbs-3.14-bioc/R/library'
package 'GOSim' successfully unpacked and MD5 sums checked