Back to Multiple platform build/check report for BioC 3.14
ABCDEF[G]HIJKLMNOPQRSTUVWXYZ

This page was generated on 2021-06-17 12:05:33 -0400 (Thu, 17 Jun 2021).

BUILD results for GOSim on riesling1

To the developers/maintainers of the GOSim package:
- Please allow up to 24 hours (and sometimes 48 hours) for your latest push to git@git.bioconductor.org:packages/GOSim.git to
reflect on this report. See How and When does the builder pull? When will my changes propagate? here for more information.
- Make sure to use the following settings in order to reproduce any error or warning you see on this page.

raw results

Package 769/1993HostnameOS / ArchINSTALLBUILDCHECKBUILD BIN
GOSim 1.31.0  (landing page)
Holger Froehlich
Snapshot Date: 2021-06-16 14:50:06 -0400 (Wed, 16 Jun 2021)
URL: https://git.bioconductor.org/packages/GOSim
Branch: master
Last Commit: 88e442e
Last Changed Date: 2021-05-19 12:00:43 -0400 (Wed, 19 May 2021)
nebbiolo2Linux (Ubuntu 20.04.2 LTS) / x86_64  OK    OK    OK  UNNEEDED, same version is already published
riesling1Windows Server 2019 Standard / x64  OK    OK    OK    OK  UNNEEDED, same version is already published
merida1macOS 10.14.6 Mojave / x86_64  OK    OK    OK    OK  UNNEEDED, same version is already published

Summary

Package: GOSim
Version: 1.31.0
Command: chmod a+r GOSim -R && D:\biocbuild\bbs-3.14-bioc\R\bin\R.exe CMD build --keep-empty-dirs --no-resave-data GOSim
StartedAt: 2021-06-16 20:06:10 -0400 (Wed, 16 Jun 2021)
EndedAt: 2021-06-16 20:09:58 -0400 (Wed, 16 Jun 2021)
EllapsedTime: 227.3 seconds
RetCode: 0
Status:   OK  
PackageFile: GOSim_1.31.0.tar.gz
PackageFileSize: 428.1 KiB

Command output

##############################################################################
##############################################################################
###
### Running command:
###
###   chmod a+r GOSim -R && D:\biocbuild\bbs-3.14-bioc\R\bin\R.exe CMD build --keep-empty-dirs --no-resave-data GOSim
###
##############################################################################
##############################################################################


* checking for file 'GOSim/DESCRIPTION' ... OK
* preparing 'GOSim':
* checking DESCRIPTION meta-information ... OK
* cleaning src
* installing the package to build vignettes
* creating vignettes ... OK
* cleaning src
* checking for LF line-endings in source and make files and shell scripts
* checking for empty or unneeded directories
* looking to see if a 'data/datalist' file should be added
* building 'GOSim_1.31.0.tar.gz'