Back to Multiple platform build/check report for BioC 3.14
ABCDEF[G]HIJKLMNOPQRSTUVWXYZ

This page was generated on 2021-08-02 12:05:13 -0400 (Mon, 02 Aug 2021).

CHECK results for GOSim on merida1

To the developers/maintainers of the GOSim package:
- Please allow up to 24 hours (and sometimes 48 hours) for your latest push to git@git.bioconductor.org:packages/GOSim.git to
reflect on this report. See How and When does the builder pull? When will my changes propagate? here for more information.
- Make sure to use the following settings in order to reproduce any error or warning you see on this page.

raw results

Package 779/2015HostnameOS / ArchINSTALLBUILDCHECKBUILD BIN
GOSim 1.31.0  (landing page)
Holger Froehlich
Snapshot Date: 2021-08-01 14:50:04 -0400 (Sun, 01 Aug 2021)
URL: https://git.bioconductor.org/packages/GOSim
Branch: master
Last Commit: 88e442e
Last Changed Date: 2021-05-19 12:00:43 -0400 (Wed, 19 May 2021)
nebbiolo2Linux (Ubuntu 20.04.2 LTS) / x86_64  OK    OK    OK  UNNEEDED, same version is already published
riesling1Windows Server 2019 Standard / x64  OK    OK    OK    OK  UNNEEDED, same version is already published
merida1macOS 10.14.6 Mojave / x86_64  OK    OK    OK    OK  UNNEEDED, same version is already published

Summary

Package: GOSim
Version: 1.31.0
Command: /Library/Frameworks/R.framework/Resources/bin/R CMD check --install=check:GOSim.install-out.txt --library=/Library/Frameworks/R.framework/Resources/library --no-vignettes --timings GOSim_1.31.0.tar.gz
StartedAt: 2021-08-02 02:57:21 -0400 (Mon, 02 Aug 2021)
EndedAt: 2021-08-02 03:07:17 -0400 (Mon, 02 Aug 2021)
EllapsedTime: 595.4 seconds
RetCode: 0
Status:   OK  
CheckDir: GOSim.Rcheck
Warnings: 0

Command output

##############################################################################
##############################################################################
###
### Running command:
###
###   /Library/Frameworks/R.framework/Resources/bin/R CMD check --install=check:GOSim.install-out.txt --library=/Library/Frameworks/R.framework/Resources/library --no-vignettes --timings GOSim_1.31.0.tar.gz
###
##############################################################################
##############################################################################


* using log directory ‘/Users/biocbuild/bbs-3.14-bioc/meat/GOSim.Rcheck’
* using R version 4.1.0 RC (2021-05-16 r80304)
* using platform: x86_64-apple-darwin17.0 (64-bit)
* using session charset: UTF-8
* using option ‘--no-vignettes’
* checking for file ‘GOSim/DESCRIPTION’ ... OK
* this is package ‘GOSim’ version ‘1.31.0’
* checking package namespace information ... OK
* checking package dependencies ... OK
* checking if this is a source package ... OK
* checking if there is a namespace ... OK
* checking for hidden files and directories ... OK
* checking for portable file names ... OK
* checking for sufficient/correct file permissions ... OK
* checking whether package ‘GOSim’ can be installed ... OK
* checking installed package size ... OK
* checking package directory ... OK
* checking ‘build’ directory ... OK
* checking DESCRIPTION meta-information ... NOTE
Malformed Description field: should contain one or more complete sentences.
* checking top-level files ... OK
* checking for left-over files ... OK
* checking index information ... OK
* checking package subdirectories ... OK
* checking R files for non-ASCII characters ... OK
* checking R files for syntax errors ... OK
* checking whether the package can be loaded ... OK
* checking whether the package can be loaded with stated dependencies ... OK
* checking whether the package can be unloaded cleanly ... OK
* checking whether the namespace can be loaded with stated dependencies ... OK
* checking whether the namespace can be unloaded cleanly ... OK
* checking dependencies in R code ... OK
* checking S3 generic/method consistency ... OK
* checking replacement functions ... OK
* checking foreign function calls ... OK
* checking R code for possible problems ... NOTE
GOGraph: no visible global function definition for ‘new’
GOenrichment: no visible global function definition for ‘new’
calc.diffusion.kernel: no visible global function definition for ‘as’
evaluateClustering: no visible global function definition for ‘median’
evaluateClustering: no visible global function definition for ‘mad’
evaluateClustering: no visible global function definition for ‘as.dist’
norm: no visible global function definition for ‘dist’
pca: no visible global function definition for ‘prcomp’
selectPrototypes : <anonymous>: no visible global function definition
  for ‘cutree’
selectPrototypes : <anonymous>: no visible global function definition
  for ‘hclust’
selectPrototypes : <anonymous>: no visible global function definition
  for ‘dist’
selectPrototypes: no visible binding for global variable ‘BIC’
setEvidenceLevel: no visible global function definition for ‘is’
Undefined global functions or variables:
  BIC as as.dist cutree dist hclust is mad median new prcomp
Consider adding
  importFrom("methods", "as", "is", "new")
  importFrom("stats", "BIC", "as.dist", "cutree", "dist", "hclust",
             "mad", "median", "prcomp")
to your NAMESPACE file (and ensure that your DESCRIPTION Imports field
contains 'methods').
* checking Rd files ... OK
* checking Rd metadata ... OK
* checking Rd cross-references ... OK
* checking for missing documentation entries ... OK
* checking for code/documentation mismatches ... OK
* checking Rd \usage sections ... OK
* checking Rd contents ... OK
* checking for unstated dependencies in examples ... OK
* checking contents of ‘data’ directory ... OK
* checking data for non-ASCII characters ... OK
* checking data for ASCII and uncompressed saves ... OK
* checking line endings in C/C++/Fortran sources/headers ... OK
* checking line endings in Makefiles ... OK
* checking compilation flags in Makevars ... OK
* checking for GNU extensions in Makefiles ... OK
* checking for portable use of $(BLAS_LIBS) and $(LAPACK_LIBS) ... OK
* checking use of PKG_*FLAGS in Makefiles ... OK
* checking compiled code ... NOTE
Note: information on .o files is not available
* checking sizes of PDF files under ‘inst/doc’ ... OK
* checking files in ‘vignettes’ ... OK
* checking examples ... OK
Examples with CPU (user + system) or elapsed time > 5s
                        user system elapsed
getGeneSimPrototypes 278.545 28.897 316.639
getTermSim            16.902  0.142  23.688
getMinimumSubsumer    15.688  0.129  20.182
getDisjCommAnc        13.854  0.421  14.330
setEnrichmentFactors  13.789  0.085  18.521
* checking for unstated dependencies in vignettes ... OK
* checking package vignettes in ‘inst/doc’ ... OK
* checking running R code from vignettes ... SKIPPED
* checking re-building of vignette outputs ... SKIPPED
* checking PDF version of manual ... OK
* DONE

Status: 3 NOTEs
See
  ‘/Users/biocbuild/bbs-3.14-bioc/meat/GOSim.Rcheck/00check.log’
for details.



Installation output

GOSim.Rcheck/00install.out

##############################################################################
##############################################################################
###
### Running command:
###
###   /Library/Frameworks/R.framework/Resources/bin/R CMD INSTALL GOSim
###
##############################################################################
##############################################################################


* installing to library ‘/Library/Frameworks/R.framework/Versions/4.1/Resources/library’
* installing *source* package ‘GOSim’ ...
** using staged installation
** libs
clang++ -mmacosx-version-min=10.13 -std=gnu++14 -I"/Library/Frameworks/R.framework/Resources/include" -DNDEBUG  -I'/Library/Frameworks/R.framework/Versions/4.1/Resources/library/Rcpp/include' -I/usr/local/include  `/Library/Frameworks/R.framework/Resources/bin/Rscript -e "require(Rcpp); Rcpp:::CxxFlags()"` -fPIC  -Wall -g -O2  -c OAWrapper.cpp -o OAWrapper.o
Loading required package: Rcpp
clang -mmacosx-version-min=10.13 -I"/Library/Frameworks/R.framework/Resources/include" -DNDEBUG  -I'/Library/Frameworks/R.framework/Versions/4.1/Resources/library/Rcpp/include' -I/usr/local/include   -fPIC  -Wall -g -O2  -c hungarian2.c -o hungarian2.o
Loading required package: Rcpp
clang++ -mmacosx-version-min=10.13 -std=gnu++14 -dynamiclib -Wl,-headerpad_max_install_names -undefined dynamic_lookup -single_module -multiply_defined suppress -L/Library/Frameworks/R.framework/Resources/lib -L/usr/local/lib -o GOSim.so OAWrapper.o hungarian2.o -F/Library/Frameworks/R.framework/.. -framework R -Wl,-framework -Wl,CoreFoundation
Loading required package: Rcpp
installing to /Library/Frameworks/R.framework/Versions/4.1/Resources/library/00LOCK-GOSim/00new/GOSim/libs
** R
** data
** inst
** byte-compile and prepare package for lazy loading
** help
*** installing help indices
** building package indices
** installing vignettes
** testing if installed package can be loaded from temporary location
** checking absolute paths in shared objects and dynamic libraries
** testing if installed package can be loaded from final location
** testing if installed package keeps a record of temporary installation path
* DONE (GOSim)

Tests output


Example timings

GOSim.Rcheck/GOSim-Ex.timings

nameusersystemelapsed
GOenrichment0.0000.0010.000
calcICs0.0000.0000.001
evaluateClustering0.0010.0010.001
filterGO000
getAncestors000
getChildren0.0000.0000.001
getDisjCommAnc13.854 0.42114.330
getGOGraph000
getGOInfo000
getGeneFeatures000
getGeneFeaturesPrototypes000
getGeneSim0.0010.0000.000
getGeneSimPrototypes278.545 28.897316.639
getMinimumSubsumer15.688 0.12920.182
getOffsprings000
getParents000
getTermSim16.902 0.14223.688
selectPrototypes000
setEnrichmentFactors13.789 0.08518.521
setEvidenceLevel0.0000.0000.001
setOntology0.0000.0000.001