Index of /checkResults/devel/bioc-LATEST/GAPGOM/raw-results

[ICO]NameLast modifiedSizeDescription

[DIR]Parent Directory  -  
[   ]info.dcf23-Oct-2021 01:04 267  
[DIR]merida1/23-Oct-2021 01:04 -  
[DIR]nebbiolo2/23-Oct-2021 01:04 -  
[DIR]riesling1/23-Oct-2021 01:04 -