Back to Multiple platform build/check report for BioC 3.14
ABCDEF[G]HIJKLMNOPQRSTUVWXYZ

All results for package GAPGOM

This page was generated on 2021-06-15 12:04:45 -0400 (Tue, 15 Jun 2021).

Package 667/1993HostnameOS / ArchINSTALLBUILDCHECKBUILD BIN
GAPGOM 1.9.0  (landing page)
Rezvan Ehsani
Snapshot Date: 2021-06-14 14:50:10 -0400 (Mon, 14 Jun 2021)
URL: https://git.bioconductor.org/packages/GAPGOM
Branch: master
Last Commit: c8c74ff
Last Changed Date: 2021-05-19 12:40:41 -0400 (Wed, 19 May 2021)
nebbiolo2Linux (Ubuntu 20.04.2 LTS) / x86_64  OK    OK    OK  UNNEEDED, same version is already published
riesling1Windows Server 2019 Standard / x64  OK    OK    OK    OK  UNNEEDED, same version is already published
merida1macOS 10.14.6 Mojave / x86_64  OK    OK    OK    OK  UNNEEDED, same version is already published