Back to Multiple platform build/check report for BioC 3.14
ABCDE[F]GHIJKLMNOPQRSTUVWXYZ

This page was generated on 2021-10-23 14:06:26 -0400 (Sat, 23 Oct 2021).

BUILD BIN results for FlowSOM on riesling1

To the developers/maintainers of the FlowSOM package:
- Please allow up to 24 hours (and sometimes 48 hours) for your latest push to git@git.bioconductor.org:packages/FlowSOM.git to
reflect on this report. See How and When does the builder pull? When will my changes propagate? here for more information.
- Make sure to use the following settings in order to reproduce any error or warning you see on this page.

raw results

Package 670/2083HostnameOS / ArchINSTALLBUILDCHECKBUILD BIN
FlowSOM 2.1.24  (landing page)
Sofie Van Gassen
Snapshot Date: 2021-10-22 14:50:11 -0400 (Fri, 22 Oct 2021)
git_url: https://git.bioconductor.org/packages/FlowSOM
git_branch: master
git_last_commit: 2da26cf
git_last_commit_date: 2021-10-20 11:08:54 -0400 (Wed, 20 Oct 2021)
nebbiolo2Linux (Ubuntu 20.04.2 LTS) / x86_64  OK    OK    OK  UNNEEDED, same version is already published
riesling1Windows Server 2019 Standard / x64  OK    OK    OK    OK  UNNEEDED, same version is already published
merida1macOS 10.14.6 Mojave / x86_64  OK    OK    OK    OK  UNNEEDED, same version is already published

Summary

Package: FlowSOM
Version: 2.1.24
Command: rm -rf FlowSOM.buildbin-libdir && mkdir FlowSOM.buildbin-libdir && D:\biocbuild\bbs-3.14-bioc\R\bin\R.exe CMD INSTALL --merge-multiarch --build --library=FlowSOM.buildbin-libdir FlowSOM_2.1.24.tar.gz
StartedAt: 2021-10-23 10:44:05 -0400 (Sat, 23 Oct 2021)
EndedAt: 2021-10-23 10:48:15 -0400 (Sat, 23 Oct 2021)
EllapsedTime: 249.3 seconds
RetCode: 0
Status:   OK  
PackageFile: FlowSOM_2.1.24.zip
PackageFileSize: 6.235 MiB

Command output

##############################################################################
##############################################################################
###
### Running command:
###
###   rm -rf FlowSOM.buildbin-libdir && mkdir FlowSOM.buildbin-libdir && D:\biocbuild\bbs-3.14-bioc\R\bin\R.exe CMD INSTALL --merge-multiarch --build --library=FlowSOM.buildbin-libdir FlowSOM_2.1.24.tar.gz
###
##############################################################################
##############################################################################



install for i386

* installing *source* package 'FlowSOM' ...
** using staged installation
** libs
"C:/rtools40/mingw32/bin/"gcc  -I"D:/biocbuild/bbs-3.14-bioc/R/include" -DNDEBUG     -I"C:/extsoft/include"     -O2 -Wall  -std=gnu99 -mfpmath=sse -msse2 -mstackrealign  -c som.c -o som.o
C:/rtools40/mingw32/bin/gcc -shared -s -static-libgcc -o FlowSOM.dll tmp.def som.o -LC:/extsoft/lib/i386 -LC:/extsoft/lib -LD:/biocbuild/bbs-3.14-bioc/R/bin/i386 -lR
installing to D:/biocbuild/bbs-3.14-bioc/meat/FlowSOM.buildbin-libdir/00LOCK-FlowSOM/00new/FlowSOM/libs/i386
** R
** inst
** byte-compile and prepare package for lazy loading
** help
*** installing help indices
  converting help for package 'FlowSOM'
    finding HTML links ... done
    AddAnnotation                           html  
    AddBackground                           html  
    AddFlowFrame                            html  
    AddLabels                               html  
    AddMST                                  html  
    AddNodes                                html  
    AddPies                                 html  
    AddScale                                html  
    AddStars                                html  
    AddStarsPies                            html  
    AggregateFlowFrames                     html  
    AutoMaxNodeSize                         html  
    BuildMST                                html  
    BuildSOM                                html  
    CountGroups                             html  
    Dist.MST                                html  
    FMeasure                                html  
    FlowSOM                                 html  
    FlowSOMSubset                           html  
    FlowSOM_colors                          html  
    FlowSOMmary                             html  
    GetCVs                                  html  
    GetChannels                             html  
    GetClusterCVs                           html  
    GetClusterMFIs                          html  
    GetClusters                             html  
    GetCounts                               html  
    GetFeatures                             html  
    GetFlowJoLabels                         html  
    finding level-2 HTML links ... done

    GetMFIs                                 html  
    GetMarkers                              html  
    GetMetaclusterCVs                       html  
    GetMetaclusterMFIs                      html  
    GetMetaclusters                         html  
    GetPercentages                          html  
    GroupStats                              html  
    Initialize_KWSP                         html  
    Initialize_PCA                          html  
    ManualVector                            html  
    MapDataToCodes                          html  
    MetaClustering                          html  
    MetaclusterCVs                          html  
    MetaclusterMFIs                         html  
    NClusters                               html  
    NMetaclusters                           html  
    NewData                                 html  
    ParseArcs                               html  
    ParseEdges                              html  
    ParseLayout                             html  
    ParseNodeSize                           html  
    ParseQuery                              html  
    ParseSD                                 html  
    Plot2DScatters                          html  
    PlotCenters                             html  
    PlotClusters2D                          html  
    PlotDimRed                              html  
    PlotFileScatters                        html  
    PlotFlowSOM                             html  
    PlotGroups                              html  
    PlotLabels                              html  
    PlotManualBars                          html  
    PlotMarker                              html  
    PlotNode                                html  
    PlotNumbers                             html  
    PlotOverview2D                          html  
    PlotPies                                html  
    PlotSD                                  html  
    PlotStars                               html  
    PlotVariable                            html  
    Purity                                  html  
    QueryMultiple                           html  
    QueryStarPlot                           html  
    ReadInput                               html  
    SOM                                     html  
    SaveClustersToFCS                       html  
    ScaleStarHeights                        html  
    TestOutliers                            html  
    UpdateFlowSOM                           html  
    UpdateMetaclusters                      html  
    UpdateNodeSize                          html  
    get_channels                            html  
    get_markers                             html  
    gg_color_hue                            html  
    metaClustering_consensus                html  
    pipe                                    html  
    plotStarLegend                          html  
    print.FlowSOM                           html  
    query_multiple                          html  
** building package indices
** installing vignettes
** testing if installed package can be loaded from temporary location
** testing if installed package can be loaded from final location
** testing if installed package keeps a record of temporary installation path

install for x64

* installing *source* package 'FlowSOM' ...
** libs
"C:/rtools40/mingw64/bin/"gcc  -I"D:/biocbuild/bbs-3.14-bioc/R/include" -DNDEBUG     -I"C:/extsoft/include"     -O2 -Wall  -std=gnu99 -mfpmath=sse -msse2 -mstackrealign  -c som.c -o som.o
C:/rtools40/mingw64/bin/gcc -shared -s -static-libgcc -o FlowSOM.dll tmp.def som.o -LC:/extsoft/lib/x64 -LC:/extsoft/lib -LD:/biocbuild/bbs-3.14-bioc/R/bin/x64 -lR
installing to D:/biocbuild/bbs-3.14-bioc/meat/FlowSOM.buildbin-libdir/FlowSOM/libs/x64
** testing if installed package can be loaded
* MD5 sums
packaged installation of 'FlowSOM' as FlowSOM_2.1.24.zip
* DONE (FlowSOM)