Back to Multiple platform build/check report for BioC 3.14
ABCDE[F]GHIJKLMNOPQRSTUVWXYZ

This page was generated on 2021-07-24 12:05:26 -0400 (Sat, 24 Jul 2021).

BUILD results for FlowSOM on nebbiolo2

To the developers/maintainers of the FlowSOM package:
- Please allow up to 24 hours (and sometimes 48 hours) for your latest push to git@git.bioconductor.org:packages/FlowSOM.git to
reflect on this report. See How and When does the builder pull? When will my changes propagate? here for more information.
- Make sure to use the following settings in order to reproduce any error or warning you see on this page.

raw results

Package 647/2008HostnameOS / ArchINSTALLBUILDCHECKBUILD BIN
FlowSOM 2.1.24  (landing page)
Sofie Van Gassen
Snapshot Date: 2021-07-23 14:50:08 -0400 (Fri, 23 Jul 2021)
URL: https://git.bioconductor.org/packages/FlowSOM
Branch: master
Last Commit: aa491e2
Last Changed Date: 2021-07-02 09:32:36 -0400 (Fri, 02 Jul 2021)
nebbiolo2Linux (Ubuntu 20.04.2 LTS) / x86_64  OK    OK    WARNINGS  UNNEEDED, same version is already published
riesling1Windows Server 2019 Standard / x64  OK    OK    WARNINGS    OK  NO, package depends on 'flowWorkspace' which is not available
merida1macOS 10.14.6 Mojave / x86_64  OK    OK    WARNINGS    OK  UNNEEDED, same version is already published

Summary

Package: FlowSOM
Version: 2.1.24
Command: /home/biocbuild/bbs-3.14-bioc/R/bin/R CMD build --keep-empty-dirs --no-resave-data FlowSOM
StartedAt: 2021-07-23 17:14:40 -0400 (Fri, 23 Jul 2021)
EndedAt: 2021-07-23 17:16:47 -0400 (Fri, 23 Jul 2021)
EllapsedTime: 126.5 seconds
RetCode: 0
Status:   OK  
PackageFile: FlowSOM_2.1.24.tar.gz
PackageFileSize: 5.778 MiB

Command output

##############################################################################
##############################################################################
###
### Running command:
###
###   /home/biocbuild/bbs-3.14-bioc/R/bin/R CMD build --keep-empty-dirs --no-resave-data FlowSOM
###
##############################################################################
##############################################################################


* checking for file ‘FlowSOM/DESCRIPTION’ ... OK
* preparing ‘FlowSOM’:
* checking DESCRIPTION meta-information ... OK
* cleaning src
* installing the package to build vignettes
* creating vignettes ... OK
* cleaning src
* checking for LF line-endings in source and make files and shell scripts
* checking for empty or unneeded directories
Omitted ‘LazyData’ from DESCRIPTION
* building ‘FlowSOM_2.1.24.tar.gz’