Index of /checkResults/devel/bioc-LATEST/FRASER/raw-results/nebbiolo2

[ICO]NameLast modifiedSizeDescription

[DIR]Parent Directory  -  
[TXT]buildsrc-out.txt14-Jul-2024 00:38 855  
[   ]buildsrc-summary.dcf14-Jul-2024 00:38 418  
[TXT]checksrc-out.txt14-Jul-2024 00:38 5.5K 
[   ]checksrc-summary.dcf14-Jul-2024 00:38 409  
[TXT]install-out.txt14-Jul-2024 00:38 2.1K 
[   ]install-summary.dcf14-Jul-2024 00:38 256