Index of /checkResults/devel/bioc-LATEST/FRASER/raw-results/lconway

[ICO]NameLast modifiedSizeDescription

[DIR]Parent Directory  -  
[TXT]buildbin-out.txt16-Jul-2024 00:41 6.1K 
[   ]buildbin-summary.dcf16-Jul-2024 00:41 522  
[TXT]buildsrc-out.txt16-Jul-2024 00:41 841  
[   ]buildsrc-summary.dcf16-Jul-2024 00:41 423  
[TXT]checksrc-out.txt16-Jul-2024 00:41 5.5K 
[   ]checksrc-summary.dcf16-Jul-2024 00:41 439  
[TXT]install-out.txt16-Jul-2024 00:41 2.6K 
[   ]install-summary.dcf16-Jul-2024 00:41 267