Index of /checkResults/devel/bioc-LATEST/FRASER/raw-results/kjohnson3

[ICO]NameLast modifiedSizeDescription

[DIR]Parent Directory  -  
[TXT]buildbin-out.txt18-Jul-2024 00:42 6.1K 
[   ]buildbin-summary.dcf18-Jul-2024 00:42 521  
[TXT]buildsrc-out.txt18-Jul-2024 00:42 841  
[   ]buildsrc-summary.dcf18-Jul-2024 00:42 422  
[TXT]checksrc-out.txt18-Jul-2024 00:42 5.2K 
[   ]checksrc-summary.dcf18-Jul-2024 00:42 438  
[TXT]install-out.txt18-Jul-2024 00:42 2.6K 
[   ]install-summary.dcf18-Jul-2024 00:42 266