Back to Multiple platform build/check report for BioC 3.14
ABCD[E]FGHIJKLMNOPQRSTUVWXYZ

This page was generated on 2021-07-24 12:05:54 -0400 (Sat, 24 Jul 2021).

INSTALL results for ExperimentHubData on riesling1

To the developers/maintainers of the ExperimentHubData package:
- Please allow up to 24 hours (and sometimes 48 hours) for your latest push to git@git.bioconductor.org:packages/ExperimentHubData.git to
reflect on this report. See How and When does the builder pull? When will my changes propagate? here for more information.
- Make sure to use the following settings in order to reproduce any error or warning you see on this page.

raw results

Package 593/2008HostnameOS / ArchINSTALLBUILDCHECKBUILD BIN
ExperimentHubData 1.19.0  (landing page)
Bioconductor Package Maintainer
Snapshot Date: 2021-07-23 14:50:08 -0400 (Fri, 23 Jul 2021)
URL: https://git.bioconductor.org/packages/ExperimentHubData
Branch: master
Last Commit: 8dd888f
Last Changed Date: 2021-05-19 12:18:21 -0400 (Wed, 19 May 2021)
nebbiolo2Linux (Ubuntu 20.04.2 LTS) / x86_64  OK    OK    OK  UNNEEDED, same version is already published
riesling1Windows Server 2019 Standard / x64  OK    OK    OK    OK  UNNEEDED, same version is already published
merida1macOS 10.14.6 Mojave / x86_64  OK    OK    OK    OK  UNNEEDED, same version is already published

Summary

Package: ExperimentHubData
Version: 1.19.0
Command: C:\cygwin\bin\curl.exe -O http://155.52.207.166/BBS/3.14/bioc/src/contrib/ExperimentHubData_1.19.0.tar.gz && rm -rf ExperimentHubData.buildbin-libdir && mkdir ExperimentHubData.buildbin-libdir && D:\biocbuild\bbs-3.14-bioc\R\bin\R.exe CMD INSTALL --merge-multiarch --build --library=ExperimentHubData.buildbin-libdir ExperimentHubData_1.19.0.tar.gz && D:\biocbuild\bbs-3.14-bioc\R\bin\R.exe CMD INSTALL ExperimentHubData_1.19.0.zip && rm ExperimentHubData_1.19.0.tar.gz ExperimentHubData_1.19.0.zip
StartedAt: 2021-07-23 18:22:54 -0400 (Fri, 23 Jul 2021)
EndedAt: 2021-07-23 18:25:27 -0400 (Fri, 23 Jul 2021)
EllapsedTime: 153.0 seconds
RetCode: 0
Status:   OK  

Command output

##############################################################################
##############################################################################
###
### Running command:
###
###   C:\cygwin\bin\curl.exe -O http://155.52.207.166/BBS/3.14/bioc/src/contrib/ExperimentHubData_1.19.0.tar.gz && rm -rf ExperimentHubData.buildbin-libdir && mkdir ExperimentHubData.buildbin-libdir && D:\biocbuild\bbs-3.14-bioc\R\bin\R.exe CMD INSTALL --merge-multiarch --build --library=ExperimentHubData.buildbin-libdir ExperimentHubData_1.19.0.tar.gz && D:\biocbuild\bbs-3.14-bioc\R\bin\R.exe CMD INSTALL ExperimentHubData_1.19.0.zip && rm ExperimentHubData_1.19.0.tar.gz ExperimentHubData_1.19.0.zip
###
##############################################################################
##############################################################################


  % Total    % Received % Xferd  Average Speed   Time    Time     Time  Current
                                 Dload  Upload   Total   Spent    Left  Speed

  0     0    0     0    0     0      0      0 --:--:-- --:--:-- --:--:--     0
100 14646  100 14646    0     0   190k      0 --:--:-- --:--:-- --:--:--  190k

install for i386

* installing *source* package 'ExperimentHubData' ...
** using staged installation
** R
** inst
** byte-compile and prepare package for lazy loading
** help
*** installing help indices
  converting help for package 'ExperimentHubData'
    finding HTML links ... done
    ExperimentHubMetadata-class             html  
REDIRECT:topic	 class:ExperimentHubMetadata -> ExperimentHubMetadata-class.html [ FAIL ]
    addResources                            html  
    makeExperimentHubMetadata               html  
** building package indices
** installing vignettes
** testing if installed package can be loaded from temporary location
** testing if installed package can be loaded from final location
** testing if installed package keeps a record of temporary installation path

install for x64

* installing *source* package 'ExperimentHubData' ...
** testing if installed package can be loaded
* MD5 sums
packaged installation of 'ExperimentHubData' as ExperimentHubData_1.19.0.zip
* DONE (ExperimentHubData)
* installing to library 'D:/biocbuild/bbs-3.14-bioc/R/library'
package 'ExperimentHubData' successfully unpacked and MD5 sums checked