Back to Multiple platform build/check report for BioC 3.14
ABCD[E]FGHIJKLMNOPQRSTUVWXYZ

This page was generated on 2021-07-24 12:06:28 -0400 (Sat, 24 Jul 2021).

BUILD results for ExperimentHubData on merida1

To the developers/maintainers of the ExperimentHubData package:
- Please allow up to 24 hours (and sometimes 48 hours) for your latest push to git@git.bioconductor.org:packages/ExperimentHubData.git to
reflect on this report. See How and When does the builder pull? When will my changes propagate? here for more information.
- Make sure to use the following settings in order to reproduce any error or warning you see on this page.

raw results

Package 593/2008HostnameOS / ArchINSTALLBUILDCHECKBUILD BIN
ExperimentHubData 1.19.0  (landing page)
Bioconductor Package Maintainer
Snapshot Date: 2021-07-23 14:50:08 -0400 (Fri, 23 Jul 2021)
URL: https://git.bioconductor.org/packages/ExperimentHubData
Branch: master
Last Commit: 8dd888f
Last Changed Date: 2021-05-19 12:18:21 -0400 (Wed, 19 May 2021)
nebbiolo2Linux (Ubuntu 20.04.2 LTS) / x86_64  OK    OK    OK  UNNEEDED, same version is already published
riesling1Windows Server 2019 Standard / x64  OK    OK    OK    OK  UNNEEDED, same version is already published
merida1macOS 10.14.6 Mojave / x86_64  OK    OK    OK    OK  UNNEEDED, same version is already published

Summary

Package: ExperimentHubData
Version: 1.19.0
Command: /Library/Frameworks/R.framework/Resources/bin/R CMD build --keep-empty-dirs --no-resave-data ExperimentHubData
StartedAt: 2021-07-23 19:31:38 -0400 (Fri, 23 Jul 2021)
EndedAt: 2021-07-23 19:32:30 -0400 (Fri, 23 Jul 2021)
EllapsedTime: 52.4 seconds
RetCode: 0
Status:   OK  
PackageFile: ExperimentHubData_1.19.0.tar.gz
PackageFileSize: 229.4 KiB

Command output

##############################################################################
##############################################################################
###
### Running command:
###
###   /Library/Frameworks/R.framework/Resources/bin/R CMD build --keep-empty-dirs --no-resave-data ExperimentHubData
###
##############################################################################
##############################################################################


* checking for file ‘ExperimentHubData/DESCRIPTION’ ... OK
* preparing ‘ExperimentHubData’:
* checking DESCRIPTION meta-information ... OK
* installing the package to build vignettes
* creating vignettes ... OK
* checking for LF line-endings in source and make files and shell scripts
* checking for empty or unneeded directories
* building ‘ExperimentHubData_1.19.0.tar.gz’