Back to Multiple platform build/check report for BioC 3.14
ABCD[E]FGHIJKLMNOPQRSTUVWXYZ

This page was generated on 2021-09-21 12:06:02 -0400 (Tue, 21 Sep 2021).

CHECK results for EventPointer on riesling1

To the developers/maintainers of the EventPointer package:
- Please allow up to 24 hours (and sometimes 48 hours) for your latest push to git@git.bioconductor.org:packages/EventPointer.git to
reflect on this report. See How and When does the builder pull? When will my changes propagate? here for more information.
- Make sure to use the following settings in order to reproduce any error or warning you see on this page.

raw results

Package 592/2029HostnameOS / ArchINSTALLBUILDCHECKBUILD BIN
EventPointer 3.1.0  (landing page)
Juan A. Ferrer-Bonsoms
Snapshot Date: 2021-09-20 14:50:09 -0400 (Mon, 20 Sep 2021)
git_url: https://git.bioconductor.org/packages/EventPointer
git_branch: master
git_last_commit: ed9dd41
git_last_commit_date: 2021-05-19 12:26:09 -0400 (Wed, 19 May 2021)
nebbiolo2Linux (Ubuntu 20.04.2 LTS) / x86_64  OK    OK    OK  UNNEEDED, same version is already published
riesling1Windows Server 2019 Standard / x64  OK    OK    OK    OK  UNNEEDED, same version is already published
merida1macOS 10.14.6 Mojave / x86_64  OK    OK    OK    OK  UNNEEDED, same version is already published

Summary

Package: EventPointer
Version: 3.1.0
Command: D:\biocbuild\bbs-3.14-bioc\R\bin\R.exe CMD check --force-multiarch --install=check:EventPointer.install-out.txt --library=D:\biocbuild\bbs-3.14-bioc\R\library --no-vignettes --timings EventPointer_3.1.0.tar.gz
StartedAt: 2021-09-21 00:43:42 -0400 (Tue, 21 Sep 2021)
EndedAt: 2021-09-21 00:51:52 -0400 (Tue, 21 Sep 2021)
EllapsedTime: 489.9 seconds
RetCode: 0
Status:   OK  
CheckDir: EventPointer.Rcheck
Warnings: 0

Command output

##############################################################################
##############################################################################
###
### Running command:
###
###   D:\biocbuild\bbs-3.14-bioc\R\bin\R.exe CMD check --force-multiarch --install=check:EventPointer.install-out.txt --library=D:\biocbuild\bbs-3.14-bioc\R\library --no-vignettes --timings EventPointer_3.1.0.tar.gz
###
##############################################################################
##############################################################################


* using log directory 'D:/biocbuild/bbs-3.14-bioc/meat/EventPointer.Rcheck'
* using R version 4.1.1 (2021-08-10)
* using platform: x86_64-w64-mingw32 (64-bit)
* using session charset: ISO8859-1
* using option '--no-vignettes'
* checking for file 'EventPointer/DESCRIPTION' ... OK
* checking extension type ... Package
* this is package 'EventPointer' version '3.1.0'
* package encoding: UTF-8
* checking package namespace information ... OK
* checking package dependencies ... OK
* checking if this is a source package ... OK
* checking if there is a namespace ... OK
* checking for hidden files and directories ... OK
* checking for portable file names ... OK
* checking whether package 'EventPointer' can be installed ... OK
* checking installed package size ... OK
* checking package directory ... OK
* checking 'build' directory ... OK
* checking DESCRIPTION meta-information ... NOTE
Authors@R field gives persons with no role:
  Pablo Sacristan
  Ander Muniategui
  Fernando Carazo
  Ander Aramburu
  Angel Rubio
* checking top-level files ... OK
* checking for left-over files ... OK
* checking index information ... OK
* checking package subdirectories ... OK
* checking R files for non-ASCII characters ... OK
* checking R files for syntax errors ... OK
* loading checks for arch 'i386'
** checking whether the package can be loaded ... OK
** checking whether the package can be loaded with stated dependencies ... OK
** checking whether the package can be unloaded cleanly ... OK
** checking whether the namespace can be loaded with stated dependencies ... OK
** checking whether the namespace can be unloaded cleanly ... OK
* loading checks for arch 'x64'
** checking whether the package can be loaded ... OK
** checking whether the package can be loaded with stated dependencies ... OK
** checking whether the package can be unloaded cleanly ... OK
** checking whether the namespace can be loaded with stated dependencies ... OK
** checking whether the namespace can be unloaded cleanly ... OK
* checking dependencies in R code ... NOTE
Unexported objects imported by ':::' calls:
  'SGSeq:::addFeatureID' 'SGSeq:::addGeneID' 'SGSeq:::edges'
  'SGSeq:::exonGraph' 'SGSeq:::feature2name' 'SGSeq:::matchSGFeatures'
  'SGSeq:::nodes' 'SGSeq:::propagateAnnotation'
  'SGSeq:::splitCharacterList'
  See the note in ?`:::` about the use of this operator.
* checking S3 generic/method consistency ... OK
* checking replacement functions ... OK
* checking foreign function calls ... OK
* checking R code for possible problems ... NOTE
EventDetection_transcriptome: no visible binding for global variable
  'jj'
annotate2: no visible global function definition for
  'addDummySpliceSites'
annotate2: no visible global function definition for 'annotatePaths'
annotateFeatures2: no visible global function definition for
  'matchTxFeatures'
callGRseq_parallel: no visible global function definition for
  'makeCluster'
callGRseq_parallel: no visible binding for global variable 'i'
callGRseq_parallel: no visible global function definition for
  'stopCluster'
call_get_table_Bootstrap: no visible global function definition for
  'makeCluster'
call_get_table_Bootstrap: no visible binding for global variable 'ii'
call_get_table_Bootstrap: no visible global function definition for
  'stopCluster'
fitgl: no visible binding for global variable 'hist'
Undefined global functions or variables:
  addDummySpliceSites annotatePaths hist i ii jj makeCluster
  matchTxFeatures stopCluster
Consider adding
  importFrom("graphics", "hist")
to your NAMESPACE file.
* checking Rd files ... OK
* checking Rd metadata ... OK
* checking Rd cross-references ... OK
* checking for missing documentation entries ... OK
* checking for code/documentation mismatches ... OK
* checking Rd \usage sections ... OK
* checking Rd contents ... OK
* checking for unstated dependencies in examples ... OK
* checking contents of 'data' directory ... OK
* checking data for non-ASCII characters ... OK
* checking LazyData ... OK
* checking data for ASCII and uncompressed saves ... OK
* checking line endings in C/C++/Fortran sources/headers ... OK
* checking compiled code ... NOTE
Note: information on .o files for i386 is not available
Note: information on .o files for x64 is not available
File 'D:/biocbuild/bbs-3.14-bioc/R/library/EventPointer/libs/i386/EventPointer.dll':
  Found 'abort', possibly from 'abort' (C), 'runtime' (Fortran)
File 'D:/biocbuild/bbs-3.14-bioc/R/library/EventPointer/libs/x64/EventPointer.dll':
  Found 'abort', possibly from 'abort' (C), 'runtime' (Fortran)

Compiled code should not call entry points which might terminate R nor
write to stdout/stderr instead of to the console, nor use Fortran I/O
nor system RNGs. The detected symbols are linked into the code but
might come from libraries and not actually be called.

See 'Writing portable packages' in the 'Writing R Extensions' manual.
* checking files in 'vignettes' ... OK
* checking examples ...
** running examples for arch 'i386' ... OK
Examples with CPU (user + system) or elapsed time > 5s
                             user system elapsed
EventDetection_transcriptome 0.91   0.01   10.98
EventDetection               0.04   0.02   12.69
EventDetectionMultipath      0.05   0.00   10.28
** running examples for arch 'x64' ... OK
Examples with CPU (user + system) or elapsed time > 5s
                             user system elapsed
CDFfromGTF                   5.11   0.13    5.23
EventDetection_transcriptome 0.97   0.00   10.87
EventDetection               0.04   0.05   11.97
EventDetectionMultipath      0.05   0.00   10.28
* checking for unstated dependencies in 'tests' ... OK
* checking tests ...
** running tests for arch 'i386' ...
  Running 'runTests.R'
 OK
** running tests for arch 'x64' ...
  Running 'runTests.R'
 OK
* checking for unstated dependencies in vignettes ... OK
* checking package vignettes in 'inst/doc' ... OK
* checking running R code from vignettes ... SKIPPED
* checking re-building of vignette outputs ... SKIPPED
* checking PDF version of manual ... OK
* DONE

Status: 4 NOTEs
See
  'D:/biocbuild/bbs-3.14-bioc/meat/EventPointer.Rcheck/00check.log'
for details.



Installation output

EventPointer.Rcheck/00install.out

##############################################################################
##############################################################################
###
### Running command:
###
###   C:\cygwin\bin\curl.exe -O http://155.52.207.166/BBS/3.14/bioc/src/contrib/EventPointer_3.1.0.tar.gz && rm -rf EventPointer.buildbin-libdir && mkdir EventPointer.buildbin-libdir && D:\biocbuild\bbs-3.14-bioc\R\bin\R.exe CMD INSTALL --merge-multiarch --build --library=EventPointer.buildbin-libdir EventPointer_3.1.0.tar.gz && D:\biocbuild\bbs-3.14-bioc\R\bin\R.exe CMD INSTALL EventPointer_3.1.0.zip && rm EventPointer_3.1.0.tar.gz EventPointer_3.1.0.zip
###
##############################################################################
##############################################################################


  % Total    % Received % Xferd  Average Speed   Time    Time     Time  Current
                                 Dload  Upload   Total   Spent    Left  Speed

  0     0    0     0    0     0      0      0 --:--:-- --:--:-- --:--:--     0
100  947k  100  947k    0     0  2183k      0 --:--:-- --:--:-- --:--:-- 2183k

install for i386

* installing *source* package 'EventPointer' ...
** using staged installation
** libs
"C:/rtools40/mingw32/bin/"gcc  -I"D:/biocbuild/bbs-3.14-bioc/R/include" -DNDEBUG     -I"C:/extsoft/include"     -O2 -Wall  -std=gnu99 -mfpmath=sse -msse2 -mstackrealign  -c dgl.c -o dgl.o
"C:/rtools40/mingw32/bin/"gcc  -I"D:/biocbuild/bbs-3.14-bioc/R/include" -DNDEBUG     -I"C:/extsoft/include"     -O2 -Wall  -std=gnu99 -mfpmath=sse -msse2 -mstackrealign  -c params.c -o params.o
"C:/rtools40/mingw32/bin/"gcc  -I"D:/biocbuild/bbs-3.14-bioc/R/include" -DNDEBUG     -I"C:/extsoft/include"     -O2 -Wall  -std=gnu99 -mfpmath=sse -msse2 -mstackrealign  -c pgl.c -o pgl.o
"C:/rtools40/mingw32/bin/"gcc  -I"D:/biocbuild/bbs-3.14-bioc/R/include" -DNDEBUG     -I"C:/extsoft/include"     -O2 -Wall  -std=gnu99 -mfpmath=sse -msse2 -mstackrealign  -c qdgl.c -o qdgl.o
"C:/rtools40/mingw32/bin/"gcc  -I"D:/biocbuild/bbs-3.14-bioc/R/include" -DNDEBUG     -I"C:/extsoft/include"     -O2 -Wall  -std=gnu99 -mfpmath=sse -msse2 -mstackrealign  -c qgl.c -o qgl.o
"C:/rtools40/mingw32/bin/"gcc  -I"D:/biocbuild/bbs-3.14-bioc/R/include" -DNDEBUG     -I"C:/extsoft/include"     -O2 -Wall  -std=gnu99 -mfpmath=sse -msse2 -mstackrealign  -c rgl.c -o rgl.o
C:/rtools40/mingw32/bin/gcc -shared -s -static-libgcc -o EventPointer.dll tmp.def dgl.o params.o pgl.o qdgl.o qgl.o rgl.o -LC:/extsoft/lib/i386 -LC:/extsoft/lib -LD:/biocbuild/bbs-3.14-bioc/R/bin/i386 -lR
installing to D:/biocbuild/bbs-3.14-bioc/meat/EventPointer.buildbin-libdir/00LOCK-EventPointer/00new/EventPointer/libs/i386
** R
** data
*** moving datasets to lazyload DB
** inst
** byte-compile and prepare package for lazy loading
** help
*** installing help indices
  converting help for package 'EventPointer'
    finding HTML links ... done
    AllEvents_RNASeq                        html  
    AllEvents_RNASeq_MP                     html  
    ArrayDatamultipath                      html  
    ArraysData                              html  
    CDFfromGTF                              html  
    CDFfromGTF_Multipath                    html  
    CreateExSmatrix                         html  
    EventDetection                          html  
    EventDetectionMultipath                 html  
    EventDetection_transcriptome            html  
    EventPointer                            html  
    EventPointer_Bootstraps                 html  
    EventPointer_IGV                        html  
    EventPointer_RNASeq                     html  
    EventPointer_RNASeq_IGV                 html  
    EventPointer_RNASeq_TranRef             html  
    EventPointer_RNASeq_TranRef_IGV         html  
    EventXtrans                             html  
    FindPrimers                             html  
    Fit                                     html  
    GetPSI_FromTranRef                      html  
    InternalFunctions                       html  
    MyPrimers                               html  
    MyPrimers_taqman                        html  
    PSI_Statistic                           html  
    PSIss                                   html  
    PrepareBam_EP                           html  
    Protein_Domain_Enrichment               html  
    ResulTable                              html  
    SF_Prediction                           html  
    SG_RNASeq                               html  
    TxD                                     html  
    getbootstrapdata                        html  
** building package indices
** installing vignettes
** testing if installed package can be loaded from temporary location
** testing if installed package can be loaded from final location
** testing if installed package keeps a record of temporary installation path

install for x64

* installing *source* package 'EventPointer' ...
** libs
"C:/rtools40/mingw64/bin/"gcc  -I"D:/biocbuild/bbs-3.14-bioc/R/include" -DNDEBUG     -I"C:/extsoft/include"     -O2 -Wall  -std=gnu99 -mfpmath=sse -msse2 -mstackrealign  -c dgl.c -o dgl.o
"C:/rtools40/mingw64/bin/"gcc  -I"D:/biocbuild/bbs-3.14-bioc/R/include" -DNDEBUG     -I"C:/extsoft/include"     -O2 -Wall  -std=gnu99 -mfpmath=sse -msse2 -mstackrealign  -c params.c -o params.o
"C:/rtools40/mingw64/bin/"gcc  -I"D:/biocbuild/bbs-3.14-bioc/R/include" -DNDEBUG     -I"C:/extsoft/include"     -O2 -Wall  -std=gnu99 -mfpmath=sse -msse2 -mstackrealign  -c pgl.c -o pgl.o
"C:/rtools40/mingw64/bin/"gcc  -I"D:/biocbuild/bbs-3.14-bioc/R/include" -DNDEBUG     -I"C:/extsoft/include"     -O2 -Wall  -std=gnu99 -mfpmath=sse -msse2 -mstackrealign  -c qdgl.c -o qdgl.o
"C:/rtools40/mingw64/bin/"gcc  -I"D:/biocbuild/bbs-3.14-bioc/R/include" -DNDEBUG     -I"C:/extsoft/include"     -O2 -Wall  -std=gnu99 -mfpmath=sse -msse2 -mstackrealign  -c qgl.c -o qgl.o
"C:/rtools40/mingw64/bin/"gcc  -I"D:/biocbuild/bbs-3.14-bioc/R/include" -DNDEBUG     -I"C:/extsoft/include"     -O2 -Wall  -std=gnu99 -mfpmath=sse -msse2 -mstackrealign  -c rgl.c -o rgl.o
C:/rtools40/mingw64/bin/gcc -shared -s -static-libgcc -o EventPointer.dll tmp.def dgl.o params.o pgl.o qdgl.o qgl.o rgl.o -LC:/extsoft/lib/x64 -LC:/extsoft/lib -LD:/biocbuild/bbs-3.14-bioc/R/bin/x64 -lR
installing to D:/biocbuild/bbs-3.14-bioc/meat/EventPointer.buildbin-libdir/EventPointer/libs/x64
** testing if installed package can be loaded
* MD5 sums
packaged installation of 'EventPointer' as EventPointer_3.1.0.zip
* DONE (EventPointer)
* installing to library 'D:/biocbuild/bbs-3.14-bioc/R/library'
package 'EventPointer' successfully unpacked and MD5 sums checked

Tests output

EventPointer.Rcheck/tests_i386/runTests.Rout


R version 4.1.1 (2021-08-10) -- "Kick Things"
Copyright (C) 2021 The R Foundation for Statistical Computing
Platform: i386-w64-mingw32/i386 (32-bit)

R is free software and comes with ABSOLUTELY NO WARRANTY.
You are welcome to redistribute it under certain conditions.
Type 'license()' or 'licence()' for distribution details.

R is a collaborative project with many contributors.
Type 'contributors()' for more information and
'citation()' on how to cite R or R packages in publications.

Type 'demo()' for some demos, 'help()' for on-line help, or
'help.start()' for an HTML browser interface to help.
Type 'q()' to quit R.

> BiocGenerics:::testPackage("EventPointer")

Attaching package: 'BiocGenerics'

The following objects are masked from 'package:stats':

    IQR, mad, sd, var, xtabs

The following objects are masked from 'package:base':

    Filter, Find, Map, Position, Reduce, anyDuplicated, append,
    as.data.frame, basename, cbind, colnames, dirname, do.call,
    duplicated, eval, evalq, get, grep, grepl, intersect, is.unsorted,
    lapply, mapply, match, mget, order, paste, pmax, pmax.int, pmin,
    pmin.int, rank, rbind, rownames, sapply, setdiff, sort, table,
    tapply, union, unique, unsplit, which.max, which.min


Attaching package: 'S4Vectors'

The following objects are masked from 'package:base':

    I, expand.grid, unname


Attaching package: 'IRanges'

The following object is masked from 'package:grDevices':

    windows


Attaching package: 'Biostrings'

The following object is masked from 'package:base':

    strsplit


Attaching package: 'MatrixGenerics'

The following objects are masked from 'package:matrixStats':

    colAlls, colAnyNAs, colAnys, colAvgsPerRowSet, colCollapse,
    colCounts, colCummaxs, colCummins, colCumprods, colCumsums,
    colDiffs, colIQRDiffs, colIQRs, colLogSumExps, colMadDiffs,
    colMads, colMaxs, colMeans2, colMedians, colMins, colOrderStats,
    colProds, colQuantiles, colRanges, colRanks, colSdDiffs, colSds,
    colSums2, colTabulates, colVarDiffs, colVars, colWeightedMads,
    colWeightedMeans, colWeightedMedians, colWeightedSds,
    colWeightedVars, rowAlls, rowAnyNAs, rowAnys, rowAvgsPerColSet,
    rowCollapse, rowCounts, rowCummaxs, rowCummins, rowCumprods,
    rowCumsums, rowDiffs, rowIQRDiffs, rowIQRs, rowLogSumExps,
    rowMadDiffs, rowMads, rowMaxs, rowMeans2, rowMedians, rowMins,
    rowOrderStats, rowProds, rowQuantiles, rowRanges, rowRanks,
    rowSdDiffs, rowSds, rowSums2, rowTabulates, rowVarDiffs, rowVars,
    rowWeightedMads, rowWeightedMeans, rowWeightedMedians,
    rowWeightedSds, rowWeightedVars

Welcome to Bioconductor

    Vignettes contain introductory material; view with
    'browseVignettes()'. To cite Bioconductor, see
    'citation("Biobase")', and for packages 'citation("pkgname")'.


Attaching package: 'Biobase'

The following object is masked from 'package:MatrixGenerics':

    rowMedians

The following objects are masked from 'package:matrixStats':

    anyMissing, rowMedians


Attaching package: 'Matrix'

The following object is masked from 'package:S4Vectors':

    expand

Creating SG Information...Creating SG Information...Creating SG Information...Creating SG Information...Creating SG Information...Creating SG Information...1 2 3 4 


RUNIT TEST PROTOCOL -- Tue Sep 21 00:49:51 2021 
*********************************************** 
Number of test functions: 18 
Number of errors: 0 
Number of failures: 0 

 
1 Test Suite : 
EventPointer RUnit Tests - 18 test functions, 0 errors, 0 failures
Number of test functions: 18 
Number of errors: 0 
Number of failures: 0 
> 
> proc.time()
   user  system elapsed 
   7.89    0.42    8.29 

EventPointer.Rcheck/tests_x64/runTests.Rout


R version 4.1.1 (2021-08-10) -- "Kick Things"
Copyright (C) 2021 The R Foundation for Statistical Computing
Platform: x86_64-w64-mingw32/x64 (64-bit)

R is free software and comes with ABSOLUTELY NO WARRANTY.
You are welcome to redistribute it under certain conditions.
Type 'license()' or 'licence()' for distribution details.

R is a collaborative project with many contributors.
Type 'contributors()' for more information and
'citation()' on how to cite R or R packages in publications.

Type 'demo()' for some demos, 'help()' for on-line help, or
'help.start()' for an HTML browser interface to help.
Type 'q()' to quit R.

> BiocGenerics:::testPackage("EventPointer")

Attaching package: 'BiocGenerics'

The following objects are masked from 'package:stats':

    IQR, mad, sd, var, xtabs

The following objects are masked from 'package:base':

    Filter, Find, Map, Position, Reduce, anyDuplicated, append,
    as.data.frame, basename, cbind, colnames, dirname, do.call,
    duplicated, eval, evalq, get, grep, grepl, intersect, is.unsorted,
    lapply, mapply, match, mget, order, paste, pmax, pmax.int, pmin,
    pmin.int, rank, rbind, rownames, sapply, setdiff, sort, table,
    tapply, union, unique, unsplit, which.max, which.min


Attaching package: 'S4Vectors'

The following objects are masked from 'package:base':

    I, expand.grid, unname


Attaching package: 'IRanges'

The following object is masked from 'package:grDevices':

    windows


Attaching package: 'Biostrings'

The following object is masked from 'package:base':

    strsplit


Attaching package: 'MatrixGenerics'

The following objects are masked from 'package:matrixStats':

    colAlls, colAnyNAs, colAnys, colAvgsPerRowSet, colCollapse,
    colCounts, colCummaxs, colCummins, colCumprods, colCumsums,
    colDiffs, colIQRDiffs, colIQRs, colLogSumExps, colMadDiffs,
    colMads, colMaxs, colMeans2, colMedians, colMins, colOrderStats,
    colProds, colQuantiles, colRanges, colRanks, colSdDiffs, colSds,
    colSums2, colTabulates, colVarDiffs, colVars, colWeightedMads,
    colWeightedMeans, colWeightedMedians, colWeightedSds,
    colWeightedVars, rowAlls, rowAnyNAs, rowAnys, rowAvgsPerColSet,
    rowCollapse, rowCounts, rowCummaxs, rowCummins, rowCumprods,
    rowCumsums, rowDiffs, rowIQRDiffs, rowIQRs, rowLogSumExps,
    rowMadDiffs, rowMads, rowMaxs, rowMeans2, rowMedians, rowMins,
    rowOrderStats, rowProds, rowQuantiles, rowRanges, rowRanks,
    rowSdDiffs, rowSds, rowSums2, rowTabulates, rowVarDiffs, rowVars,
    rowWeightedMads, rowWeightedMeans, rowWeightedMedians,
    rowWeightedSds, rowWeightedVars

Welcome to Bioconductor

    Vignettes contain introductory material; view with
    'browseVignettes()'. To cite Bioconductor, see
    'citation("Biobase")', and for packages 'citation("pkgname")'.


Attaching package: 'Biobase'

The following object is masked from 'package:MatrixGenerics':

    rowMedians

The following objects are masked from 'package:matrixStats':

    anyMissing, rowMedians


Attaching package: 'Matrix'

The following object is masked from 'package:S4Vectors':

    expand

Creating SG Information...Creating SG Information...Creating SG Information...Creating SG Information...Creating SG Information...Creating SG Information...1 2 3 4 


RUNIT TEST PROTOCOL -- Tue Sep 21 00:50:01 2021 
*********************************************** 
Number of test functions: 18 
Number of errors: 0 
Number of failures: 0 

 
1 Test Suite : 
EventPointer RUnit Tests - 18 test functions, 0 errors, 0 failures
Number of test functions: 18 
Number of errors: 0 
Number of failures: 0 
> 
> proc.time()
   user  system elapsed 
   8.96    0.43    9.37 

Example timings

EventPointer.Rcheck/examples_i386/EventPointer-Ex.timings

nameusersystemelapsed
CDFfromGTF4.560.054.74
CDFfromGTF_Multipath3.280.013.37
EventDetection 0.04 0.0212.69
EventDetectionMultipath 0.05 0.0010.28
EventDetection_transcriptome 0.91 0.0110.98
EventPointer0.030.000.03
EventPointer_Bootstraps0.120.030.16
EventPointer_IGV202
EventPointer_RNASeq0.030.020.04
EventPointer_RNASeq_IGV2.890.032.92
EventPointer_RNASeq_TranRef0.000.020.02
EventPointer_RNASeq_TranRef_IGV0.130.000.12
FindPrimers0.010.000.02
GetPSI_FromTranRef0.160.020.17
PSI_Statistic0.050.000.04
PrepareBam_EP000
Protein_Domain_Enrichment0.590.010.61
ResulTable0.10.00.1
getbootstrapdata0.140.000.14

EventPointer.Rcheck/examples_x64/EventPointer-Ex.timings

nameusersystemelapsed
CDFfromGTF5.110.135.23
CDFfromGTF_Multipath3.680.003.67
EventDetection 0.04 0.0511.97
EventDetectionMultipath 0.05 0.0010.28
EventDetection_transcriptome 0.97 0.0010.87
EventPointer0.030.000.03
EventPointer_Bootstraps0.120.000.13
EventPointer_IGV2.180.012.19
EventPointer_RNASeq0.060.000.06
EventPointer_RNASeq_IGV3.260.033.30
EventPointer_RNASeq_TranRef0.000.020.01
EventPointer_RNASeq_TranRef_IGV0.190.010.21
FindPrimers000
GetPSI_FromTranRef0.170.000.17
PSI_Statistic0.030.020.04
PrepareBam_EP000
Protein_Domain_Enrichment0.770.000.77
ResulTable0.090.000.09
getbootstrapdata0.140.000.14