Index of /checkResults/devel/bioc-LATEST/EventPointer/raw-results/nebbiolo2

[ICO]NameLast modifiedSizeDescription

[DIR]Parent Directory  -  
[TXT]buildsrc-out.txt18-Jul-2024 00:38 1.3K 
[   ]buildsrc-summary.dcf18-Jul-2024 00:38 438  
[TXT]checksrc-out.txt18-Jul-2024 00:38 5.5K 
[   ]checksrc-summary.dcf18-Jul-2024 00:38 434  
[TXT]install-out.txt18-Jul-2024 00:38 2.1K 
[   ]install-summary.dcf18-Jul-2024 00:38 269